Workbook

Sheet Портфель
A1: Тикер | B1: Тип | C1: Название | D1: Валюта | E1: В портфелях | F1: Количество | G1: Цена | H1: Номинал | I1: НКД | J1: Погашение | K1: Сумма | L1: Доходность | M1: Средняя цена | N1: Доля | O1: Комментарии | P1: Имя | Q1: Курс к рублю | R1: Курс к RUR
A2: ROSN | B2: share | C2: Роснефть | D2: RUR | E2: 48S8D: 1041 шт. 403UHP4: 3389 шт. | F2: 4430 | G2: 361.25 | H2: 0 | I2: 0 | K2: ==F2*G2*Портфель!$R$13 | L2: -0.0719 | M2: 402.34 | N2: 13.04 | P2: AMD | Q2: 0.2415 | R2: ==Q2/$Q$13
A3: SIBN | B3: share | C3: Газпрнефть | D3: RUR | E3: 48S8D: 934 шт. 403UHP4: 1597 шт. | F3: 2531 | G3: 557.8 | H3: 0 | I3: 0 | K3: ==F3*G3*Портфель!$R$13 | L3: 0.0873 | M3: 550.3 | N3: 11.5 | P3: BYN | Q3: 27.9275 | R3: ==Q3/$Q$13
A4: SBER | B4: share | C4: Сбербанк | D4: RUR | E4: 48S8D: 2002 шт. 403UHP4: 2917 шт. | F4: 4919 | G4: 276.71 | H4: 0 | I4: 0 | K4: ==F4*G4*Портфель!$R$13 | L4: 0.0954 | M4: 290.22 | N4: 11.09 | P4: CAD | Q4: 59.609442 | R4: ==Q4/$Q$13
A5: PHOR | B5: share | C5: ФосАгро ао | D5: RUR | E5: 48S8D: 10 шт. 403UHP4: 197 шт. | F5: 207 | G5: 5064 | H5: 0 | I5: 0 | K5: ==F5*G5*Портфель!$R$13 | L5: -0.1033 | M5: 6354.01 | N5: 8.54 | P5: CHF | Q5: 101.7756 | R5: ==Q5/$Q$13
A6: MDMG | B6: share | C6: MDMG-ао | D6: RUR | E6: 48S8D: 220 шт. 403UHP4: 378 шт. | F6: 598 | G6: 1292.6 | H6: 0 | I6: 0 | K6: ==F6*G6*Портфель!$R$13 | L6: 0.2048 | M6: 1122.37 | N6: 6.3 | P6: CNY | Q6: 12.5355 | R6: ==Q6/$Q$13
A7: DOMRF | B7: share | C7: ДОМ.РФ | D7: RUR | E7: 48S8D: 11 шт. 403UHP4: 338 шт. | F7: 349 | G7: 2072.5 | H7: 0 | I7: 0 | K7: ==F7*G7*Портфель!$R$13 | L7: 0.2847 | M7: 1854.67 | N7: 5.89 | P7: EUR | Q7: 95.8709 | R7: ==Q7/$Q$13
A8: PLZL | B8: share | C8: Полюс | D8: RUR | E8: 48S8D: 327 шт. 403UHP4: 129 шт. S20ZXY9: 244 шт. | F8: 700 | G8: 1009.4 | H8: 0 | I8: 0 | K8: ==F8*G8*Портфель!$R$13 | L8: -0.3582 | M8: 1789.02 | N8: 5.76 | P8: GBP | Q8: 111.4993 | R8: ==Q8/$Q$13
A9: TATNP | B9: share | C9: Татнфт 3ап | D9: RUR | E9: 48S8D: 653 шт. 403UHP4: 464 шт. | F9: 1117 | G9: 602.9 | H9: 0 | I9: 0 | K9: ==F9*G9*Портфель!$R$13 | L9: 0.0582 | M9: 600.7 | N9: 5.49 | P9: GLD | Q9: 11560 | R9: ==Q9/$Q$13
A10: BELU | B10: share | C10: НоваБев ао | D10: RUR | E10: 48S8D: 1627 шт. 403UHP4: 937 шт. | F10: 2564 | G10: 249.2 | H10: 0 | I10: 0 | K10: ==F10*G10*Портфель!$R$13 | L10: -0.3534 | M10: 389.15 | N10: 5.2 | O10: Белуга | P10: HKD | Q10: 10.751 | R10: ==Q10/$Q$13
A11: MRKP | B11: share | C11: РСетиЦП ао | D11: RUR | E11: 48S8D: 450000 шт. 403UHP4: 600000 шт. | F11: 1050000 | G11: 0.521 | H11: 0 | I11: 0 | K11: ==F11*G11*Портфель!$R$13 | L11: 0.3364 | M11: 0.43 | N11: 4.46 | P11: JPY | Q11: 0.44 | R11: ==Q11/$Q$13
A12: RTKMP | B12: share | C12: Ростел -ап | D12: RUR | E12: 48S8D: 8340 шт. 403UHP4: 3620 шт. | F12: 11960 | G12: 40.4 | H12: 0 | I12: 0 | K12: ==F12*G12*Портфель!$R$13 | L12: -0.1613 | M12: 53.09 | N12: 3.94 | P12: KZT | Q12: 0.1927 | R12: ==Q12/$Q$13
A13: TRNFP | B13: share | C13: Транснф ап | D13: RUR | E13: 48S8D: 67 шт. 403UHP4: 174 шт. S20ZXY9: 166 шт. | F13: 407 | G13: 1023.8 | H13: 0 | I13: 0 | K13: ==F13*G13*Портфель!$R$13 | L13: -0.0153 | M13: 1270.82 | N13: 3.39 | P13: RUR | Q13: 1 | R13: ==Q13/$Q$13
A14: NMTP | B14: share | C14: НМТП ао | D14: RUR | E14: 48S8D: 34500 шт. 403UHP4: 19000 шт. | F14: 53500 | G14: 6.655 | H14: 0 | I14: 0 | K14: ==F14*G14*Портфель!$R$13 | L14: -0.033 | M14: 8.71 | N14: 2.9 | P14: SLV | Q14: 171.25 | R14: ==Q14/$Q$13
A15: X5 | B15: share | C15: КЦ ИКС 5 | D15: RUR | E15: 48S8D: 116 шт. 403UHP4: 73 шт. | F15: 189 | G15: 1820.5 | H15: 0 | I15: 0 | K15: ==F15*G15*Портфель!$R$13 | L15: -0.2039 | M15: 2371.78 | N15: 2.8 | P15: TRY | Q15: 1.75 | R15: ==Q15/$Q$13
A16: ZAYM | B16: share | C16: Займер ао | D16: RUR | E16: 48S8D: 2450 шт. | F16: 2450 | G16: 128.5 | H16: 0 | I16: 0 | K16: ==F16*G16*Портфель!$R$13 | L16: -0.0358 | M16: 133.27 | N16: 2.56 | P16: UAH | Q16: 2.11125 | R16: ==Q16/$Q$13
A17: MOEX | B17: share | C17: МосБиржа | D17: RUR | E17: 48S8D: 840 шт. 403UHP4: 430 шт. | F17: 1270 | G17: 148.71 | H17: 0 | I17: 0 | K17: ==F17*G17*Портфель!$R$13 | L17: 0.0486 | M17: 178.09 | N17: 1.54 | P17: USD | Q17: 84.3414 | R17: ==Q17/$Q$13
A18: MTSS | B18: share | C18: МТС-ао | D18: RUR | E18: 48S8D: 810 шт. 403UHP4: 240 шт. | F18: 1050 | G18: 176.1 | H18: 0 | I18: 0 | K18: ==F18*G18*Портфель!$R$13 | L18: 0.041 | M18: 266.93 | N18: 1.51
A19: GAZP | B19: share | C19: ГАЗПРОМ ао | D19: RUR | E19: 48S8D: 1440 шт. 403UHP4: 310 шт. | F19: 1750 | G19: 99.54 | H19: 0 | I19: 0 | K19: ==F19*G19*Портфель!$R$13 | L19: 0 | M19: 194.01 | N19: 1.42
A20: CHMF | B20: share | C20: СевСт-ао | D20: RUR | E20: 48S8D: 178 шт. 403UHP4: 20 шт. S20ZXY9: 46 шт. | F20: 244 | G20: 643 | H20: 0 | I20: 0 | K20: ==F20*G20*Портфель!$R$13 | L20: 0 | M20: 1116.43 | N20: 1.28
A21: NLMK | B21: share | C21: НЛМК ао | D21: RUR | E21: 48S8D: 1670 шт. 403UHP4: 170 шт. S20ZXY9: 410 шт. | F21: 2250 | G21: 69.54 | H21: 0 | I21: 0 | K21: ==F21*G21*Портфель!$R$13 | L21: -0.2056 | M21: 142.16 | N21: 1.27
A22: VTBR | B22: share | C22: ВТБ ао | D22: RUR | E22: 48S8D: 120 шт. 403UHP4: 180 шт. | F22: 300 | G22: 51.285 | H22: 0 | I22: 0 | K22: ==F22*G22*Портфель!$R$13 | L22: -0.117 | M22: 79.51 | N22: 0.13
I23: Сумма по акциям: | K23: ==SUM(K2:K22) | N23: ==K23/K26
A24: RUR | B24: Валюта | C24: Рубль | D24: RUR | F24: 745.02 | G24: 1 | H24: 0 | I24: 0 | K24: ==F24*G24
I25: Сумма по валютам: | K25: ==SUM(K24:K24) | N25: ==K25/K26
I26: Сумма: | K26: ==K23+K25

Sheet XIRR
A1: Дата | B1: Сумма | C1: Без other | D1: Примечание | E1: . | F1: .. | G1: d | H1: s | I1: ds
A2: 43326 | B2: 100000 | C2: 100000 | D2: Зачисление денежных средств | G2: 0 | H2: ==B2 | I2: 0
A3: 43363 | B3: 1000 | C3: 1000 | D3: Зачисление денежных средств | G3: ==A3-A2 | H3: ==B3+H2 | I3: ==G3*H2
A4: 43384 | B4: 50000 | C4: 50000 | D4: Зачисление денежных средств | G4: ==A4-A3 | H4: ==B4+H3 | I4: ==G4*H3
A5: 43438 | B5: -772.8 | C5: -772.8 | D5: Дивиденд по CHMF - СевСт-ао 20шт. по 44.39 RUR - налог 115 RUR (данные из БД) | G5: ==A5-A4 | H5: ==B5+H4 | I5: ==G5*H4
A6: 43439 | B6: 50000 | C6: 50000 | D6: Зачисление денежных средств | G6: ==A6-A5 | H6: ==B6+H5 | I6: ==G6*H5
A7: 43446 | B7: 29000 | C7: 29000 | D7: Зачисление денежных средств | G7: ==A7-A6 | H7: ==B7+H6 | I7: ==G7*H6
A8: 43448 | B8: 772.8 | C8: 772.8 | D8: Зачисление дивидендов по бумаге СевСт-ао 20 шт. (данные из сделок) | G8: ==A8-A7 | H8: ==B8+H7 | I8: ==G8*H7
A9: 43455 | B9: -358.14 | C9: -358.14 | D9: Дивиденд по MGNT - Магнит ао 3шт. по 137.38 RUR - налог 54 RUR (данные из БД) | G9: ==A9-A8 | H9: ==B9+H8 | I9: ==G9*H8
A10: 43455 | B10: -1090.75 | C10: -1090.75 | D10: Купон по RU000A0JXU71 - ВЭБ ПБО1Р9 25шт. по 43.63 RUR - налог 0 RUR (данные из БД) | G10: ==A10-A9 | H10: ==B10+H9 | I10: ==G10*H9
A11: 43458 | B11: 1090.75 | C11: 1090.75 | D11: Зачисление купона №3 по бумаге ВЭБ ПБО1Р9 (данные из сделок) | G11: ==A11-A10 | H11: ==B11+H10 | I11: ==G11*H10
A12: 43462 | B12: 20000 | C12: 20000 | D12: Зачисление денежных средств | G12: ==A12-A11 | H12: ==B12+H11 | I12: ==G12*H11
A13: 43474 | B13: -387.2 | C13: -387.2 | D13: Дивиденд по TATNP - Татнфт 3ап 20шт. по 22.26 RUR - налог 58 RUR (данные из БД) | G13: ==A13-A12 | H13: ==B13+H12 | I13: ==G13*H12
A14: 43474 | B14: -263 | C14: -263 | D14: Дивиденд по NLMK - НЛМК ао 50шт. по 6.04 RUR - налог 39 RUR (данные из БД) | G14: ==A14-A13 | H14: ==B14+H13 | I14: ==G14*H13
... A450: 46293 | B450: -12276071 | C450: -12276071 | D450: Баланс сейчас | G450: ==A450-A449 | H450: ==B450+H449 | I450: ==G450*H449
B451: ==XIRR(B2:B450,A2:A450) | C451: ==XIRR(C2:C450,A2:A450) | D451: XIRR | H451: Сред.взвеш.сумм. | I451: ==SUM(I2:I450)/365
B452: ==-SUM(B2:B450) | C452: ==-SUM(C2:C450) | D452: Полный доход, RUR | H452: Сред.год.дох. | I452: ==B452/I451

Sheet Доходность откр.
B1: ROSN | E1: SIBN | H1: SBER | K1: PHOR | N1: MDMG | Q1: DOMRF | T1: PLZL | W1: TATNP | Z1: BELU | AC1: MRKP | AF1: RTKMP | AI1: TRNFP | AL1: NMTP | AO1: X5 | AR1: ZAYM | AU1: MOEX | AX1: MTSS | BA1: GAZP | BD1: CHMF | BG1: NLMK | BJ1: VTBR
A2: 43327 | B2: 8595.51 | C2: buy | D2: 45352 | E2: 53953.37 | F2: buy | G2: 43327 | H2: 28741.62 | I2: buy | J2: 45082 | K2: 95342.73 | L2: buy | M2: 45681 | N2: 197622.2 | O2: buy | P2: 45982 | Q2: 447276.69 | R2: buy | S2: 45281 | T2: 94496.84 | U2: buy | V2: 43439 | W2: 11164.43 | X2: buy | Y2: 45352 | Z2: 45312.74 | AA2: buy | AB2: 45026 | AC2: 51127.97 | AD2: buy | AE2: 43649 | AF2: 19033.69 | AG2: buy (Ввод бумаги) | AH2: 45750 | AI2: 150239.3 | AJ2: buy | AK2: 44459 | AL2: 89708.14 | AM2: buy | AN2: 43641 | AO2: 21566.5 | AP2: buy | AQ2: 46233 | AR2: 297002.08 | AS2: buy | AT2: 43733 | AU2: 16077.17 | AV2: buy (Ввод бумаги) | AW2: 43606 | AX2: 38240.42 | AY2: buy (Ввод бумаги) | AZ2: 43327 | BA2: 18377.56 | BB2: buy | BC2: 43384 | BD2: 21416.03 | BE2: buy | BF2: 43439 | BG2: 4733.6 | BH2: buy (Ввод бумаги) | BI2: 43902 | BJ2: 997.87 | BK2: buy (Ввод бумаги)
A3: 43376 | B3: -10099.67 | C3: sell | D3: 45370 | E3: 219075.27 | F3: buy | G3: 43481 | H3: -30147.2 | I3: sell | J3: 45118 | K3: -2986 | L3: Дивиденд по PHOR - ФосАгро ао 13шт. по 264 RUR - налог 446 RUR (данные из БД) | M3: 45750 | N3: 137611.38 | O3: buy | P3: 46147 | Q3: 175558.62 | R3: buy | S3: 45286 | T3: 10609.04 | U3: buy | V3: 43474 | W3: -387.2 | X3: Дивиденд по TATNP - Татнфт 3ап 20шт. по 22.26 RUR - налог 58 RUR (данные из БД) | Y3: 45363 | Z3: 64784.24 | AA3: buy | AB3: 45100 | AC3: -390.8 | AD3: Дивиденд по MRKP - РСетиЦП ао 220000шт. по 0 RUR - налог 58 RUR (данные из БД) | AE3: 43649 | AF3: 19033.69 | AG3: buy | AH3: 45806 | AI3: 98494.57 | AJ3: buy | AK3: 44754 | AL3: -5262 | AM3: Дивиденд по NMTP - НМТП ао 11200шт. по 0.54 RUR - налог 786 RUR (данные из БД) | AN3: 43969 | AO3: 2203.03 | AP3: buy | AQ3: 46238 | AR3: 29506.03 | AS3: buy | AT3: 43733 | AU3: 2837.15 | AV3: buy (Ввод бумаги) | AW3: 43606 | AX3: 38240.42 | AY3: buy | AZ3: 43367 | BA3: -20545.16 | BB3: sell | BC3: 43438 | BD3: -772.8 | BE3: Дивиденд по CHMF - СевСт-ао 20шт. по 44.39 RUR - налог 115 RUR (данные из БД) | BF3: 43439 | BG3: 3155.73 | BH3: buy (Ввод бумаги) | BI3: 43902 | BJ3: 18968.24 | BK3: buy (Ввод бумаги)
A4: 44445 | B4: 38170.8 | C4: buy | D4: 45443 | E4: 14169.55 | F4: buy | G4: 45750 | H4: 219346.87 | I4: buy | J4: 45163 | K4: 98108.22 | L4: buy | M4: 45796 | N4: -3847 | O4: Дивиденд по MDMG - MDMG-ао 201шт. по 22 RUR - налог 575 RUR (данные из БД) | P4: 46223 | Q4: -72597.44 | R4: Дивиденд по DOMRF - ДОМ.РФ 338шт. по 246.88 RUR - налог 10848 RUR (данные из БД) | S4: 45370 | T4: 161433.87 | U4: buy | V4: 43651 | W4: -563.6 | X4: Дивиденд по TATNP - Татнфт 3ап 20шт. по 32.38 RUR - налог 84 RUR (данные из БД) | Y4: 45370 | Z4: 165223.32 | AA4: buy | AB4: 45406 | AC4: 46917.19 | AD4: buy | AE4: 43649 | AF4: -19033.69 | AG4: Вывод бумаги | AH4: 45855 | AI4: -13281.25 | AJ4: Дивиденд по TRNFP - Транснф ап 77шт. по 198.25 RUR - налог 1984 RUR (данные из БД) | AK4: 45119 | AL4: -7775.6 | AM4: Дивиденд по NMTP - НМТП ао 11200шт. по 0.8 RUR - налог 1162 RUR (данные из БД) | AN4: 43980 | AO4: -1057.17 | AP4: Дивиденд по X5 - КЦ ИКС 5 11шт. по 110.47 RUR - налог 158 RUR (данные из БД) | AQ4: 46598 | AR4: ==-Портфель!K16 | AS4: Стоимость сейчас | AT4: 43733 | AU4: 18914.32 | AV4: buy | AW4: 43606 | AX4: -38240.42 | AY4: Вывод бумаги | AZ4: 43524 | BA4: 31536.94 | BB4: buy | BC4: 43592 | BD4: -558.6 | BE4: Дивиденд по CHMF - СевСт-ао 20шт. по 32.08 RUR - налог 83 RUR (данные из БД) | BF4: 43439 | BG4: 7889.33 | BH4: buy | BI4: 43902 | BJ4: 19966.11 | BK4: buy
A5: 44480 | B5: -1082.07 | C5: Дивиденд по ROSN - Роснефть 69шт. по 18.03 RUR - налог 162 RUR (данные из БД) | D5: 45481 | E5: -5069.51 | F5: Дивиденд по SIBN - Газпрнефть 299шт. по 19.49 RUR - налог 758 RUR (данные из БД) | G5: 45817 | H5: 146156.32 | I5: buy | J5: 45285 | K5: -6582 | L5: Дивиденд по PHOR - ФосАгро ао 26шт. по 291 RUR - налог 984 RUR (данные из БД) | M5: 45796 | N5: -2641 | O5: Дивиденд по MDMG - MDMG-ао 138шт. по 22 RUR - налог 395 RUR (данные из БД) | P5: 46238 | Q5: 24445.28 | R5: buy | S5: 45639 | T5: -27181 | U5: Дивиденд по PLZL - Полюс 24шт. по 1301.75 RUR - налог 4061 RUR (данные из БД) | V5: 43735 | W5: -698.2 | X5: Дивиденд по TATNP - Татнфт 3ап 20шт. по 40.11 RUR - налог 104 RUR (данные из БД) | Y5: 45425 | Z5: -7634 | AA5: Дивиденд по BELU - НоваБев ао 39шт. по 225 RUR - налог 1141 RUR (данные из БД) | AB5: 45471 | AC5: -4391.9 | AD5: Дивиденд по MRKP - РСетиЦП ао 130000шт. по 0.04 RUR - налог 656 RUR (данные из БД) | AE5: 43833 | AF5: 5689.54 | AG5: buy (Ввод бумаги) | AH5: 45855 | AI5: -20697 | AJ5: Дивиденд по TRNFP - Транснф ап 120шт. по 198.25 RUR - налог 3093 RUR (данные из БД) | AK5: 45370 | AL5: 88339.39 | AM5: buy | AN5: 44000 | AO5: 4522.13 | AP5: buy | AR5: ==XIRR(AR2:AR4,AQ2:AQ4) | AT5: 43733 | AU5: -18914.32 | AV5: Вывод бумаги | AW5: 43655 | AX5: -2607 | AY5: Дивиденд по MTSS - МТС-ао 150шт. по 19.98 RUR - налог 390 RUR (данные из БД) | AZ5: 43600 | BA5: -39098.69 | BB5: sell | BC5: 43634 | BD5: -616.6 | BE5: Дивиденд по CHMF - СевСт-ао 20шт. по 35.43 RUR - налог 92 RUR (данные из БД) | BF5: 43439 | BG5: -7889.33 | BH5: Вывод бумаги | BI5: 43902 | BJ5: -19966.11 | BK5: Вывод бумаги
A6: 44613 | B6: 25048.1 | C6: buy | D6: 45481 | E6: -1135.83 | F6: Дивиденд по SIBN - Газпрнефть 67шт. по 19.49 RUR - налог 170 RUR (данные из БД) | G6: 45817 | H6: 282747.78 | I6: buy | J6: 45370 | K6: 159743.64 | L6: buy | M6: 45817 | N6: 2919.82 | O6: buy | P6: 46347 | Q6: ==-Портфель!K7 | R6: Стоимость сейчас | S6: 45750 | T6: 141569.49 | U6: buy | V6: 43829 | W6: -424.2 | X6: Дивиденд по TATNP - Татнфт 3ап 20шт. по 24.36 RUR - налог 63 RUR (данные из БД) | Y6: 45425 | Z6: -1566 | AA6: Дивиденд по BELU - НоваБев ао 8шт. по 225 RUR - налог 234 RUR (данные из БД) | AB6: 45471 | AC6: -7431.6 | AD6: Дивиденд по MRKP - РСетиЦП ао 220000шт. по 0.04 RUR - налог 1111 RUR (данные из БД) | AE6: 43833 | AF6: 5689.54 | AG6: buy | AH6: 45968 | AI6: 26581.9 | AJ6: buy | AK6: 45443 | AL6: 9780 | AM6: buy | AN6: 44144 | AO6: -37069.79 | AP6: sell | AR6: ==-SUM(AR2:AR4) | AS6: Полный доход | AT6: 43966 | AU6: -1380 | AV6: Дивиденд по MOEX - МосБиржа 200шт. по 7.93 RUR - налог 206 RUR (данные из БД) | AW6: 43733 | AX6: 2675.75 | AY6: buy (Ввод бумаги) | AZ6: 43663 | BA6: 20119.43 | BB6: buy (Ввод бумаги) | BC6: 43725 | BD6: -465.4 | BE6: Дивиденд по CHMF - СевСт-ао 20шт. по 26.72 RUR - налог 69 RUR (данные из БД) | BF6: 43474 | BG6: -263 | BH6: Дивиденд по NLMK - НЛМК ао 50шт. по 6.04 RUR - налог 39 RUR (данные из БД) | BI6: 43969 | BJ6: 11188.55 | BK6: buy (Ввод бумаги)
A7: 44753 | B7: -2631.64 | C7: Дивиденд по ROSN - Роснефть 128шт. по 23.63 RUR - налог 393 RUR (данные из БД) | D7: 45579 | E7: -13516.04 | F7: Дивиденд по SIBN - Газпрнефть 299шт. по 51.96 RUR - налог 2020 RUR (данные из БД) | G7: 45856 | H7: -27600.4 | I7: Дивиденд по SBER - Сбербанк 910шт. по 34.84 RUR - налог 4104 RUR (данные из БД) | J7: 45443 | K7: 17957 | L7: buy | M7: 45950 | N7: -7345 | O7: Дивиденд по MDMG - MDMG-ао 201шт. по 42 RUR - налог 1097 RUR (данные из БД) | Q7: ==XIRR(Q2:Q6,P2:P6) | S7: 45772 | T7: -15242 | U7: Дивиденд по PLZL - Полюс 240шт. по 73 RUR - налог 2278 RUR (данные из БД) | V7: 43833 | W7: 14069.18 | X7: buy | Y7: 45443 | Z7: 22488 | AA7: buy | AB7: 45750 | AC7: 44514.92 | AD7: buy | AE7: 43833 | AF7: -5689.54 | AG7: Вывод бумаги | AH7: 46147 | AI7: 63896.26 | AJ7: buy | AK7: 45483 | AL7: -13164.2 | AM7: Дивиденд по NMTP - НМТП ао 19600шт. по 0.77 RUR - налог 1967 RUR (данные из БД) | AN7: 45750 | AO7: 66603.27 | AP7: buy | AT7: 43969 | AU7: 3417.26 | AV7: buy (Ввод бумаги) | AW7: 43733 | AX7: 10703 | AY7: buy (Ввод бумаги) | AZ7: 43663 | BA7: 20119.43 | BB7: buy | BC7: 43752 | BD7: -17808.75 | BE7: sell | BF7: 43591 | BG7: -252 | BH7: Дивиденд по NLMK - НЛМК ао 50шт. по 5.8 RUR - налог 38 RUR (данные из БД) | BI7: 43969 | BJ7: 11188.55 | BK7: buy
A8: 44938 | B8: -2270.92 | C8: Дивиденд по ROSN - Роснефть 128шт. по 20.39 RUR - налог 339 RUR (данные из БД) | D8: 45579 | E8: -3028.32 | F8: Дивиденд по SIBN - Газпрнефть 67шт. по 51.96 RUR - налог 453 RUR (данные из БД) | G8: 45856 | H8: -36397 | I8: Дивиденд по SBER - Сбербанк 1200шт. по 34.84 RUR - налог 5411 RUR (данные из БД) | J8: 45446 | K8: 132158 | L8: buy | M8: 45950 | N8: -5152 | O8: Дивиденд по MDMG - MDMG-ао 141шт. по 42 RUR - налог 770 RUR (данные из БД) | Q8: ==-SUM(Q2:Q6) | R8: Полный доход | S8: 45772 | T8: -5144 | U8: Дивиденд по PLZL - Полюс 81шт. по 73 RUR - налог 769 RUR (данные из БД) | V8: 43902 | W8: 40533.99 | X8: buy | Y8: 45576 | Z8: -3741 | AA8: Дивиденд по BELU - НоваБев ао 344шт. по 12.5 RUR - налог 559 RUR (данные из БД) | AB8: 45839 | AC8: -5678.95 | AD8: Дивиденд по MRKP - РСетиЦП ао 130000шт. по 0.05 RUR - налог 849 RUR (данные из БД) | AE8: 43902 | AF8: 614.89 | AG8: buy (Ввод бумаги) | AH8: 46147 | AI8: 105480.51 | AJ8: buy | AK8: 45750 | AL8: 61320.83 | AM8: buy | AN8: 45847 | AO8: -11275 | AP8: Дивиденд по X5 - КЦ ИКС 5 20шт. по 648 RUR - налог 1685 RUR (данные из БД) | AT8: 43969 | AU8: 3417.26 | AV8: buy | AW8: 43733 | AX8: 13378.75 | AY8: buy | AZ8: 43663 | BA8: -20119.43 | BB8: Вывод бумаги | BC8: 43754 | BD8: 8835.24 | BE8: buy (Ввод бумаги) | BF8: 43635 | BG8: -319 | BH8: Дивиденд по NLMK - НЛМК ао 50шт. по 7.34 RUR - налог 48 RUR (данные из БД) | BI8: 43969 | BJ8: -11188.55 | BK8: Вывод бумаги
A9: 45118 | B9: -2001.16 | C9: Дивиденд по ROSN - Роснефть 128шт. по 17.97 RUR - налог 299 RUR (данные из БД) | D9: 45684 | E9: 2414.05 | F9: buy | G9: 45968 | H9: 44602.11 | I9: buy | J9: 45484 | K9: -39 | L9: Дивиденд по PHOR - ФосАгро ао 3шт. по 15 RUR - налог 6 RUR (данные из БД) | M9: 45968 | N9: 59614.39 | O9: buy | S9: 45817 | T9: 3393.81 | U9: buy | V9: 43969 | W9: 9317.86 | X9: buy | Y9: 45576 | Z9: -696 | AA9: Дивиденд по BELU - НоваБев ао 64шт. по 12.5 RUR - налог 104 RUR (данные из БД) | AB9: 45839 | AC9: -14853.1 | AD9: Дивиденд по MRKP - РСетиЦП ао 340000шт. по 0.05 RUR - налог 2220 RUR (данные из БД) | AE9: 43902 | AF9: 614.89 | AG9: buy (Ввод бумаги) | AH9: 46223 | AI9: -30907.58 | AJ9: Дивиденд по TRNFP - Транснф ап 174шт. по 204.17 RUR - налог 4618 RUR (данные из БД) | AK9: 45852 | AL9: -16324.08 | AM9: Дивиденд по NMTP - НМТП ао 19600шт. по 0.96 RUR - налог 2439 RUR (данные из БД) | AN9: 45968 | AO9: 31816.61 | AP9: buy | AT9: 43969 | AU9: -3417.26 | AV9: Вывод бумаги | AW9: 43733 | AX9: -13378.75 | AY9: Вывод бумаги | AZ9: 43833 | BA9: 7808.18 | BB9: buy (Ввод бумаги) | BC9: 43754 | BD9: 8833.24 | BE9: buy (Ввод бумаги) | BF9: 43641 | BG9: 20451.06 | BH9: buy (Ввод бумаги) | BI9: 44000 | BJ9: 4679.34 | BK9: buy (Ввод бумаги)
A10: 45302 | B10: -3426.56 | C10: Дивиденд по ROSN - Роснефть 128шт. по 30.77 RUR - налог 512 RUR (данные из БД) | D10: 45687 | E10: 96975.75 | F10: buy | G10: 46147 | H10: 51248.77 | I10: buy | J10: 45484 | K10: -953 | L10: Дивиденд по PHOR - ФосАгро ао 73шт. по 15 RUR - налог 142 RUR (данные из БД) | M10: 45995 | N10: 34551.88 | O10: buy | S10: 45943 | T10: -14916.7 | U10: Дивиденд по PLZL - Полюс 242шт. по 70.85 RUR - налог 2229 RUR (данные из БД) | V10: 44000 | W10: 9286.74 | X10: buy | Y10: 45750 | Z10: 84189.7 | AA10: buy | AB10: 45968 | AC10: 40581.48 | AD10: buy | AE10: 43902 | AF10: 17217.09 | AG10: buy (Ввод бумаги) | AH10: 46223 | AI10: -29486.22 | AJ10: Дивиденд по TRNFP - Транснф ап 166шт. по 204.17 RUR - налог 4406 RUR (данные из БД) | AK10: 45852 | AL10: -5497.18 | AM10: Дивиденд по NMTP - НМТП ао 6600шт. по 0.96 RUR - налог 821 RUR (данные из БД) | AN10: 45982 | AO10: 5442.89 | AP10: buy | AT10: 44000 | AU10: 3476.41 | AV10: buy (Ввод бумаги) | AW10: 43752 | AX10: -1510 | AY10: Дивиденд по MTSS - МТС-ао 200шт. по 8.68 RUR - налог 226 RUR (данные из БД) | AZ10: 43833 | BA10: 7808.18 | BB10: buy | BC10: 43754 | BD10: 17668.48 | BE10: buy | BF10: 43641 | BG10: 20451.06 | BH10: buy | BI10: 44000 | BJ10: 4679.34 | BK10: buy
A11: 45370 | B11: 92423.29 | C11: buy | D11: 45750 | E11: 155683.03 | F11: buy | G11: 46163 | H11: 197804.83 | I11: buy | J11: 45484 | K11: -767 | L11: Дивиденд по PHOR - ФосАгро ао 3шт. по 294 RUR - налог 115 RUR (данные из БД) | M11: 46147 | N11: 164940.07 | O11: buy | S11: 45943 | T11: -4992.85 | U11: Дивиденд по PLZL - Полюс 81шт. по 70.85 RUR - налог 746 RUR (данные из БД) | V11: 44012 | W11: -138 | X11: Дивиденд по TATNP - Татнфт 3ап 159шт. по 1 RUR - налог 21 RUR (данные из БД) | Y11: 45817 | Z11: -7482 | AA11: Дивиденд по BELU - НоваБев ао 344шт. по 25 RUR - налог 1118 RUR (данные из БД) | AB11: 46147 | AC11: 104942.16 | AD11: buy | AE11: 43902 | AF11: 18446.87 | AG11: buy | AH11: 46238 | AI11: 72532.42 | AJ11: buy | AK11: 45968 | AL11: 28943.03 | AM11: buy | AN11: 46028 | AO11: -10885 | AP11: Дивиденд по X5 - КЦ ИКС 5 34шт. по 368 RUR - налог 1627 RUR (данные из БД) | AT11: 44000 | AU11: 3476.41 | AV11: buy | AW11: 43840 | AX11: -2305 | AY11: Дивиденд по MTSS - МТС-ао 200шт. по 13.25 RUR - налог 345 RUR (данные из БД) | AZ11: 43833 | BA11: -7808.18 | BB11: Вывод бумаги | BC11: 43754 | BD11: -17668.48 | BE11: Вывод бумаги | BF11: 43641 | BG11: -20451.06 | BH11: Вывод бумаги | BI11: 44000 | BJ11: -4679.34 | BK11: Вывод бумаги
A12: 45443 | B12: 8983.2 | C12: buy | D12: 45817 | E12: 160763.14 | F12: buy | G12: 46223 | H12: -29799.4 | I12: Дивиденд по SBER - Сбербанк 910шт. по 37.64 RUR - налог 4453 RUR (данные из БД) | J12: 45484 | K12: -18672 | L12: Дивиденд по PHOR - ФосАгро ао 73шт. по 294 RUR - налог 2790 RUR (данные из БД) | M12: 46195 | N12: 48591.08 | O12: buy | S12: 45968 | T12: 192277.45 | U12: buy | V12: 44116 | W12: -1375.46 | X12: Дивиденд по TATNP - Татнфт 3ап 159шт. по 9.94 RUR - налог 205 RUR (данные из БД) | Y12: 45817 | Z12: -4828 | AA12: Дивиденд по BELU - НоваБев ао 222шт. по 25 RUR - налог 722 RUR (данные из БД) | AB12: 46203 | AC12: -8200 | AD12: Дивиденд по MRKP - РСетиЦП ао 130000шт. по 0.07 RUR - налог 1225 RUR (данные из БД) | AE12: 43902 | AF12: -18446.87 | AG12: Вывод бумаги | AH12: 46293 | AI12: ==-Портфель!K13 | AJ12: Стоимость сейчас | AK12: 46147 | AL12: 76369.62 | AM12: buy | AN12: 46094 | AO12: 142913.01 | AP12: buy | AT12: 44000 | AU12: -3476.41 | AV12: Вывод бумаги | AW12: 43902 | AX12: 20127.56 | AY12: buy (Ввод бумаги) | AZ12: 43969 | BA12: 3792.22 | BB12: buy (Ввод бумаги) | BC12: 43802 | BD12: -478.4 | BE12: Дивиденд по CHMF - СевСт-ао 20шт. по 27.47 RUR - налог 71 RUR (данные из БД) | BF12: 43748 | BG12: -544.6 | BH12: Дивиденд по NLMK - НЛМК ао 170шт. по 3.68 RUR - налог 81 RUR (данные из БД) | BI12: 44109 | BJ12: -706.12 | BK12: Дивиденд по VTBR - ВТБ ао 1050000шт. по 0 RUR - налог 106 RUR (данные из БД)
A13: 45482 | B13: -7748.07 | C13: Дивиденд по ROSN - Роснефть 307шт. по 29.01 RUR - налог 1158 RUR (данные из БД) | D13: 45846 | E13: -10842.18 | F13: Дивиденд по SIBN - Газпрнефть 458шт. по 27.21 RUR - налог 1620 RUR (данные из БД) | G13: 46223 | H13: -69456.44 | I13: Дивиденд по SBER - Сбербанк 2121шт. по 37.64 RUR - налог 10378 RUR (данные из БД) | J13: 45557 | K13: -305 | L13: Дивиденд по PHOR - ФосАгро ао 3шт. по 117 RUR - налог 46 RUR (данные из БД) | M13: 46217 | N13: -8219 | O13: Дивиденд по MDMG - MDMG-ао 201шт. по 47 RUR - налог 1228 RUR (данные из БД) | S13: 45995 | T13: 78851.3 | U13: buy | V13: 44386 | W13: -1701.7 | X13: Дивиденд по TATNP - Татнфт 3ап 159шт. по 12.3 RUR - налог 254 RUR (данные из БД) | Y13: 45948 | Z13: -5986 | AA13: Дивиденд по BELU - НоваБев ао 344шт. по 20 RUR - налог 894 RUR (данные из БД) | AB13: 46203 | AC13: -37845 | AD13: Дивиденд по MRKP - РСетиЦП ао 600000шт. по 0.07 RUR - налог 5655 RUR (данные из БД) | AE13: 43969 | AF13: 2869.98 | AG13: buy (Ввод бумаги) | AI13: ==XIRR(AI2:AI12,AH2:AH12) | AK13: 46216 | AL13: -19521.08 | AM13: Дивиденд по NMTP - НМТП ао 19600шт. по 1.14 RUR - налог 2917 RUR (данные из БД) | AN13: 46094 | AO13: 14536.07 | AP13: buy | AT13: 44330 | AU13: -2138 | AV13: Дивиденд по MOEX - МосБиржа 260шт. по 9.45 RUR - налог 319 RUR (данные из БД) | AW13: 43902 | AX13: 20127.56 | AY13: buy | AZ13: 43969 | BA13: 3792.22 | BB13: buy | BC13: 43833 | BD13: 9473.21 | BE13: buy (Ввод бумаги) | BF13: 43833 | BG13: 14452.57 | BH13: buy (Ввод бумаги) | BI13: 44392 | BJ13: -1279 | BK13: Дивиденд по VTBR - ВТБ ао 1050000шт. по 0 RUR - налог 191 RUR (данные из БД)
A14: 45667 | B14: -9740.29 | C14: Дивиденд по ROSN - Роснефть 307шт. по 36.47 RUR - налог 1456 RUR (данные из БД) | D14: 45846 | E14: -15340.08 | F14: Дивиденд по SIBN - Газпрнефть 648шт. по 27.21 RUR - налог 2292 RUR (данные из БД) | G14: 46223 | H14: 197824.68 | I14: buy | J14: 45557 | K14: -7431 | L14: Дивиденд по PHOR - ФосАгро ао 73шт. по 117 RUR - налог 1110 RUR (данные из БД) | M14: 46217 | N14: -15456 | O14: Дивиденд по MDMG - MDMG-ао 378шт. по 47 RUR - налог 2310 RUR (данные из БД) | S14: 46013 | T14: -7579 | U14: Дивиденд по PLZL - Полюс 242шт. по 36 RUR - налог 1133 RUR (данные из БД) | V14: 44431 | W14: -73470.66 | X14: sell | Y14: 45948 | Z14: -3863 | AA14: Дивиденд по BELU - НоваБев ао 222шт. по 20 RUR - налог 577 RUR (данные из БД) | AB14: 46233 | AC14: 152133.78 | AD14: buy | AE14: 43969 | AF14: 2152.5 | AG14: buy (Ввод бумаги) | AI14: ==-SUM(AI2:AI12) | AJ14: Полный доход | AK14: 46216 | AL14: -18923.2 | AM14: Дивиденд по NMTP - НМТП ао 19000шт. по 1.14 RUR - налог 2828 RUR (данные из БД) | AN14: 46147 | AO14: 76660.3 | AP14: buy | AT14: 44459 | AU14: 16312.09 | AV14: buy | AW14: 43902 | AX14: -20127.56 | AY14: Вывод бумаги | AZ14: 43969 | BA14: -3792.22 | BB14: Вывод бумаги | BC14: 43833 | BD14: 9473.21 | BE14: buy | BF14: 43833 | BG14: 14452.57 | BH14: buy | BI14: 45352 | BJ14: -24857.36 | BK14: sell
A15: 45687 | B15: 102165.9 | C15: buy | D15: 45943 | E15: -6893.4 | F15: Дивиденд по SIBN - Газпрнефть 458шт. по 17.3 RUR - налог 1030 RUR (данные из БД) | G15: 46226 | H15: 278631.5 | I15: buy | J15: 45648 | K15: -329 | L15: Дивиденд по PHOR - ФосАгро ао 3шт. по 126 RUR - налог 49 RUR (данные из БД) | M15: 46238 | N15: 25325.08 | O15: buy | S15: 46013 | T15: -4040 | U15: Дивиденд по PLZL - Полюс 129шт. по 36 RUR - налог 604 RUR (данные из БД) | V15: 44445 | W15: 38287.2 | X15: buy | Y15: 45968 | Z15: 33892.88 | AA15: buy | AB15: 46238 | AC15: 15698.11 | AD15: buy | AE15: 43969 | AF15: 717.5 | AG15: buy (Ввод бумаги) | AK15: 46237 | AL15: 99221.22 | AM15: buy | AN15: 46210 | AO15: -12576 | AP15: Дивиденд по X5 - КЦ ИКС 5 59шт. по 245 RUR - налог 1879 RUR (данные из БД) | AT15: 45093 | AU15: -1474 | AV15: Дивиденд по MOEX - МосБиржа 350шт. по 4.84 RUR - налог 220 RUR (данные из БД) | AW15: 43969 | AX15: 13015.01 | AY15: buy (Ввод бумаги) | AZ15: 44000 | BA15: 3860.47 | BB15: buy (Ввод бумаги) | BC15: 43833 | BD15: -9473.21 | BE15: Вывод бумаги | BF15: 43833 | BG15: -14452.57 | BH15: Вывод бумаги | BI15: 45788 | BJ15: 1291.14 | BK15: buy
A16: 45750 | B16: 109867.53 | C16: buy | D16: 45943 | E16: -9753.4 | F16: Дивиденд по SIBN - Газпрнефть 648шт. по 17.3 RUR - налог 1457 RUR (данные из БД) | G16: 46227 | H16: 2893.84 | I16: buy | J16: 45648 | K16: -8002 | L16: Дивиденд по PHOR - ФосАгро ао 73шт. по 126 RUR - налог 1196 RUR (данные из БД) | M16: 46293 | N16: ==-Портфель!K6 | O16: Стоимость сейчас | S16: 46013 | T16: -2537 | U16: Дивиденд по PLZL - Полюс 81шт. по 36 RUR - налог 379 RUR (данные из БД) | V16: 44481 | W16: -1207.68 | X16: Дивиденд по TATNP - Татнфт 3ап 84шт. по 16.52 RUR - налог 180 RUR (данные из БД) | Y16: 45982 | Z16: 72760.43 | AA16: buy | AB16: 46293 | AC16: ==-Портфель!K11 | AD16: Стоимость сейчас | AE16: 43969 | AF16: 1436 | AG16: buy (Ввод бумаги) | AK16: 46238 | AL16: 12514.75 | AM16: buy | AN16: 46210 | AO16: -15560 | AP16: Дивиденд по X5 - КЦ ИКС 5 73шт. по 245 RUR - налог 2325 RUR (данные из БД) | AT16: 45370 | AU16: 94084.12 | AV16: buy | AW16: 43969 | AX16: 13015.01 | AY16: buy | AZ16: 44000 | BA16: 3860.47 | BB16: buy | BC16: 43902 | BD16: 15864.93 | BE16: buy (Ввод бумаги) | BF16: 43839 | BG16: -756.4 | BH16: Дивиденд по NLMK - НЛМК ао 270шт. по 3.22 RUR - налог 113 RUR (данные из БД) | BI16: 45817 | BJ16: 2709.89 | BK16: buy
A17: 45817 | B17: 148424.48 | C17: buy | D17: 45968 | E17: 55817.19 | F17: buy | G17: 46233 | H17: 6359.47 | I17: buy | J17: 45750 | K17: 288796.59 | L17: buy | N17: ==XIRR(N2:N16,M2:M16) | S17: 46049 | T17: 232666.02 | U17: buy | V17: 44571 | W17: -729.32 | X17: Дивиденд по TATNP - Татнфт 3ап 84шт. по 9.98 RUR - налог 109 RUR (данные из БД) | Y17: 45995 | Z17: 32992.47 | AA17: buy | AC17: ==XIRR(AC2:AC16,AB2:AB16) | AE17: 43969 | AF17: 7175.98 | AG17: buy | AK17: 46293 | AL17: ==-Портфель!K14 | AM17: Стоимость сейчас | AN17: 46226 | AO17: 97876.01 | AP17: buy | AT17: 45443 | AU17: 9506.3 | AV17: buy | AW17: 43969 | AX17: -13015.01 | AY17: Вывод бумаги | AZ17: 44000 | BA17: -3860.47 | BB17: Вывод бумаги | BC17: 43902 | BD17: 15864.93 | BE17: buy | BF17: 43902 | BG17: 16942.24 | BH17: buy (Ввод бумаги) | BI17: 45849 | BJ17: -944.36 | BK17: Дивиденд по VTBR - ВТБ ао 42шт. по 25.58 RUR - налог 130 RUR (данные из БД)
A18: 45817 | B18: 2117.15 | C18: buy | D18: 45982 | E18: 148573.61 | F18: buy | G18: 46293 | H18: ==-Портфель!K4 | I18: Стоимость сейчас | J18: 45817 | K18: -227 | L18: Дивиденд по PHOR - ФосАгро ао 3шт. по 87 RUR - налог 34 RUR (данные из БД) | N18: ==-SUM(N2:N16) | O18: Полный доход | S18: 46147 | T18: 335780.73 | U18: buy | V18: 44750 | W18: -1179.76 | X18: Дивиденд по TATNP - Татнфт 3ап 84шт. по 16.14 RUR - налог 176 RUR (данные из БД) | Y18: 46147 | Z18: 124804.26 | AA18: buy | AC18: ==-SUM(AC2:AC16) | AD18: Полный доход | AE18: 43969 | AF18: -7175.98 | AG18: Вывод бумаги | AL18: ==XIRR(AL2:AL17,AK2:AK17) | AN18: 46238 | AO18: 12419.17 | AP18: buy | AT18: 45457 | AU18: -12679 | AV18: Дивиденд по MOEX - МосБиржа 840шт. по 17.35 RUR - налог 1895 RUR (данные из БД) | AW18: 44000 | AX18: 16271.27 | AY18: buy (Ввод бумаги) | AZ18: 44028 | BA18: -2121.4 | BB18: Дивиденд по GAZP - ГАЗПРОМ ао 160шт. по 15.24 RUR - налог 317 RUR (данные из БД) | BC18: 43902 | BD18: -15864.93 | BE18: Вывод бумаги | BF18: 43902 | BG18: 16942.24 | BH18: buy | BI18: 45999 | BJ18: 9114.45 | BK18: buy
A19: 45858 | B19: -10830.64 | C19: Дивиденд по ROSN - Роснефть 848шт. по 14.68 RUR - налог 1618 RUR (данные из БД) | D19: 46049 | E19: 42659.47 | F19: buy | H19: ==XIRR(H2:H18,G2:G18) | J19: 45817 | K19: -9158 | L19: Дивиденд по PHOR - ФосАгро ао 121шт. по 87 RUR - налог 1369 RUR (данные из БД) | S19: 46160 | T19: -16158.6 | U19: Дивиденд по PLZL - Полюс 327шт. по 56.8 RUR - налог 2415 RUR (данные из БД) | V19: 44845 | W19: -2390.64 | X19: Дивиденд по TATNP - Татнфт 3ап 84шт. по 32.71 RUR - налог 357 RUR (данные из БД) | Y19: 46195 | Z19: 54479.77 | AA19: buy | AE19: 44000 | AF19: 6799.71 | AG19: buy (Ввод бумаги) | AL19: ==-SUM(AL2:AL17) | AM19: Полный доход | AN19: 46293 | AO19: ==-Портфель!K15 | AP19: Стоимость сейчас | AT19: 45750 | AU19: 61019.73 | AV19: buy | AW19: 44000 | AX19: 16271.27 | AY19: buy | AZ19: 44144 | BA19: 18556.65 | BB19: buy (Ввод бумаги) | BC19: 43969 | BD19: 5986.35 | BE19: buy (Ввод бумаги) | BF19: 43902 | BG19: -16942.24 | BH19: Вывод бумаги | BI19: 46049 | BJ19: 4489.12 | BK19: buy
A20: 45858 | B20: -3115.92 | C20: Дивиденд по ROSN - Роснефть 244шт. по 14.68 RUR - налог 466 RUR (данные из БД) | D20: 46147 | E20: 251090.95 | F20: buy | H20: ==-SUM(H2:H18) | I20: Полный доход | J20: 45931 | K20: -713 | L20: Дивиденд по PHOR - ФосАгро ао 3шт. по 273 RUR - налог 106 RUR (данные из БД) | S20: 46160 | T20: -6374.2 | U20: Дивиденд по PLZL - Полюс 129шт. по 56.8 RUR - налог 953 RUR (данные из БД) | V20: 44936 | W20: -501.24 | X20: Дивиденд по TATNP - Татнфт 3ап 84шт. по 6.86 RUR - налог 75 RUR (данные из БД) | Y20: 46202 | Z20: -4515 | AA20: Дивиденд по BELU - НоваБев ао 519шт. по 10 RUR - налог 675 RUR (данные из БД) | AE20: 44000 | AF20: 6799.71 | AG20: buy | AO20: ==XIRR(AO2:AO19,AN2:AN19) | AT20: 45848 | AU20: -19081.4 | AV20: Дивиденд по MOEX - МосБиржа 840шт. по 26.11 RUR - налог 2851 RUR (данные из БД) | AW20: 44000 | AX20: -16271.27 | AY20: Вывод бумаги | AZ20: 44144 | BA20: 18556.65 | BB20: buy | BC20: 43969 | BD20: 5986.35 | BE20: buy | BF20: 43969 | BG20: 1230.26 | BH20: buy (Ввод бумаги) | BI20: 46094 | BJ20: 2160.57 | BK20: buy
A21: 45898 | B21: 59080.32 | C21: buy | D21: 46198 | E21: 104826.89 | F21: buy | J21: 45931 | K21: -28739 | L21: Дивиденд по PHOR - ФосАгро ао 121шт. по 273 RUR - налог 4294 RUR (данные из БД) | S21: 46160 | T21: -12008.4 | U21: Дивиденд по PLZL - Полюс 243шт. по 56.8 RUR - налог 1794 RUR (данные из БД) | V21: 45118 | W21: -2024.64 | X21: Дивиденд по TATNP - Татнфт 3ап 84шт. по 27.71 RUR - налог 303 RUR (данные из БД) | Y21: 46202 | Z21: -8152 | AA21: Дивиденд по BELU - НоваБев ао 937шт. по 10 RUR - налог 1218 RUR (данные из БД) | AE21: 44000 | AF21: -6799.71 | AG21: Вывод бумаги | AO21: ==-SUM(AO2:AO19) | AP21: Полный доход | AT21: 45848 | AU21: -7042.1 | AV21: Дивиденд по MOEX - МосБиржа 310шт. по 26.11 RUR - налог 1052 RUR (данные из БД) | AW21: 44021 | AX21: -6442.2 | AY21: Дивиденд по MTSS - МТС-ао 360шт. по 20.57 RUR - налог 963 RUR (данные из БД) | AZ21: 44144 | BA21: -18556.65 | BB21: Вывод бумаги | BC21: 43969 | BD21: -5986.35 | BE21: Вывод бумаги | BF21: 43969 | BG21: 6151.26 | BH21: buy (Ввод бумаги) | BI21: 46094 | BJ21: 1382.69 | BK21: buy
A22: 45968 | B22: 65497.4 | C22: buy | D22: 46209 | E22: -18537.38 | F22: Дивиденд по SIBN - Газпрнефть 758шт. по 28.11 RUR - налог 2770 RUR (данные из БД) | J22: 45968 | K22: 81356.16 | L22: buy | S22: 46216 | T22: -8264.35 | U22: Дивиденд по PLZL - Полюс 327шт. по 29.05 RUR - налог 1235 RUR (данные из БД) | V22: 45210 | W22: -2012.36 | X22: Дивиденд по TATNP - Татнфт 3ап 84шт. по 27.54 RUR - налог 301 RUR (данные из БД) | Y22: 46233 | Z22: 296851.93 | AA22: buy | AE22: 44064 | AF22: -3784 | AG22: Дивиденд по RTKMP - Ростел -ап 870шт. по 5 RUR - налог 566 RUR (данные из БД) | AT22: 45968 | AU22: 19450.29 | AV22: buy | AW22: 44116 | AX22: -2796.8 | AY22: Дивиденд по MTSS - МТС-ао 360шт. по 8.93 RUR - налог 418 RUR (данные из БД) | AZ22: 44392 | BA22: -2947.5 | BB22: Дивиденд по GAZP - ГАЗПРОМ ао 270шт. по 12.55 RUR - налог 441 RUR (данные из БД) | BC22: 43998 | BD22: -1301.82 | BE22: Дивиденд по CHMF - СевСт-ао 57шт. по 26.26 RUR - налог 195 RUR (данные из БД) | BF22: 43969 | BG22: 7381.52 | BH22: buy | BI22: 46163 | BJ22: 2704.53 | BK22: buy
A23: 45982 | B23: 79008.04 | C23: buy | D23: 46209 | E23: -38786.46 | F23: Дивиденд по SIBN - Газпрнефть 1586шт. по 28.11 RUR - налог 5796 RUR (данные из БД) | J23: 46132 | K23: 20940.83 | L23: buy | S23: 46216 | T23: -3260.45 | U23: Дивиденд по PLZL - Полюс 129шт. по 29.05 RUR - налог 487 RUR (данные из БД) | V23: 45300 | W23: -2570.28 | X23: Дивиденд по TATNP - Татнфт 3ап 84шт. по 35.17 RUR - налог 384 RUR (данные из БД) | Y23: 46293 | Z23: ==-Портфель!K10 | AA23: Стоимость сейчас | AE23: 44389 | AF23: -3784 | AG23: Дивиденд по RTKMP - Ростел -ап 870шт. по 5 RUR - налог 566 RUR (данные из БД) | AT23: 46212 | AU23: -14301.8 | AV23: Дивиденд по MOEX - МосБиржа 840шт. по 19.57 RUR - налог 2137 RUR (данные из БД) | AW23: 44385 | AX23: -8302.6 | AY23: Дивиденд по MTSS - МТС-ао 360шт. по 26.51 RUR - налог 1241 RUR (данные из БД) | AZ23: 44445 | BA23: 38803.2 | BB23: buy | BC23: 43998 | BD23: -1355.95 | BE23: Дивиденд по CHMF - СевСт-ао 57шт. по 27.35 RUR - налог 203 RUR (данные из БД) | BF23: 43969 | BG23: -7381.52 | BH23: Вывод бумаги | BI23: 46223 | BJ23: -1014.2 | BK23: Дивиденд по VTBR - ВТБ ао 120шт. по 9.71 RUR - налог 151 RUR (данные из БД)
A24: 46034 | B24: -10469.96 | C24: Дивиденд по ROSN - Роснефть 1041шт. по 11.56 RUR - налог 1564 RUR (данные из БД) | D24: 46226 | E24: 4610.95 | F24: buy | J24: 46147 | K24: 283415.08 | L24: buy | S24: 46216 | T24: -6141.15 | U24: Дивиденд по PLZL - Полюс 243шт. по 29.05 RUR - налог 918 RUR (данные из БД) | V24: 45370 | W24: 106569.22 | X24: buy | Z24: ==XIRR(Z2:Z23,Y2:Y23) | AE24: 44762 | AF24: -3451.2 | AG24: Дивиденд по RTKMP - Ростел -ап 870шт. по 4.56 RUR - налог 516 RUR (данные из БД) | AT24: 46212 | AU24: -7321.1 | AV24: Дивиденд по MOEX - МосБиржа 430шт. по 19.57 RUR - налог 1094 RUR (данные из БД) | AW24: 44481 | AX24: -3304 | AY24: Дивиденд по MTSS - МТС-ао 360шт. по 10.55 RUR - налог 494 RUR (данные из БД) | AZ24: 44579 | BA24: 33525.91 | BB24: buy | BC24: 44000 | BD24: 6987.24 | BE24: buy (Ввод бумаги) | BF24: 43991 | BG24: -1302.6 | BH24: Дивиденд по NLMK - НЛМК ао 480шт. по 3.12 RUR - налог 195 RUR (данные из БД) | BI24: 46223 | BJ24: -1520.8 | BK24: Дивиденд по VTBR - ВТБ ао 180шт. по 9.71 RUR - налог 227 RUR (данные из БД)
A25: 46034 | B25: -5410.28 | C25: Дивиденд по ROSN - Роснефть 538шт. по 11.56 RUR - налог 809 RUR (данные из БД) | D25: 46238 | E25: 82191.49 | F25: buy | J25: 46198 | K25: 96987.21 | L25: buy | S25: 46226 | T25: 1234.11 | U25: buy | V25: 45443 | W25: 8932.3 | X25: buy | Z25: ==-SUM(Z2:Z23) | AA25: Полный доход | AE25: 45261 | AF25: -4122.46 | AG25: Дивиденд по RTKMP - Ростел -ап 870шт. по 5.45 RUR - налог 616 RUR (данные из БД) | AT25: 46293 | AU25: ==-Портфель!K17 | AV25: Стоимость сейчас | AW25: 44754 | AX25: -10676 | AY25: Дивиденд по MTSS - МТС-ао 360шт. по 33.85 RUR - налог 1510 RUR (данные из БД) | AZ25: 44742 | BA25: 27562.07 | BB25: buy | BC25: 44000 | BD25: 6987.24 | BE25: buy | BF25: 44000 | BG25: 8248.52 | BH25: buy (Ввод бумаги) | BI25: 46293 | BJ25: ==-Портфель!K22 | BK25: Стоимость сейчас
A26: 46049 | B26: 395818.67 | C26: buy | D26: 46293 | E26: ==-Портфель!K3 | F26: Стоимость сейчас | J26: 46238 | K26: 40475.38 | L26: buy | S26: 46293 | T26: ==-Портфель!K8 | U26: Стоимость сейчас | V26: 45482 | W26: -5408.99 | X26: Дивиденд по TATNP - Татнфт 3ап 247шт. по 25.17 RUR - налог 808 RUR (данные из БД) | AE26: 45370 | AF26: 100509.3 | AG26: buy | AU26: ==XIRR(AU2:AU25,AT2:AT25) | AW26: 45106 | AX26: -10739.4 | AY26: Дивиденд по MTSS - МТС-ао 360шт. по 34.29 RUR - налог 1605 RUR (данные из БД) | AZ26: 44746 | BA26: 42867.18 | BB26: buy | BC26: 44000 | BD26: -6987.24 | BE26: Вывод бумаги | BF26: 44000 | BG26: 8248.52 | BH26: buy | BJ26: ==XIRR(BJ2:BJ25,BI2:BI25)
A27: 46147 | B27: 324188.09 | C27: buy | E27: ==XIRR(E2:E26,D2:D26) | J27: 46293 | K27: ==-Портфель!K5 | L27: Стоимость сейчас | T27: ==XIRR(T2:T26,S2:S26) | V27: 45573 | W27: -8208.4 | X27: Дивиденд по TATNP - Татнфт 3ап 247шт. по 38.2 RUR - налог 1227 RUR (данные из БД) | AE27: 45443 | AF27: 9282 | AG27: buy | AU27: ==-SUM(AU2:AU25) | AV27: Полный доход | AW27: 45370 | AX27: 119305.5 | AY27: buy | AZ27: 44746 | BA27: 1863.79 | BB27: buy | BC27: 44082 | BD27: -873.6 | BE27: Дивиденд по CHMF - СевСт-ао 65шт. по 15.44 RUR - налог 130 RUR (данные из БД) | BF27: 44000 | BG27: -8248.52 | BH27: Вывод бумаги | BJ27: ==-SUM(BJ2:BJ25) | BK27: Полный доход
A28: 46195 | B28: 148452.54 | C28: buy | E28: ==-SUM(E2:E26) | F28: Полный доход | K28: ==XIRR(K2:K27,J2:J27) | T28: ==-SUM(T2:T26) | U28: Полный доход | V28: 45586 | W28: 1785.3 | X28: buy | AE28: 45562 | AF28: -12126 | AG28: Дивиденд по RTKMP - Ростел -ап 2300шт. по 6.06 RUR - налог 1812 RUR (данные из БД) | AW28: 45489 | AX28: -23446 | AY28: Дивиденд по MTSS - МТС-ао 770шт. по 35 RUR - налог 3504 RUR (данные из БД) | AZ28: 44845 | BA28: -27568.6 | BB28: Дивиденд по GAZP - ГАЗПРОМ ао 620шт. по 51.03 RUR - налог 4070 RUR (данные из БД) | BC28: 44173 | BD28: -2111.1 | BE28: Дивиденд по CHMF - СевСт-ао 65шт. по 37.34 RUR - налог 316 RUR (данные из БД) | BF28: 44025 | BG28: -1508.4 | BH28: Дивиденд по NLMK - НЛМК ао 540шт. по 3.21 RUR - налог 225 RUR (данные из БД)
A29: 46212 | B29: -2056.07 | C29: Дивиденд по ROSN - Роснефть 1041шт. по 2.27 RUR - налог 307 RUR (данные из БД) | K29: ==-SUM(K2:K27) | L29: Полный доход | V29: 45665 | W29: -3782.5 | X29: Дивиденд по TATNP - Татнфт 3ап 250шт. по 17.39 RUR - налог 565 RUR (данные из БД) | AE29: 45750 | AF29: 43201.07 | AG29: buy | AW29: 45845 | AX29: -23724 | AY29: Дивиденд по MTSS - МТС-ао 770шт. по 35 RUR - налог 3226 RUR (данные из БД) | AZ29: 44845 | BA29: -11116.5 | BB29: Дивиденд по GAZP - ГАЗПРОМ ао 250шт. по 51.03 RUR - налог 1641 RUR (данные из БД) | BC29: 44348 | BD29: -2051.55 | BE29: Дивиденд по CHMF - СевСт-ао 65шт. по 36.27 RUR - налог 306 RUR (данные из БД) | BF29: 44116 | BG29: -2232 | BH29: Дивиденд по NLMK - НЛМК ао 540шт. по 4.75 RUR - налог 333 RUR (данные из БД)
A30: 46212 | B30: -5508.03 | C30: Дивиденд по ROSN - Роснефть 2789шт. по 2.27 RUR - налог 823 RUR (данные из БД) | V30: 45810 | W30: -9376.5 | X30: Дивиденд по TATNP - Татнфт 3ап 250шт. по 43.11 RUR - налог 1401 RUR (данные из БД) | AE30: 45882 | AF30: -12506 | AG30: Дивиденд по RTKMP - Ростел -ап 2300шт. по 6.25 RUR - налог 1869 RUR (данные из БД) | AW30: 46147 | AX30: 52426.05 | AY30: buy | AZ30: 45082 | BA30: 4882.09 | BB30: buy | BC30: 44348 | BD30: -2645.05 | BE30: Дивиденд по CHMF - СевСт-ао 65шт. по 46.77 RUR - налог 395 RUR (данные из БД) | BF30: 44194 | BG30: -3021.2 | BH30: Дивиденд по NLMK - НЛМК ао 540шт. по 6.43 RUR - налог 451 RUR (данные из БД)
A31: 46223 | B31: 183134.67 | C31: buy | V31: 45817 | W31: 141495.72 | X31: buy | AE31: 45882 | AF31: -4241 | AG31: Дивиденд по RTKMP - Ростел -ап 780шт. по 6.25 RUR - налог 634 RUR (данные из БД) | AW31: 46212 | AX31: -23446 | AY31: Дивиденд по MTSS - МТС-ао 770шт. по 35 RUR - налог 3504 RUR (данные из БД) | AZ31: 45258 | BA31: 19789.63 | BB31: buy | BC31: 44441 | BD31: -4775.25 | BE31: Дивиденд по CHMF - СевСт-ао 65шт. по 84.45 RUR - налог 714 RUR (данные из БД) | BF31: 44327 | BG31: -3406 | BH31: Дивиденд по NLMK - НЛМК ао 540шт. по 7.25 RUR - налог 509 RUR (данные из БД)
A32: 46293 | B32: ==-Портфель!K2 | C32: Стоимость сейчас | V32: 45944 | W32: -5979.65 | X32: Дивиденд по TATNP - Татнфт 3ап 479шт. по 14.35 RUR - налог 894 RUR (данные из БД) | AE32: 45968 | AF32: 20164.64 | AG32: buy | AW32: 46212 | AX32: -7308 | AY32: Дивиденд по MTSS - МТС-ао 240шт. по 35 RUR - налог 1092 RUR (данные из БД) | AZ32: 45281 | BA32: 3233.97 | BB32: buy | BC32: 44544 | BD32: -4859.45 | BE32: Дивиденд по CHMF - СевСт-ао 65шт. по 85.93 RUR - налог 726 RUR (данные из БД) | BF32: 44370 | BG32: -3622.4 | BH32: Дивиденд по NLMK - НЛМК ао 540шт. по 7.71 RUR - налог 541 RUR (данные из БД)
B33: ==XIRR(B2:B32,A2:A32) | V33: 45968 | W33: 26396.84 | X33: buy | AE33: 46147 | AF33: 589845.65 | AG33: buy | AW33: 46238 | AX33: 7512.76 | AY33: buy | AZ33: 45286 | BA33: 1616.46 | BB33: buy | BC33: 45082 | BD33: 4158.94 | BE33: buy | BF33: 44446 | BG33: -6398.8 | BH33: Дивиденд по NLMK - НЛМК ао 540шт. по 13.62 RUR - налог 956 RUR (данные из БД)
B34: ==-SUM(B2:B32) | C34: Полный доход | V34: 45982 | W34: 98603.66 | X34: buy | AE34: 46163 | AF34: -446904.45 | AG34: sell | AW34: 46293 | AX34: ==-Портфель!K18 | AY34: Стоимость сейчас | AZ34: 45370 | BA34: 111232.26 | BB34: buy | BC34: 45370 | BD34: 104752.25 | BE34: buy | BF34: 44537 | BG34: -6262.2 | BH34: Дивиденд по NLMK - НЛМК ао 540шт. по 13.33 RUR - налог 936 RUR (данные из БД)
V35: 46033 | W35: -4591.37 | X35: Дивиденд по TATNP - Татнфт 3ап 649шт. по 8.13 RUR - налог 685 RUR (данные из БД) | AE35: 46223 | AF35: -5423 | AG35: Дивиденд по RTKMP - Ростел -ап 2300шт. по 2.71 RUR - налог 810 RUR (данные из БД) | AX35: ==XIRR(AX2:AX34,AW2:AW34) | AZ35: 46293 | BA35: ==-Портфель!K19 | BB35: Стоимость сейчас | BC35: 45443 | BD35: 12535.6 | BE35: buy | BF35: 45370 | BG35: 109166.11 | BH35: buy
V36: 46033 | W36: -353.5 | X36: Дивиденд по TATNP - Татнфт 3ап 50шт. по 8.13 RUR - налог 53 RUR (данные из БД) | AE36: 46223 | AF36: -8535.2 | AG36: Дивиденд по RTKMP - Ростел -ап 3620шт. по 2.71 RUR - налог 1275 RUR (данные из БД) | AX36: ==-SUM(AX2:AX34) | AY36: Полный доход | BA36: ==XIRR(BA2:BA35,AZ2:AZ35) | BC36: 45461 | BD36: -4565.1 | BE36: Дивиденд по CHMF - СевСт-ао 137шт. по 38.3 RUR - налог 682 RUR (данные из БД) | BF36: 45439 | BG36: -23673.1 | BH36: Дивиденд по NLMK - НЛМК ао 1070шт. по 25.43 RUR - налог 3537 RUR (данные из БД)
V37: 46163 | W37: 246883.19 | X37: buy | AE37: 46233 | AF37: 247541.08 | AG37: buy | BA37: ==-SUM(BA2:BA35) | BB37: Полный доход | BC37: 45461 | BD37: -22825.87 | BE37: Дивиденд по CHMF - СевСт-ао 137шт. по 191.51 RUR - налог 3411 RUR (данные из БД) | BF37: 45443 | BG37: 13630.4 | BH37: buy
V38: 46218 | W38: -6554.89 | X38: Дивиденд по TATNP - Татнфт 3ап 649шт. по 11.61 RUR - налог 980 RUR (данные из БД) | AE38: 46238 | AF38: 17292.54 | AG38: buy | BC38: 45545 | BD38: -3702.22 | BE38: Дивиденд по CHMF - СевСт-ао 137шт. по 31.06 RUR - налог 553 RUR (данные из БД) | BF38: 45446 | BG38: 16660.8 | BH38: buy
V39: 46218 | W39: -4687.04 | X39: Дивиденд по TATNP - Татнфт 3ап 464шт. по 11.61 RUR - налог 700 RUR (данные из БД) | AE39: 46293 | AF39: ==-Портфель!K12 | AG39: Стоимость сейчас | BC39: 45643 | BD39: -5847.22 | BE39: Дивиденд по CHMF - СевСт-ао 137шт. по 49.06 RUR - налог 874 RUR (данные из БД) | BF39: 45750 | BG39: 56154.89 | BH39: buy
V40: 46238 | W40: 2029.42 | X40: buy | AF40: ==XIRR(AF2:AF39,AE2:AE39) | BC40: 45750 | BD40: 51087.13 | BE40: buy | BF40: 45968 | BG40: 17052.73 | BH40: buy
...

Sheet Доходность закр.
B1: SBERP | E1: MGNT | H1: LSRG | K1: LKOH | N1: FXDE | Q1: MFON | T1: YNDX | W1: RU000A0ZZE20 | Z1: LNTA | AC1: AFKS | AF1: BANEP | AI1: MRKU | AL1: MTLRP | AO1: SU26217RMFS8 | AR1: RU000A0JXU71 | AU1: AFLT | AX1: UPRO | BA1: RU000A1007D9 | BD1: RU000A1012K4 | BG1: RU000A102101 | BJ1: RU000A0ZZNV7 | BM1: RU000A100K64 | BP1: RU000A100AA4 | BS1: RU000A1015S0 | BV1: RU000A101DU4 | BY1: RU000A0JRU20 | CB1: FXCN | CE1: RU000A102LW1 | CH1: RU000A102KR3 | CK1: RU000A102CZ3 | CN1: RU000A1046N6 | CQ1: DIVD | CT1: PMSBP | CW1: GOLD
A2: 43524 | B2: 17855.66 | C2: buy (Ввод бумаги) | D2: 43733 | E2: 10719.05 | F2: buy (Ввод бумаги) | G2: 43733 | H2: 2900.13 | I2: buy (Ввод бумаги) | J2: 44000 | K2: 5342.7 | L2: buy (Ввод бумаги) | M2: 44239 | N2: 51632.82 | O2: buy (Ввод бумаги) | P2: 43327 | Q2: 18898.26 | R2: buy | S2: 43327 | T2: 19301.51 | U2: buy | V2: 43367 | W2: 4902.11 | X2: buy | Y2: 43367 | Z2: 758.34 | AA2: buy | AB2: 43369 | AC2: 8947.58 | AD2: buy | AE2: 43382 | AF2: 9363.87 | AG2: buy | AH2: 43384 | AI2: 14043.32 | AJ2: buy | AK2: 43384 | AL2: 14871.32 | AM2: buy | AN2: 43439 | AO2: 30369.94 | AP2: buy | AQ2: 43446 | AR2: 26114.25 | AS2: buy | AT2: 43650 | AU2: 19594.01 | AV2: buy | AW2: 43833 | AX2: 11274.76 | AY2: buy | AZ2: 43866 | BA2: 1039.18 | BB2: buy | BC2: 44144 | BD2: 11034.36 | BE2: buy | BF2: 44144 | BG2: 10415.73 | BH2: buy | BI2: 44144 | BJ2: 10345.49 | BK2: buy | BL2: 44144 | BM2: 10361.1 | BN2: buy | BO2: 44144 | BP2: 8343.7 | BQ2: buy | BR2: 44144 | BS2: 10520.28 | BT2: buy | BU2: 44144 | BV2: 10209.48 | BW2: buy | BX2: 44144 | BY2: 6876.17 | BZ2: buy | CA2: 44214 | CB2: 46161.97 | CC2: buy | CD2: 44445 | CE2: 30886.2 | CF2: buy | CG2: 44494 | CH2: 19357.95 | CI2: buy | CJ2: 44494 | CK2: 22180.19 | CL2: buy | CM2: 44571 | CN2: 11036.83 | CO2: buy | CP2: 44614 | CQ2: 51444.43 | CR2: buy | CS2: 45026 | CT2: 49720.7 | CU2: buy | CV2: 45999 | CW2: 491514.08 | CX2: buy
A3: 43733 | B3: 14197.78 | C3: buy (Ввод бумаги) | D3: 43754 | E3: 6494.03 | F3: buy (Ввод бумаги) | G3: 43733 | H3: 2175.12 | I3: buy (Ввод бумаги) | J3: 44000 | K3: 26713.51 | L3: buy (Ввод бумаги) | M3: 44214 | N3: 49885.55 | O3: buy | P3: 43461 | Q3: -19095.75 | R3: sell | S3: 43390 | T3: -20725.7 | U3: sell | V3: 43481 | W3: -5041.81 | X3: sell | Y3: 44000 | Z3: -499.75 | AA3: sell | AB3: 43564 | AC3: -9185.91 | AD3: sell | AE3: 43564 | AF3: 18406.76 | AG3: buy | AH3: 43461 | AI3: 10749.14 | AJ3: buy | AK3: 43664 | AL3: -2218.4 | AM3: Дивиденд по MTLRP - Мечел ап 140шт. по 18.21 RUR - налог 331 RUR (данные из БД) | AN3: 43516 | AO3: -1122 | AP3: Купон по SU26217RMFS8 - ОФЗ 26217 30шт. по 37.4 RUR - налог 0 RUR (данные из БД) | AQ3: 43455 | AR3: -1090.75 | AS3: Купон по RU000A0JXU71 - ВЭБ ПБО1Р9 25шт. по 43.63 RUR - налог 0 RUR (данные из БД) | AT3: 43902 | AU3: 35479.4 | AV3: buy | AW3: 43902 | AX3: 33521.34 | AY3: buy | AZ3: 43935 | BA3: -0.1 | BB3: Купон по RU000A1007D9 - СберИОС69 1шт. по 0.1 RUR - налог 0 RUR (данные из БД) | BC3: 44152 | BD3: -571.3 | BE3: Купон по RU000A1012K4 - СЭЗ 1P1 10шт. по 62.33 RUR - налог 52 RUR (данные из БД) | BF3: 44148 | BG3: -291.1 | BH3: Купон по RU000A102101 - ЭБИС Б1P03 10шт. по 32.41 RUR - налог 33 RUR (данные из БД) | BI3: 44175 | BJ3: 21026.16 | BK3: buy | BL3: 44175 | BM3: 10552.56 | BN3: buy | BO3: 44195 | BP3: 17119.44 | BQ3: buy | BR3: 44174 | BS3: -275.2 | BT3: Купон по RU000A1015S0 - ЭТС 1Р01 10шт. по 29.92 RUR - налог 24 RUR (данные из БД) | BU3: 44195 | BV3: 20826.43 | BW3: buy | BX3: 44195 | BY3: 17295.77 | BZ3: buy | CA3: 44239 | CB3: 47813.12 | CC3: buy | CD3: 44466 | CE3: -780.6 | CF3: Купон по RU000A102LW1 - АБЗ-1 1Р01 30шт. по 29.92 RUR - налог 117 RUR (данные из БД) | CG3: 44552 | CH3: -535.79 | CI3: Купон по RU000A102KR3 - АПРИФП БП4 19шт. по 32.41 RUR - налог 80 RUR (данные из БД) | CJ3: 44512 | CK3: -196.94 | CL3: Купон по RU000A102CZ3 - АйДиЭф03 22шт. по 10.27 RUR - налог 29 RUR (данные из БД) | CM3: 44613 | CN3: -10507.49 | CO3: sell | CP3: 44614 | CQ3: 57008.68 | CR3: buy | CS3: 45069 | CT3: -3776 | CU3: Дивиденд по PMSBP - ПермьЭнС-п 280шт. по 15.5 RUR - налог 564 RUR (данные из БД) | CV3: 46049 | CW3: 196578.19 | CX3: buy
A4: 43754 | B4: 34621.85 | C4: buy (Ввод бумаги) | D4: 43754 | E4: 19482.08 | F4: buy (Ввод бумаги) | G4: 43733 | H4: 16675.82 | I4: buy (Ввод бумаги) | J4: 44144 | K4: 18436.77 | L4: buy (Ввод бумаги) | M4: 44239 | N4: 51632.76 | O4: buy | Q4: ==XIRR(Q2:Q3,P2:P3) | S4: 43392 | T4: 20784.09 | U4: buy | W4: ==XIRR(W2:W3,V2:V3) | Z4: ==XIRR(Z2:Z3,Y2:Y3) | AC4: ==XIRR(AC2:AC3,AB2:AB3) | AE4: 43640 | AF4: -2074.25 | AG4: Дивиденд по BANEP - Башнефт ап 15шт. по 158.95 RUR - налог 310 RUR (данные из БД) | AH4: 43481 | AI4: 5692.52 | AJ4: buy | AK4: 43752 | AL4: -12316.78 | AM4: sell | AN4: 43698 | AO4: -1122 | AP4: Купон по SU26217RMFS8 - ОФЗ 26217 30шт. по 37.4 RUR - налог 0 RUR (данные из БД) | AQ4: 43462 | AR4: 22138.27 | AS4: buy | AT4: 44000 | AU4: 4057.81 | AV4: buy | AW4: 43969 | AX4: 5319.68 | AY4: buy | AZ4: 43934 | BA4: -1000 | BB4: Амортизация СберИОС69: 1 шт. по 1000 RUR. (данные из БД) | BC4: 44175 | BD4: 10588.81 | BE4: buy | BF4: 44175 | BG4: 21006.07 | BH4: buy | BI4: 44195 | BJ4: 5287.71 | BK4: buy | BL4: 44195 | BM4: 5178.99 | BN4: buy | BO4: 44217 | BP4: -780.6 | BQ4: Купон по RU000A100AA4 - ТАЛАНФБ1P1 30шт. по 29.92 RUR - налог 117 RUR (данные из БД) | BR4: 44175 | BS4: 10425.15 | BT4: buy | BU4: 44232 | BV4: -715.6 | BW4: Купон по RU000A101DU4 - ВитаЛайнБ1 30шт. по 27.42 RUR - налог 107 RUR (данные из БД) | BX4: 44295 | BY4: -719 | BZ4: Купон по RU000A0JRU20 - СЗКК 03 28шт. по 29.5 RUR - налог 107 RUR (данные из БД) | CA4: 44431 | CB4: -30737.15 | CC4: sell | CD4: 44557 | CE4: -780.6 | CF4: Купон по RU000A102LW1 - АБЗ-1 1Р01 30шт. по 29.92 RUR - налог 117 RUR (данные из БД) | CG4: 44571 | CH4: 10047.43 | CI4: buy | CJ4: 44542 | CK4: -196.94 | CL4: Купон по RU000A102CZ3 - АйДиЭф03 22шт. по 10.27 RUR - налог 29 RUR (данные из БД) | CN4: ==XIRR(CN2:CN3,CM2:CM3) | CP4: 44616 | CQ4: 267790.11 | CR4: buy | CS4: 45370 | CT4: 31948.74 | CU4: buy | CV4: 46147 | CW4: 222596.17 | CX4: buy
A5: 43833 | B5: 18424.01 | C5: buy (Ввод бумаги) | D5: 43969 | E5: 7238.02 | F5: buy (Ввод бумаги) | G5: 43833 | H5: 9292.66 | I5: buy (Ввод бумаги) | J5: 44000 | K5: 32056.21 | L5: buy | M5: 44239 | N5: -51632.76 | O5: Вывод бумаги | Q5: ==-SUM(Q2:Q3) | R5: Полный доход | S5: 43563 | T5: -22950.79 | U5: sell | W5: ==-SUM(W2:W3) | X5: Полный доход | Z5: ==-SUM(Z2:Z3) | AA5: Полный доход | AC5: ==-SUM(AC2:AC3) | AD5: Полный доход | AE5: 43752 | AF5: -24052.88 | AG5: sell | AH5: 43619 | AI5: -444 | AJ5: Дивиденд по MRKU - Россети Ур 170000шт. по 0 RUR - налог 66 RUR (данные из БД) | AL5: ==XIRR(AL2:AL4,AK2:AK4) | AN5: 43880 | AO5: -1122 | AP5: Купон по SU26217RMFS8 - ОФЗ 26217 30шт. по 37.4 RUR - налог 0 RUR (данные из БД) | AQ5: 43524 | AR5: 50857.01 | AS5: buy | AT5: 44431 | AU5: -49401.33 | AV5: sell | AW5: 44000 | AX5: 5585.87 | AY5: buy | BA5: ==XIRR(BA2:BA4,AZ2:AZ4) | BC5: 44195 | BD5: 5363.63 | BE5: buy | BF5: 44195 | BG5: 4268.31 | BH5: buy | BI5: 44291 | BJ5: -2125.35 | BK5: Купон по RU000A0ZZNV7 - ЛегионБО-1 35шт. по 69.81 RUR - налог 318 RUR (данные из БД) | BL5: 44202 | BM5: -813 | BN5: Купон по RU000A100K64 - АПРИФП БП2 25шт. по 37.4 RUR - налог 122 RUR (данные из БД) | BO5: 44308 | BP5: -780.6 | BQ5: Купон по RU000A100AA4 - ТАЛАНФБ1P1 30шт. по 29.92 RUR - налог 117 RUR (данные из БД) | BR5: 44195 | BS5: 5300.56 | BT5: buy | BU5: 44323 | BV5: -715.6 | BW5: Купон по RU000A101DU4 - ВитаЛайнБ1 30шт. по 27.42 RUR - налог 107 RUR (данные из БД) | BX5: 44294 | BY5: -644 | BZ5: Амортизация СЗКК 03: 28 шт. по 23 RUR. (данные из БД) | CA5: 44445 | CB5: 118967.5 | CC5: buy | CD5: 44571 | CE5: 10012.52 | CF5: buy | CG5: 44643 | CH5: -535.79 | CI5: Купон по RU000A102KR3 - АПРИФП БП4 19шт. по 32.41 RUR - налог 80 RUR (данные из БД) | CJ5: 44572 | CK5: -196.94 | CL5: Купон по RU000A102CZ3 - АйДиЭф03 22шт. по 10.27 RUR - налог 29 RUR (данные из БД) | CN5: ==-SUM(CN2:CN3) | CO5: Полный доход | CP5: 44774 | CQ5: 99252.34 | CR5: buy | CS5: 45406 | CT5: 50743.65 | CU5: buy | CV5: 46195 | CW5: -252157.91 | CX5: sell
A6: 43902 | B6: 17543.1 | C6: buy (Ввод бумаги) | D6: 44000 | E6: 3833.15 | F6: buy (Ввод бумаги) | G6: 43969 | H6: 2370.44 | I6: buy (Ввод бумаги) | J6: 44022 | K6: -1827 | L6: Дивиденд по LKOH - ЛУКОЙЛ 6шт. по 350 RUR - налог 273 RUR (данные из БД) | M6: 44445 | N6: 43890 | O6: buy | T6: ==XIRR(T2:T5,S2:S5) | AE6: 43754 | AF6: 24247.27 | AG6: buy | AH6: 43752 | AI6: -28846.49 | AJ6: sell | AL6: ==-SUM(AL2:AL4) | AM6: Полный доход | AN6: 44000 | AO6: -31774.25 | AP6: sell | AQ6: 43637 | AR6: -4232.11 | AS6: Купон по RU000A0JXU71 - ВЭБ ПБО1Р9 97шт. по 43.63 RUR - налог 0 RUR (данные из БД) | AU6: ==XIRR(AU2:AU5,AT2:AT5) | AW6: 44004 | AX6: -2028.53 | AY6: Дивиденд по UPRO - Юнипро ао 21000шт. по 0.11 RUR - налог 303 RUR (данные из БД) | BA6: ==-SUM(BA2:BA4) | BB6: Полный доход | BC6: 44334 | BD6: -1355.25 | BE6: Купон по RU000A1012K4 - СЭЗ 1P1 25шт. по 62.33 RUR - налог 203 RUR (данные из БД) | BF6: 44239 | BG6: -958.94 | BH6: Купон по RU000A102101 - ЭБИС Б1P03 34шт. по 32.41 RUR - налог 143 RUR (данные из БД) | BI6: 44473 | BJ6: -1669.75 | BK6: Купон по RU000A0ZZNV7 - ЛегионБО-1 35шт. по 54.85 RUR - налог 250 RUR (данные из БД) | BL6: 44293 | BM6: -813 | BN6: Купон по RU000A100K64 - АПРИФП БП2 25шт. по 37.4 RUR - налог 122 RUR (данные из БД) | BO6: 44307 | BP6: -9000 | BQ6: Амортизация ТАЛАНФБ1P1: 30 шт. по 300 RUR. (данные из БД) | BR6: 44265 | BS6: -651 | BT6: Купон по RU000A1015S0 - ЭТС 1Р01 25шт. по 29.92 RUR - налог 97 RUR (данные из БД) | BU6: 44414 | BV6: -715.6 | BW6: Купон по RU000A101DU4 - ВитаЛайнБ1 30шт. по 27.42 RUR - налог 107 RUR (данные из БД) | BX6: 44477 | BY6: -922.36 | BZ6: Купон по RU000A0JRU20 - СЗКК 03 28шт. по 37.87 RUR - налог 138 RUR (данные из БД) | CA6: 44572 | CB6: 8962.7 | CC6: buy | CD6: 44613 | CE6: -7737.11 | CF6: sell | CG6: 44643 | CH6: -282.1 | CI6: Купон по RU000A102KR3 - АПРИФП БП4 10шт. по 32.41 RUR - налог 42 RUR (данные из БД) | CJ6: 44571 | CK6: 9995.72 | CL6: buy | CP6: 44897 | CQ6: 99447.82 | CR6: buy | CS6: 45438 | CT6: -7907 | CU6: Дивиденд по PMSBP - ПермьЭнС-п 320шт. по 28.4 RUR - налог 1181 RUR (данные из БД) | CV6: 46198 | CW6: -202191.94 | CX6: sell
A7: 43969 | B7: 12280.21 | C7: buy (Ввод бумаги) | D7: 43370 | E7: 11483.4 | F7: buy | G7: 43969 | H7: 6520.92 | I7: buy (Ввод бумаги) | J7: 44144 | K7: 18436.77 | L7: buy | M7: 44616 | N7: -135238.64 | O7: sell | T7: ==-SUM(T2:T5) | U7: Полный доход | AE7: 43833 | AF7: 8676.75 | AG7: buy | AI7: ==XIRR(AI2:AI6,AH2:AH6) | AO7: ==XIRR(AO2:AO6,AN2:AN6) | AQ7: 43733 | AR7: 18903.32 | AS7: buy | AU7: ==-SUM(AU2:AU5) | AV7: Полный доход | AW7: 44185 | AX7: -2028.53 | AY7: Дивиденд по UPRO - Юнипро ао 21000шт. по 0.11 RUR - налог 303 RUR (данные из БД) | BC7: 44516 | BD7: -1355.25 | BE7: Купон по RU000A1012K4 - СЭЗ 1P1 25шт. по 62.33 RUR - налог 203 RUR (данные из БД) | BF7: 44330 | BG7: -958.94 | BH7: Купон по RU000A102101 - ЭБИС Б1P03 34шт. по 32.41 RUR - налог 143 RUR (данные из БД) | BI7: 44472 | BJ7: -35000 | BK7: Амортизация ЛегионБО-1: 35 шт. по 1000 RUR. (данные из БД) | BL7: 44384 | BM7: -813 | BN7: Купон по RU000A100K64 - АПРИФП БП2 25шт. по 37.4 RUR - налог 122 RUR (данные из БД) | BO7: 44399 | BP7: -488 | BQ7: Купон по RU000A100AA4 - ТАЛАНФБ1P1 30шт. по 18.7 RUR - налог 73 RUR (данные из БД) | BR7: 44264 | BS7: -2500 | BT7: Амортизация ЭТС 1Р01: 25 шт. по 100 RUR. (данные из БД) | BU7: 44505 | BV7: -715.6 | BW7: Купон по RU000A101DU4 - ВитаЛайнБ1 30шт. по 27.42 RUR - налог 107 RUR (данные из БД) | BX7: 44476 | BY7: -700 | BZ7: Амортизация СЗКК 03: 28 шт. по 25 RUR. (данные из БД) | CA7: 44616 | CB7: -132287.72 | CC7: sell | CD7: 44613 | CE7: -9633.54 | CF7: sell | CG7: 44734 | CH7: -535.79 | CI7: Купон по RU000A102KR3 - АПРИФП БП4 19шт. по 32.41 RUR - налог 80 RUR (данные из БД) | CJ7: 44602 | CK7: -196.94 | CL7: Купон по RU000A102CZ3 - АйДиЭф03 22шт. по 10.27 RUR - налог 29 RUR (данные из БД) | CP7: 45817 | CQ7: -60845.98 | CR7: sell | CS7: 45438 | CT7: -6918 | CU7: Дивиденд по PMSBP - ПермьЭнС-п 280шт. по 28.4 RUR - налог 1034 RUR (данные из БД) | CV7: 46223 | CW7: -381930.48 | CX7: sell
A8: 44000 | B8: 13217.45 | C8: buy (Ввод бумаги) | D8: 43455 | E8: -358.14 | F8: Дивиденд по MGNT - Магнит ао 3шт. по 137.38 RUR - налог 54 RUR (данные из БД) | G8: 44000 | H8: 3961.54 | I8: buy (Ввод бумаги) | J8: 44183 | K8: -400 | L8: Дивиденд по LKOH - ЛУКОЙЛ 10шт. по 46 RUR - налог 60 RUR (данные из БД) | N8: ==XIRR(N2:N7,M2:M7) | AE8: 43969 | AF8: 4193.91 | AG8: buy | AI8: ==-SUM(AI2:AI6) | AJ8: Полный доход | AO8: ==-SUM(AO2:AO6) | AP8: Полный доход | AQ8: 43819 | AR8: -5017.45 | AS8: Купон по RU000A0JXU71 - ВЭБ ПБО1Р9 115шт. по 43.63 RUR - налог 0 RUR (данные из БД) | AW8: 44369 | AX8: -2318.61 | AY8: Дивиденд по UPRO - Юнипро ао 21000шт. по 0.13 RUR - налог 346 RUR (данные из БД) | BC8: 44571 | BD8: 10361.97 | BE8: buy | BF8: 44421 | BG8: -958.94 | BH8: Купон по RU000A102101 - ЭБИС Б1P03 34шт. по 32.41 RUR - налог 143 RUR (данные из БД) | BJ8: ==XIRR(BJ2:BJ7,BI2:BI7) | BL8: 44475 | BM8: -813 | BN8: Купон по RU000A100K64 - АПРИФП БП2 25шт. по 37.4 RUR - налог 122 RUR (данные из БД) | BO8: 44490 | BP8: -488 | BQ8: Купон по RU000A100AA4 - ТАЛАНФБ1P1 30шт. по 18.7 RUR - налог 73 RUR (данные из БД) | BR8: 44356 | BS8: -585.25 | BT8: Купон по RU000A1015S0 - ЭТС 1Р01 25шт. по 26.93 RUR - налог 88 RUR (данные из БД) | BU8: 44596 | BV8: -715.6 | BW8: Купон по RU000A101DU4 - ВитаЛайнБ1 30шт. по 27.42 RUR - налог 107 RUR (данные из БД) | BX8: 44613 | BY8: -781.39 | BZ8: sell | CB8: ==XIRR(CB2:CB7,CA2:CA7) | CD8: 44614 | CE8: -5740.32 | CF8: sell | CG8: 44734 | CH8: -282.1 | CI8: Купон по RU000A102KR3 - АПРИФП БП4 10шт. по 32.41 RUR - налог 42 RUR (данные из БД) | CJ8: 44602 | CK8: -89.7 | CL8: Купон по RU000A102CZ3 - АйДиЭф03 10шт. по 10.27 RUR - налог 13 RUR (данные из БД) | CP8: 45817 | CQ8: -429254.99 | CR8: sell | CS8: 45668 | CT8: -5568 | CU8: Дивиденд по PMSBP - ПермьЭнС-п 320шт. по 20 RUR - налог 832 RUR (данные из БД) | CW8: ==XIRR(CW2:CW7,CV2:CV7)
