Workbook

Sheet Портфель
A1: Тикер | B1: Тип | C1: Название | D1: Валюта | E1: В портфелях | F1: Количество | G1: Цена | H1: Номинал | I1: НКД | J1: Погашение | K1: Сумма | L1: Доходность | M1: Средняя цена | N1: Доля | P1: Имя | Q1: Курс к рублю | R1: Курс к RUR
A2: SBER | B2: share | C2: Сбербанк | D2: RUR | E2: Сбер инвестиции: 63 шт. | F2: 63 | G2: 276.36 | H2: 0 | I2: 0 | K2: ==F2*G2*Портфель!$R$13 | L2: 0.1992 | M2: 300.84 | N2: 5.33 | P2: AMD | Q2: 0.238025 | R2: ==Q2/$Q$13
A3: BTBR | B3: share | C3: iВ2В-РТС | D3: RUR | E3: Альфа брокер: 138 шт. | F3: 138 | G3: 124.68 | H3: 0 | I3: 0 | K3: ==F3*G3*Портфель!$R$13 | L3: 0.0568 | M3: 119.98 | N3: 5.27 | P3: BYN | Q3: 27.87 | R3: ==Q3/$Q$13
A4: RAGR | B4: share | C4: Русагро | D4: RUR | E4: Альфа брокер: 244 шт. | F4: 244 | G4: 68.76 | H4: 0 | I4: 0 | K4: ==F4*G4*Портфель!$R$13 | L4: -0.4716 | M4: 85.38 | N4: 5.14 | P4: CAD | Q4: 60.406934 | R4: ==Q4/$Q$13
A5: MOEX | B5: share | C5: МосБиржа | D5: RUR | E5: Альфа брокер: 110 шт. | F5: 110 | G5: 148.15 | H5: 0 | I5: 0 | K5: ==F5*G5*Портфель!$R$13 | L5: -0.296 | M5: 158.39 | N5: 4.99 | P5: CHF | Q5: 102.3983 | R5: ==Q5/$Q$13
A6: X5 | B6: share | C6: КЦ ИКС 5 | D6: RUR | E6: Альфа брокер: 9 шт. | F6: 9 | G6: 1796 | H6: 0 | I6: 0 | K6: ==F6*G6*Портфель!$R$13 | L6: 30.3449 | M6: 1913.66 | N6: 4.95 | P6: CNY | Q6: 12.5788 | R6: ==Q6/$Q$13
A7: GMKN | B7: share | C7: ГМКНорНик | D7: RUR | E7: Альфа брокер: 120 шт. | F7: 120 | G7: 129.86 | H7: 0 | I7: 0 | K7: ==F7*G7*Портфель!$R$13 | L7: 0.353 | M7: 130.28 | N7: 4.77 | P7: EUR | Q7: 97.4984 | R7: ==Q7/$Q$13
A8: YDEX | B8: share | C8: ЯНДЕКС | D8: RUR | E8: Альфа брокер: 4 шт. | F8: 4 | G8: 3756.5 | H8: 0 | I8: 0 | K8: ==F8*G8*Портфель!$R$13 | L8: 0.0094 | M8: 3768.72 | N8: 4.6 | P8: GBP | Q8: 113.6988 | R8: ==Q8/$Q$13
A9: T | B9: share | C9: Т-Техно ао | D9: RUR | E9: Т-инвестиции: 38 шт. | F9: 38 | G9: 253.94 | H9: 0 | I9: 0 | K9: ==F9*G9*Портфель!$R$13 | L9: -0.1777 | M9: 272.88 | N9: 2.96 | P9: GLD | Q9: 11850 | R9: ==Q9/$Q$13
A10: SNGSP | B10: share | C10: Сургнфгз-п | D10: RUR | E10: Альфа брокер: 10 шт. | F10: 10 | G10: 41.155 | H10: 0 | I10: 0 | K10: ==F10*G10*Портфель!$R$13 | L10: 0.2828 | M10: 46.71 | N10: 0.13 | P10: HKD | Q10: 10.771 | R10: ==Q10/$Q$13
A11: IRAO | B11: share | C11: ИнтерРАОао | D11: RUR | E11: Альфа брокер: 100 шт. | F11: 100 | G11: 2.3705 | H11: 0 | I11: 0 | K11: ==F11*G11*Портфель!$R$13 | L11: -0.4036 | M11: 2.45 | N11: 0.07 | P11: JPY | Q11: 0.44 | R11: ==Q11/$Q$13
I12: Сумма по акциям: | K12: ==SUM(K2:K11) | N12: ==K12/K30 | P12: KZT | Q12: 0.192725 | R12: ==Q12/$Q$13
A13: AKMM | B13: etf | C13: AKMM ETF | D13: RUR | E13: Альфа брокер: 126 шт. | F13: 126 | G13: 177.86 | H13: 0 | I13: 0 | K13: ==F13*G13*Портфель!$R$13 | L13: 0.0019 | M13: 177.52 | N13: 6.86 | P13: RUR | Q13: 1 | R13: ==Q13/$Q$13
A14: TMOS | B14: etf | C14: TMOS ETF | D14: RUR | E14: Т-инвестиции: 3911 шт. | F14: 3911 | G14: 5.61 | H14: 0 | I14: 0 | K14: ==F14*G14*Портфель!$R$13 | L14: -0.1153 | M14: 5.78 | N14: 6.72 | P14: SLV | Q14: 175.05 | R14: ==Q14/$Q$13
A15: AKMP | B15: etf | C15: AKMP ETF | D15: RUR | E15: Альфа инвесткопилка: 2235 шт. | F15: 2235 | G15: 1.2675 | H15: 0 | I15: 0 | K15: ==F15*G15*Портфель!$R$13 | L15: 0.136 | M15: 1.25 | N15: 0.87 | P15: TRY | Q15: 1.766 | R15: ==Q15/$Q$13
A16: AKGD | B16: etf | C16: AKGD ETF | D16: RUR | E16: Альфа брокер: 1 шт. | F16: 1 | G16: 263.5 | H16: 0 | I16: 0 | K16: ==F16*G16*Портфель!$R$13 | L16: 0.0242 | M16: 257.29 | N16: 0.08 | P16: UAH | Q16: 2.11125 | R16: ==Q16/$Q$13
A17: AKPP | B17: etf | C17: AKPP ETF | D17: RUR | E17: Альфа брокер: 1 шт. | F17: 1 | G17: 144.7 | H17: 0 | I17: 0 | K17: ==F17*G17*Портфель!$R$13 | L17: 0.0185 | M17: 142.08 | N17: 0.04 | P17: USD | Q17: 84.5093 | R17: ==Q17/$Q$13
I18: Сумма по фондам: | K18: ==SUM(K13:K17) | N18: ==K18/K30
A19: RU000A10EMU3 | B19: bond | C19: sГТЛК2P-12 | D19: RUR | E19: Альфа брокер: 55 шт. | F19: 55 | G19: 98.67 | H19: 1000 | I19: 0.89 | J19: 2030-03-02 | K19: ==F19*((G19/100*H19)*Портфель!$R$13 + I19*Портфель!$R$13) | L19: 0.0383 | M19: 998.1 | N19: 16.64
A20: SU26233RMFS5 | B20: bond | C20: ОФЗ 26233 | D20: RUR | E20: ВТБ ИИС: 36 шт. | F20: 36 | G20: 55.853 | H20: 1000 | I20: 9.03 | J20: 2035-07-18 | K20: ==F20*((G20/100*H20)*Портфель!$R$13 + I20*Портфель!$R$13) | L20: 0.1793 | M20: 617.16 | N20: 6.26
A21: SU26240RMFS0 | B21: bond | C21: ОФЗ 26240 | D21: RUR | E21: ВТБ ИИС: 33 шт. | F21: 33 | G21: 57.813 | H21: 1000 | I21: 7.67 | J21: 2036-07-30 | K21: ==F21*((G21/100*H21)*Портфель!$R$13 + I21*Портфель!$R$13) | L21: -0.0314 | M21: 635.3 | N21: 5.92
A22: SU26253RMFS3 | B22: bond | C22: ОФЗ 26253 | D22: RUR | E22: ВТБ ИИС: 20 шт. | F22: 20 | G22: 85.426 | H22: 1000 | I22: 54.14 | J22: 2038-10-06 | K22: ==F22*((G22/100*H22)*Портфель!$R$13 + I22*Портфель!$R$13) | L22: -0.0379 | M22: 1000.6 | N22: 5.57
A23: SU26247RMFS5 | B23: bond | C23: ОФЗ 26247 | D23: RUR | E23: ВТБ ИИС: 18 шт. | F23: 18 | G23: 81.091 | H23: 1000 | I23: 39.27 | J23: 2039-05-11 | K23: ==F23*((G23/100*H23)*Портфель!$R$13 + I23*Портфель!$R$13) | L23: -0.0452 | M23: 939.97 | N23: 4.69
A24: SU26246RMFS7 | B24: bond | C24: ОФЗ 26246 | D24: RUR | E24: ВТБ ИИС: 13 шт. | F24: 13 | G24: 81.865 | H24: 1000 | I24: 59.18 | J24: 2036-03-12 | K24: ==F24*((G24/100*H24)*Портфель!$R$13 + I24*Портфель!$R$13) | L24: -0.0327 | M24: 898.76 | N24: 3.5
A25: SU26248RMFS3 | B25: bond | C25: ОФЗ 26248 | D25: RUR | E25: ВТБ ИИС: 9 шт. | F25: 9 | G25: 80.637 | H25: 1000 | I25: 36.92 | J25: 2040-05-16 | K25: ==F25*((G25/100*H25)*Портфель!$R$13 + I25*Портфель!$R$13) | L25: -0.1095 | M25: 940.84 | N25: 2.32
A26: SU26250RMFS9 | B26: bond | C26: ОФЗ 26250 | D26: RUR | E26: ВТБ ИИС: 9 шт. | F26: 9 | G26: 80.93 | H26: 1000 | I26: 29.26 | J26: 2037-06-10 | K26: ==F26*((G26/100*H26)*Портфель!$R$13 + I26*Портфель!$R$13) | L26: -0.0358 | M26: 922.08 | N26: 2.31
I27: Сумма по облигациям: | K27: ==SUM(K19:K26) | N27: ==K27/K30
A28: RUR | B28: Валюта | C28: Рубль | D28: RUR | F28: 11.92 | G28: 1 | H28: 0 | I28: 0 | K28: ==F28*G28
I29: Сумма по валютам: | K29: ==SUM(K28:K28) | N29: ==K29/K30
I30: Сумма: | K30: ==K12+K18+K27+K29

Sheet XIRR
A1: Дата | B1: Сумма | C1: Примечание | D1: . | E1: .. | F1: d | G1: s | H1: ds
A2: 45096 | B2: 6400 | C2: Зачисление денежных средств | F2: 0 | G2: ==B2 | H2: 0
A3: 45111 | B3: 201.18 | C3: Зачисление денежных средств | F3: ==A3-A2 | G3: ==B3+G2 | H3: ==F3*G2
A4: 45126 | B4: 1768.59 | C4: Зачисление денежных средств | F4: ==A4-A3 | G4: ==B4+G3 | H4: ==F4*G3
A5: 45139 | B5: 1000 | C5: Зачисление денежных средств | F5: ==A5-A4 | G5: ==B5+G4 | H5: ==F5*G4
A6: 45152 | B6: 1200 | C6: Зачисление денежных средств | F6: ==A6-A5 | G6: ==B6+G5 | H6: ==F6*G5
A7: 45160 | B7: 1200 | C7: Зачисление денежных средств | F7: ==A7-A6 | G7: ==B7+G6 | H7: ==F7*G6
A8: 45166 | B8: 2000 | C8: Зачисление денежных средств | F8: ==A8-A7 | G8: ==B8+G7 | H8: ==F8*G7
A9: 45167 | B9: 328.59 | C9: Зачисление денежных средств | F9: ==A9-A8 | G9: ==B9+G8 | H9: ==F9*G8
A10: 45168 | B10: -1.17 | C10: Купон по RU000A0JX0Z8 - ЯНАО-2016 1шт. по 1.17 RUR - налог 0 RUR (данные из БД) | F10: ==A10-A9 | G10: ==B10+G9 | H10: ==F10*G9
A11: 45168 | B11: 3000 | C11: Зачисление денежных средств | F11: ==A11-A10 | G11: ==B11+G10 | H11: ==F11*G10
A12: 45168 | B12: 1.17 | C12: Куп. дох. по обл. Правительство ЯНАО RU35002YML0. Размер куп. на 1 обл. 1.17 руб. НДС не обл. Налог не удерживается. (данные из сделок) | F12: ==A12-A11 | G12: ==B12+G11 | H12: ==F12*G11
A13: 45169 | B13: 10 | C13: Зачисление денежных средств | F13: ==A13-A12 | G13: ==B13+G12 | H13: ==F13*G12
A14: 45187 | B14: -3.56 | C14: Купон по RU000A0JX215 - ХМАО 10 2шт. по 2.28 RUR - налог 1 RUR (данные из БД) | F14: ==A14-A13 | G14: ==B14+G13 | H14: ==F14*G13
... A326: 46283 | B326: -326466.72 | C326: Баланс сейчас | F326: ==A326-A325 | G326: ==B326+G325 | H326: ==F326*G325
B327: ==XIRR(B2:B326,A2:A326) | C327: XIRR | G327: Сред.взвеш.сумм. | H327: ==SUM(I2:H326)/365
B328: ==-SUM(B2:B326) | C328: Полный доход, RUR | G328: Сред.год.дох. | H328: ==B328/H327

Sheet Доходность откр.
B1: SBER | E1: BTBR | H1: RAGR | K1: MOEX | N1: X5 | Q1: GMKN | T1: YDEX | W1: T | Z1: SNGSP | AC1: IRAO | AF1: AKMM | AI1: TMOS | AL1: AKMP | AO1: AKGD | AR1: AKPP | AU1: RU000A10EMU3 | AX1: SU26233RMFS5 | BA1: SU26240RMFS0 | BD1: SU26253RMFS3 | BG1: SU26247RMFS5 | BJ1: SU26246RMFS7 | BM1: SU26248RMFS3 | BP1: SU26250RMFS9
A2: 45096 | B2: 2423.74 | C2: buy | D2: 46129 | E2: 236.12 | F2: buy | G2: 45706 | H2: 211.43 | I2: buy | J2: 45358 | K2: 6238.62 | L2: buy | M2: 45705 | N2: 3461.23 | O2: buy | P2: 45705 | Q2: 1379.09 | R2: buy | S2: 45539 | T2: 3725.86 | U2: buy | V2: 45369 | W2: 6078.04 | X2: buy | Y2: 45370 | Z2: 6198.6 | AA2: buy | AB2: 45096 | AC2: 416.03 | AD2: buy | AE2: 46279 | AF2: 12601.79 | AG2: buy | AH2: 46000 | AI2: 6.29 | AJ2: buy | AK2: 45905 | AL2: 693.22 | AM2: buy | AN2: 46280 | AO2: 257.29 | AP2: buy | AQ2: 46280 | AR2: 142.08 | AS2: buy | AT2: 46104 | AU2: ==41000 | AV2: buy | AW2: 45847 | AX2: ==81989.69 | AY2: buy | AZ2: 46140 | BA2: ==10168.19 | BB2: buy | BC2: 46129 | BD2: ==20011.95 | BE2: buy | BF2: 46129 | BG2: ==6607.68 | BH2: buy | BI2: 46036 | BJ2: ==907.82 | BK2: buy | BL2: 45861 | BM2: ==2736.81 | BN2: buy | BO2: 46129 | BP2: ==7375.02 | BQ2: buy
A3: 45210 | B3: -2611.51 | C3: sell | D3: 46129 | E3: 1444.67 | F3: buy | G3: 45706 | H3: 422.25 | I3: buy | J3: 45366 | K3: -6294.06 | L3: sell | M3: 45706 | N3: 3428.71 | O3: buy | P3: 45706 | Q3: 1360.68 | R3: buy | S3: 45548 | T3: -3906.38 | U3: sell | V3: 45369 | W3: -3046.56 | X3: sell | Y3: 45383 | Z3: 13377.69 | AA3: buy | AB3: 45210 | AC3: -435.73 | AD3: sell | AE3: 46280 | AF3: 9587.7 | AG3: buy | AH3: 46000 | AI3: -6.32 | AJ3: sell | AK3: 45905 | AL3: 6.61 | AM3: buy | AN3: 46645 | AO3: ==-Портфель!K16 | AP3: Стоимость сейчас | AQ3: 46645 | AR3: ==-Портфель!K17 | AS3: Стоимость сейчас | AT3: 46134 | AU3: ==-476.76 | AV3: Купон по RU000A10EMU3 - sГТЛК2P-12 41шт. по 13.36 RUR - налог 71 RUR (данные из БД) | AW3: 45847 | AX3: ==5347.15 | AY3: buy | AZ3: 46140 | BA3: ==635.5 | BB3: buy | BC3: 46134 | BD3: ==-1127.4 | BE3: Купон по SU26253RMFS3 - ОФЗ 26253 20шт. по 64.82 RUR - налог 169 RUR (данные из БД) | BF3: 46130 | BG3: ==8510.7 | BH3: buy | BI3: 46050 | BJ3: ==-913.05 | BK3: sell | BL3: 45866 | BM3: ==-2758.14 | BN3: sell | BO3: 46130 | BP3: ==923.7 | BQ3: buy
A4: 45267 | B4: 2706.16 | C4: buy | D4: 46251 | E4: 119.44 | F4: buy | G4: 45708 | H4: -667.05 | I4: sell | J4: 46000 | K4: 1740.81 | L4: buy | M4: 45715 | N4: 12908.45 | O4: buy | P4: 45707 | Q4: 2692.55 | R4: buy | S4: 46000 | T4: 4310.9 | U4: buy | V4: 45369 | W4: -3047.48 | X4: sell | Y4: 45415 | Z4: -20203.82 | AA4: sell | AB4: 45232 | AC4: 425.13 | AD4: buy | AE4: 46280 | AF4: 177.55 | AG4: buy | AH4: 46178 | AI4: 6.12 | AJ4: buy | AK4: 45908 | AL4: 98.15 | AM4: buy | AO4: ==XIRR(AO2:AO3,AN2:AN3) | AR4: ==XIRR(AR2:AR3,AQ2:AQ3) | AT4: 46164 | AU4: ==-476.76 | AV4: Купон по RU000A10EMU3 - sГТЛК2P-12 41шт. по 13.36 RUR - налог 71 RUR (данные из БД) | AW4: 45868 | AX4: ==-3890.74 | AY4: Купон по SU26233RMFS5 - ОФЗ 26233 147шт. по 30.42 RUR - налог 581 RUR (данные из БД) | AZ4: 46140 | BA4: ==9532.68 | BB4: buy | BC4: 46494 | BD4: ==-Портфель!K22 | BE4: Стоимость сейчас | BF4: 46130 | BG4: ==945.63 | BH4: buy | BI4: 46140 | BJ4: ==10785.41 | BK4: buy | BL4: 46129 | BM4: ==7529.15 | BN4: buy | BO4: 46197 | BP4: ==-468.56 | BQ4: Купон по SU26250RMFS9 - ОФЗ 26250 9шт. по 59.84 RUR - налог 70 RUR (данные из БД)
A5: 45267 | B5: 2645.52 | C5: buy | D5: 46253 | E5: 4559.19 | F5: buy | G5: 45772 | H5: 403.28 | I5: buy | J5: 46016 | K5: -1757.02 | L5: sell | M5: 45715 | N5: 3227.11 | O5: buy | P5: 45708 | Q5: -5530.83 | R5: sell | S5: 46009 | T5: 4399.02 | U5: buy | V5: 45370 | W5: 3157.08 | X5: buy | Y5: 46009 | Z5: 2869.84 | AA5: buy | AB5: 45266 | AC5: 789.03 | AD5: buy | AE5: 46644 | AF5: ==-Портфель!K13 | AG5: Стоимость сейчас | AH5: 46186 | AI5: 48.24 | AJ5: buy | AK5: 45908 | AL5: 1.1 | AM5: buy | AO5: ==-SUM(AO2:AO3) | AP5: Полный доход | AR5: ==-SUM(AR2:AR3) | AS5: Полный доход | AT5: 46194 | AU5: ==-476.76 | AV5: Купон по RU000A10EMU3 - sГТЛК2P-12 41шт. по 13.36 RUR - налог 71 RUR (данные из БД) | AW5: 45868 | AX5: ==4204.77 | AY5: buy | AZ5: 46232 | BA5: ==628.45 | BB5: buy | BD5: ==XIRR(BD2:BD4,BC2:BC4) | BF5: 46169 | BG5: ==-903.36 | BH5: Купон по SU26247RMFS5 - ОФЗ 26247 17шт. по 61.08 RUR - налог 135 RUR (данные из БД) | BI5: 46246 | BJ5: ==898.5 | BK5: buy | BL5: 46169 | BM5: ==938.45 | BN5: buy | BO5: 46494 | BP5: ==-Портфель!K26 | BQ5: Стоимость сейчас
A6: 45271 | B6: 5120.29 | C6: buy | D6: 46253 | E6: 2399.58 | F6: buy | G6: 45804 | H6: 1520.83 | I6: buy | J6: 46080 | K6: 3687.43 | L6: buy | M6: 45715 | N6: 22530.26 | O6: buy | P6: 45717 | Q6: 1395.2 | R6: buy | S6: 46016 | T6: -4483.26 | U6: sell | V6: 45370 | W6: 6336.17 | X6: buy | Y6: 46010 | Z6: -409.38 | AA6: sell | AB6: 45267 | AC6: 389.16 | AD6: buy | AF6: ==XIRR(AF2:AF5,AE2:AE5) | AH6: 46189 | AI6: 11.94 | AJ6: buy | AK6: 45918 | AL6: -802.07 | AM6: sell | AT6: 46224 | AU6: ==-476.76 | AV6: Купон по RU000A10EMU3 - sГТЛК2P-12 41шт. по 13.36 RUR - налог 71 RUR (данные из БД) | AW6: 46009 | AX6: ==-37528.74 | AY6: sell | AZ6: 46246 | BA6: ==-1001.7 | BB6: Купон по SU26240RMFS0 - ОФЗ 26240 33шт. по 34.9 RUR - налог 150 RUR (данные из БД) | BD6: ==-SUM(BD2:BD4) | BE6: Полный доход | BF6: 46265 | BG6: ==855.41 | BH6: buy | BI6: 46401 | BJ6: ==-Портфель!K24 | BK6: Стоимость сейчас | BL6: 46176 | BM6: ==-478.72 | BN6: Купон по SU26248RMFS3 - ОФЗ 26248 9шт. по 61.08 RUR - налог 71 RUR (данные из БД) | BP6: ==XIRR(BP2:BP5,BO2:BO5)
A7: 45351 | B7: 2929.43 | C7: buy | D7: 46253 | E7: 1199.79 | F7: buy | G7: 45844 | H7: -211.78 | I7: sell | J7: 46212 | K7: -340.4 | L7: Дивиденд по MOEX - МосБиржа 20шт. по 19.57 RUR - налог 51 RUR (данные из БД) | M7: 45719 | N7: 45144.56 | O7: buy | P7: 45718 | Q7: 1394.9 | R7: buy | S7: 46114 | T7: 4237.39 | U7: buy | V7: 45370 | W7: -9499.25 | X7: sell | Y7: 46083 | Z7: 1868.27 | AA7: buy | AB7: 45278 | AC7: 797.64 | AD7: buy | AF7: ==-SUM(AF2:AF5) | AG7: Полный доход | AH7: 46209 | AI7: 43.2 | AJ7: buy | AK7: 46006 | AL7: 98.75 | AM7: buy | AT7: 46227 | AU7: ==988.45 | AV7: buy | AW7: 46009 | AX7: ==-15636.97 | AY7: sell | AZ7: 46505 | BA7: ==-Портфель!K21 | BB7: Стоимость сейчас | BF7: 46494 | BG7: ==-Портфель!K23 | BH7: Стоимость сейчас | BJ7: ==XIRR(BJ2:BJ6,BI2:BI6) | BL7: 46283 | BM7: ==-Портфель!K25 | BN7: Стоимость сейчас | BP7: ==-SUM(BP2:BP5) | BQ7: Полный доход
A8: 45352 | B8: 8807.54 | C8: buy | D8: 46253 | E8: 119.98 | F8: buy | G8: 45844 | H8: -529.48 | I8: sell | J8: 46253 | K8: 1532.85 | L8: buy | M8: 45720 | N8: -94816.57 | O8: sell | P8: 45719 | Q8: 5365.88 | R8: buy | S8: 46125 | T8: -4076.24 | U8: sell | V8: 45370 | W8: 12860.29 | X8: buy | Y8: 46104 | Z8: -1404.97 | AA8: sell | AB8: 45281 | AC8: 2796.29 | AD8: buy | AH8: 46209 | AI8: 5.23 | AJ8: buy | AK8: 46006 | AL8: 1.15 | AM8: buy | AT8: 46253 | AU8: ==11917.04 | AV8: buy | AW8: 46009 | AX8: ==-21891.76 | AY8: sell | BA8: ==XIRR(BA2:BA7,AZ2:AZ7) | BG8: ==XIRR(BG2:BG7,BF2:BF7) | BJ8: ==-SUM(BJ2:BJ6) | BK8: Полный доход | BM8: ==XIRR(BM2:BM7,BL2:BL7)
A9: 45356 | B9: 2984.39 | C9: buy | D9: 46253 | E9: 119.98 | F9: buy | G9: 45844 | H9: -529.48 | I9: sell | J9: 46280 | K9: 4576.34 | L9: buy | M9: 45884 | N9: 15105.05 | O9: buy | P9: 45719 | Q9: 8051.22 | R9: buy | S9: 46129 | T9: -4284.07 | U9: sell | V9: 45371 | W9: -12490 | X9: sell | Y9: 46129 | Z9: -2565.52 | AA9: sell | AB9: 45366 | AC9: -5316.64 | AD9: sell | AH9: 46212 | AI9: 139.1 | AJ9: buy | AK9: 46007 | AL9: 197.61 | AM9: buy | AT9: 46254 | AU9: ==-488.12 | AV9: Купон по RU000A10EMU3 - sГТЛК2P-12 42шт. по 13.36 RUR - налог 73 RUR (данные из БД) | AW9: 46009 | AX9: ==-10633.14 | AY9: sell | BA9: ==-SUM(BA2:BA7) | BB9: Полный доход | BG9: ==-SUM(BG2:BG7) | BH9: Полный доход | BM9: ==-SUM(BM2:BM7) | BN9: Полный доход
A10: 45366 | B10: -26639.37 | C10: sell | D10: 46253 | E10: 599.89 | F10: buy | G10: 45844 | H10: -211.85 | I10: sell | J10: 46280 | K10: 7626.24 | L10: buy | M10: 45909 | N10: -14817.58 | O10: sell | P10: 45720 | Q10: -16712.2 | R10: sell | S10: 46232 | T10: 3990.45 | U10: buy | V10: 45371 | W10: 3138.57 | X10: buy | Y10: 46219 | Z10: -7.5 | AA10: Дивиденд по SNGSP - Сургнфгз-п 10шт. по 0.85 RUR - налог 1 RUR (данные из БД) | AB10: 45371 | AC10: 406.92 | AD10: buy | AH10: 46212 | AI10: 5.35 | AJ10: buy | AK10: 46007 | AL10: 2.3 | AM10: buy | AT10: 46254 | AU10: ==989.93 | AV10: buy | AW10: 46009 | AX10: ==-6254.79 | AY10: sell
A11: 45926 | B11: 606.9 | C11: buy | D11: 46253 | E11: 1199.79 | F11: buy | G11: 45844 | H11: -317.78 | I11: sell | J11: 46283 | K11: ==-Портфель!K5 | L11: Стоимость сейчас | M11: 46009 | N11: 2997.4 | O11: buy | P11: 46009 | Q11: 4286.83 | R11: buy | S11: 46251 | T11: 3627.78 | U11: buy | V11: 45371 | W11: -3152.42 | X11: sell | Y11: 46283 | Z11: ==-Портфель!K10 | AA11: Стоимость сейчас | AB11: 45371 | AC11: 406.27 | AD11: buy | AH11: 46222 | AI11: 28.68 | AJ11: buy | AK11: 46008 | AL11: 9.19 | AM11: buy | AT11: 46469 | AU11: ==-Портфель!K19 | AV11: Стоимость сейчас | AW11: 46009 | AX11: ==-4378.35 | AY11: sell
A12: 45988 | B12: 5112.06 | C12: buy | D12: 46253 | E12: 479.92 | F12: buy | G12: 45884 | H12: 1741.31 | I12: buy | K12: ==XIRR(K2:K11,J2:J11) | M12: 46028 | N12: -320 | O12: Дивиденд по X5 - КЦ ИКС 5 1шт. по 368 RUR - налог 48 RUR (данные из БД) | P12: 46140 | Q12: -4048.7 | R12: sell | S12: 46253 | T12: 7456.65 | U12: buy | V12: 45706 | W12: 3481.4 | X12: buy | Z12: ==XIRR(Z2:Z11,Y2:Y11) | AB12: 45380 | AC12: -811.99 | AD12: sell | AH12: 46222 | AI12: 4.78 | AJ12: buy | AK12: 46008 | AL12: 1.15 | AM12: buy | AU12: ==XIRR(AU2:AU11,AT2:AT11) | AW12: 46134 | AX12: ==1243.37 | AY12: buy
A13: 45989 | B13: -5702.41 | C13: sell | D13: 46253 | E13: 359.94 | F13: buy | G13: 45885 | H13: 130.75 | I13: buy | K13: ==-SUM(K2:K11) | L13: Полный доход | M13: 46038 | N13: -2554.45 | O13: sell | P13: 46279 | Q13: 15634.06 | R13: buy | S13: 46283 | T13: ==-Портфель!K8 | U13: Стоимость сейчас | V13: 45706 | W13: 3372.2 | X13: buy | Z13: ==-SUM(Z2:Z11) | AA13: Полный доход | AB13: 46034 | AC13: 319.68 | AD13: buy | AH13: 46239 | AI13: 22.72 | AJ13: buy | AK13: 46009 | AL13: 5.75 | AM13: buy | AU13: ==-SUM(AU2:AU11) | AV13: Полный доход | AW13: 46135 | AX13: ==4359.08 | AY13: buy
A14: 45995 | B14: 302.35 | C14: buy | D14: 46253 | E14: 239.96 | F14: buy | G14: 45896 | H14: -1912.84 | I14: sell | M14: 46125 | N14: 2410.93 | O14: buy | P14: 46283 | Q14: ==-Портфель!K7 | R14: Стоимость сейчас | T14: ==XIRR(T2:T13,S2:S13) | V14: 45708 | W14: -6939.6 | X14: sell | AB14: 46050 | AC14: -360.76 | AD14: sell | AH14: 46239 | AI14: 5.69 | AJ14: buy | AK14: 46010 | AL14: 9.21 | AM14: buy | AW14: 46135 | AX14: ==2482.02 | AY14: buy
A15: 46000 | B15: -305.26 | C15: sell | D15: 46253 | E15: 119.98 | F15: buy | G15: 46014 | H15: 111.95 | I15: buy | M15: 46129 | N15: 2417.44 | O15: buy | Q15: ==XIRR(Q2:Q14,P2:P14) | T15: ==-SUM(T2:T13) | U15: Полный доход | V15: 46000 | W15: 3211.2 | X15: buy | AB15: 46077 | AC15: 332.65 | AD15: buy | AH15: 46247 | AI15: -330.18 | AJ15: sell | AK15: 46013 | AL15: 4.61 | AM15: buy | AW15: 46140 | AX15: ==1847.25 | AY15: buy
A16: 46009 | B16: 17832.25 | C16: buy | D16: 46253 | E16: 3359.41 | F16: buy | G16: 46015 | H16: 111.71 | I16: buy | M16: 46129 | N16: -4821.14 | O16: sell | Q16: ==-SUM(Q2:Q14) | R16: Полный доход | V16: 46007 | W16: -3275 | X16: sell | AB16: 46077 | AC16: 16644.85 | AD16: buy | AH16: 46247 | AI16: 5.64 | AJ16: buy | AK16: 46014 | AL16: 99.07 | AM16: buy | AW16: 46140 | AX16: ==3078.76 | AY16: buy
A17: 46010 | B17: -2114.4 | C17: sell | D17: 46494 | E17: ==-Портфель!K3 | F17: Стоимость сейчас | G17: 46016 | H17: 223.35 | I17: buy | M17: 46174 | N17: 2458.7 | O17: buy | V17: 46009 | W17: 3257.61 | X17: buy | AB17: 46080 | AC17: -16275.84 | AD17: sell | AH17: 46251 | AI17: 68.9 | AJ17: buy | AK17: 46014 | AL17: 1.15 | AM17: buy | AW17: 46140 | AX17: ==4310.26 | AY17: buy
A18: 46014 | B18: 298.13 | C18: buy | E18: ==XIRR(E2:E17,D2:D17) | G18: 46050 | H18: -492.68 | I18: sell | M18: 46210 | N18: -213 | O18: Дивиденд по X5 - КЦ ИКС 5 1шт. по 245 RUR - налог 32 RUR (данные из БД) | V18: 46030 | W18: -31 | X18: Дивиденд по T - Т-Техно ао 1шт. по 36 RUR - налог 5 RUR (данные из БД) | AB18: 46080 | AC18: 982.6 | AD18: buy | AH18: 46259 | AI18: 15.81 | AJ18: buy | AK18: 46020 | AL18: 198.59 | AM18: buy | AW18: 46140 | AX18: ==3078.76 | AY18: buy
A19: 46017 | B19: 905.23 | C19: buy | E19: ==-SUM(E2:E17) | F19: Полный доход | G19: 46078 | H19: 603.55 | I19: buy | M19: 46253 | N19: 1974.97 | O19: buy | V19: 46129 | W19: 978.3 | X19: buy | AB19: 46080 | AC19: 2620.27 | AD19: buy | AH19: 46259 | AI19: 5.27 | AJ19: buy | AK19: 46020 | AL19: 1.15 | AM19: buy | AW19: 46140 | AX19: ==616.03 | AY19: buy
A20: 46057 | B20: 305.17 | C20: buy | G20: 46080 | H20: 3396.13 | I20: buy | M20: 46273 | N20: 5417.65 | O20: buy | V20: 46129 | W20: 326.4 | X20: buy | AB20: 46118 | AC20: 1589.78 | AD20: buy | AH20: 46279 | AI20: 22501.54 | AJ20: buy | AK20: 46020 | AL20: 1.15 | AM20: buy | AW20: 46176 | AX20: ==619.26 | AY20: buy
A21: 46076 | B21: 314.22 | C21: buy | G21: 46090 | H21: 120.29 | I21: buy | M21: 46280 | N21: 7371.61 | O21: buy | V21: 46129 | W21: 326.58 | X21: buy | AB21: 46118 | AC21: 317.96 | AD21: buy | AH21: 46365 | AI21: ==-Портфель!K14 | AJ21: Стоимость сейчас | AK21: 46027 | AL21: 5.79 | AM21: buy | AW21: 46205 | AX21: ==583.13 | AY21: buy
A22: 46076 | B22: 1256.84 | C22: buy | G22: 46093 | H22: 115.76 | I22: buy | M22: 46283 | N22: ==-Портфель!K6 | O22: Стоимость сейчас | V22: 46129 | W22: -3574.33 | X22: sell | AB22: 46182 | AC22: -503.57 | AD22: Дивиденд по IRAO - ИнтерРАОао 1800шт. по 0.32 RUR - налог 75 RUR (данные из БД) | AI22: ==XIRR(AI2:AI21,AH2:AH21) | AK22: 46028 | AL22: 5.79 | AM22: buy | AW22: 46232 | AX22: ==-953.12 | AY22: Купон по SU26233RMFS5 - ОФЗ 26233 36шт. по 30.42 RUR - налог 142 RUR (данные из БД)
A23: 46081 | B23: 628.72 | C23: buy | G23: 46104 | H23: 113.65 | I23: buy | N23: ==XIRR(N2:N22,M2:M22) | V23: 46147 | W23: 618.2 | X23: buy | AB23: 46208 | AC23: 996.89 | AD23: buy | AI23: ==-SUM(AI2:AI21) | AJ23: Полный доход | AK23: 46028 | AL23: 6.95 | AM23: buy | AW23: 46283 | AX23: ==-Портфель!K20 | AY23: Стоимость сейчас
A24: 46081 | B24: 2514.87 | C24: buy | G24: 46132 | H24: 112.74 | I24: buy | N24: ==-SUM(N2:N22) | O24: Полный доход | V24: 46147 | W24: 309.38 | X24: buy | AB24: 46251 | AC24: -5116.89 | AD24: sell | AK24: 46030 | AL24: 19.7 | AM24: buy | AX24: ==XIRR(AX2:AX23,AW2:AW23)
A25: 46082 | B25: 2207.23 | C25: buy | G25: 46143 | H25: 101.35 | I25: buy | V25: 46167 | W25: -27.5 | X25: Дивиденд по T - Т-Техно ао 7шт. по 4.5 RUR - налог 4 RUR (данные из БД) | AB25: 46280 | AC25: 244.87 | AD25: buy | AK25: 46030 | AL25: 1.16 | AM25: buy | AX25: ==-SUM(AX2:AX23) | AY25: Полный доход
A26: 46086 | B26: -314.75 | C26: sell | G26: 46153 | H26: 321.94 | I26: buy | V26: 46178 | W26: 899.28 | X26: buy | AB26: 46283 | AC26: ==-Портфель!K11 | AD26: Стоимость сейчас | AK26: 46031 | AL26: 6.96 | AM26: buy
A27: 46094 | B27: 635.57 | C27: buy | G27: 46160 | H27: 758.61 | I27: buy | V27: 46209 | W27: 3805.8 | X27: buy | AC27: ==XIRR(AC2:AC26,AB2:AB26) | AK27: 46034 | AL27: 23.22 | AM27: buy
A28: 46114 | B28: -315.95 | C28: sell | G28: 46168 | H28: 197.38 | I28: buy | V28: 46209 | W28: 253.58 | X28: buy | AC28: ==-SUM(AC2:AC26) | AD28: Полный доход | AK28: 46035 | AL28: 306.53 | AM28: buy
A29: 46121 | B29: 640.4 | C29: buy | G29: 46168 | H29: 197.62 | I29: buy | V29: 46212 | W29: 254.98 | X29: buy | AK29: 46035 | AL29: 2.32 | AM29: buy
A30: 46122 | B30: 318.81 | C30: buy | G30: 46181 | H30: 102.17 | I30: buy | V30: 46219 | W30: 240.92 | X30: buy | AK30: 46036 | AL30: 109.21 | AM30: buy
A31: 46125 | B31: -316.86 | C31: sell | G31: 46197 | H31: 84.24 | I31: buy | V31: 46239 | W31: 548.72 | X31: buy | AK31: 46036 | AL31: 1.16 | AM31: buy
A32: 46129 | B32: 323.6 | C32: buy | G32: 46197 | H32: 168.48 | I32: buy | V32: 46239 | W32: 274.38 | X32: buy | AK32: 46037 | AL32: 4.65 | AM32: buy
A33: 46129 | B33: -323.62 | C33: sell | G33: 46198 | H33: 78.58 | I33: buy | V33: 46244 | W33: -123.6 | X33: Дивиденд по T - Т-Техно ао 31шт. по 4.6 RUR - налог 19 RUR (данные из БД) | AK33: 46038 | AL33: 6.98 | AM33: buy
A34: 46129 | B34: -323.62 | C34: sell | G34: 46209 | H34: 155.48 | I34: buy | V34: 46247 | W34: 552.68 | X34: buy | AK34: 46041 | AL34: 423.81 | AM34: buy
A35: 46129 | B35: -3236.21 | C35: sell | G35: 46213 | H35: 150.31 | I35: buy | V35: 46251 | W35: 252.86 | X35: buy | AK35: 46041 | AL35: 3.49 | AM35: buy
A36: 46129 | B36: -2265.42 | C36: sell | G36: 46213 | H36: 751.57 | I36: buy | V36: 46269 | W36: 790.68 | X36: buy | AK36: 46043 | AL36: 4.66 | AM36: buy
A37: 46129 | B37: -323.62 | C37: sell | G37: 46213 | H37: 150.31 | I37: buy | V37: 46269 | W37: 263.46 | X37: buy | AK37: 46043 | AL37: 4.66 | AM37: buy
A38: 46129 | B38: -2912.59 | C38: sell | G38: 46219 | H38: 62.71 | I38: buy | V38: 46283 | W38: ==-Портфель!K9 | X38: Стоимость сейчас | AK38: 46044 | AL38: 6.99 | AM38: buy
A39: 46129 | B39: -7766.9 | C39: sell | G39: 46223 | H39: 117.7 | I39: buy | W39: ==XIRR(W2:W38,V2:V38) | AK39: 46045 | AL39: 10.5 | AM39: buy
A40: 46129 | B40: -323.62 | C40: sell | G40: 46223 | H40: 117.02 | I40: buy | W40: ==-SUM(W2:W38) | X40: Полный доход | AK40: 46048 | AL40: 21.02 | AM40: buy
...

Sheet Доходность закр.
B1: GAZP | E1: MAGN | H1: RU000A0JX215 | K1: RU000A0JX0Z8 | N1: RUAL | Q1: SELG | T1: ALRS | W1: UNAC | Z1: LKOH | AC1: ROSN | AF1: NVTK | AI1: SU26227RMFS7 | AL1: CHMF | AO1: AFKS | AR1: PRFN | AU1: VTBR | AX1: SGZH | BA1: MTLR | BD1: AFLT | BG1: LQDT | BJ1: UWGN | BM1: RU000A101QF7 | BP1: TRMK | BS1: RTKMP | BV1: ASTR | BY1: VKCO | CB1: HYDR | CE1: SNGS | CH1: MRKP | CK1: MTLRP | CN1: SBERP | CQ1: RNFT | CT1: SU26238RMFS4 | CW1: ROSB | CZ1: GOLD | DC1: SOFL | DF1: TRNFP | DI1: MTSS | DL1: TATNP | DO1: MDMG | DR1: ABIO | DU1: ROLO | DX1: FLOT | EA1: SPBE | ED1: WUSH | EG1: OGKB | EJ1: ABRD | EM1: UPRO | EP1: TMON | ES1: RU000A10A3Z4 | EV1: RU000A10ATW2 | EY1: RU000A10ASC6 | FB1: RU000A10BGU1 | FE1: RU000A10B933 | FH1: RU000A10AV15 | FK1: RU000A104JQ3 | FN1: RU000A10B9Q9 | FQ1: RU000A10C5L7 | FT1: TLCB | FW1: RU000A10B2J9 | FZ1: TPAY | GC1: RU000A10C6U6 | GF1: RU000A1099W6 | GI1: FLOW | GL1: RU000A10C8H9 | GO1: AKMB | GR1: STME | GU1: OZPH | GX1: RU000A1069P3 | HA1: GLRX | HD1: TATN | HG1: PLZL | HJ1: RTKM | HM1: EQMX | HP1: OZON | HS1: DOMRF | HV1: RU000A1066A1 | HY1: RU000A10CLX3 | IB1: RU000A10DB16 | IE1: SU26252RMFS5 | IH1: ETLN | IK1: TOFZ | IN1: NLMK | IQ1: ELMT | IT1: PRMD | IW1: RENI | IZ1: SBMM | JC1: SFIN
A2: 45096 | B2: 1708.86 | C2: buy | D2: 45096 | E2: 1842.07 | F2: buy | G2: 45128 | H2: 202.88 | I2: buy | J2: 45128 | K2: 51.19 | L2: buy | M2: 45139 | N2: 879.54 | O2: buy | P2: 45152 | Q2: 795.14 | R2: buy | S2: 45160 | T2: 851.09 | U2: buy | V2: 45166 | W2: 1710.86 | X2: buy | Y2: 45167 | Z2: 6746.89 | AA2: buy | AB2: 45168 | AC2: 2778.72 | AD2: buy | AE2: 45211 | AF2: 18662.12 | AG2: buy | AH2: 45215 | AI2: 18748.08 | AJ2: buy | AK2: 45266 | AL2: 3774.02 | AM2: buy | AN2: 45267 | AO2: 1564.48 | AP2: buy | AQ2: 45267 | AR2: 1066.85 | AS2: buy | AT2: 45267 | AU2: 1111.14 | AV2: buy | AW2: 45267 | AX2: 389.01 | AY2: buy | AZ2: 45267 | BA2: 1382.89 | BB2: buy | BC2: 45273 | BD2: 708.96 | BE2: buy | BF2: 45273 | BG2: 1310.8 | BH2: buy | BI2: 45274 | BJ2: 164.13 | BK2: buy | BL2: 45275 | BM2: 711.59 | BN2: buy | BO2: 45285 | BP2: 4071.25 | BQ2: buy | BR2: 45285 | BS2: 1914.03 | BT2: buy | BU2: 45324 | BV2: 549.48 | BW2: buy | BX2: 45324 | BY2: 3409.72 | BZ2: buy | CA2: 45362 | CB2: 7770.88 | CC2: buy | CD2: 45366 | CE2: 5855.69 | CF2: buy | CG2: 45366 | CH2: 3264.61 | CI2: buy | CJ2: 45366 | CK2: 6764.41 | CL2: buy | CM2: 45366 | CN2: 5983.78 | CO2: buy | CP2: 45370 | CQ2: 3747 | CR2: buy | CS2: 45371 | CT2: 2496.1 | CU2: buy | CV2: 45372 | CW2: 9499.6 | CX2: buy | CY2: 45373 | CZ2: 162.98 | DA2: buy | DB2: 45383 | DC2: 1651.32 | DD2: buy | DE2: 45384 | DF2: 1643.31 | DG2: buy | DH2: 45407 | DI2: 30829.64 | DJ2: buy | DK2: 45447 | DL2: 16938.54 | DM2: buy | DN2: 45460 | DO2: 2145.71 | DP2: buy | DQ2: 45460 | DR2: 2881.71 | DS2: buy | DT2: 45540 | DU2: 3345.68 | DV2: buy | DW2: 45705 | DX2: 1050.53 | DY2: buy | DZ2: 45706 | EA2: 277.04 | EB2: buy | EC2: 45707 | ED2: 194.93 | EE2: buy | EF2: 45707 | EG2: 394.4 | EH2: buy | EI2: 45720 | EJ2: 11521.76 | EK2: buy | EL2: 45722 | EM2: -2218.89 | EN2: sell | EO2: 45727 | EP2: 779.64 | EQ2: buy | ER2: 45861 | ES2: 2339.22 | ET2: buy | EU2: 45861 | EV2: 2208.36 | EW2: buy | EX2: 45861 | EY2: 2297.96 | EZ2: buy | FA2: 45861 | FB2: 2146 | FC2: buy | FD2: 45861 | FE2: 2194.06 | FF2: buy | FG2: 45861 | FH2: 1082.61 | FI2: buy | FJ2: 45861 | FK2: 1183.41 | FL2: buy | FM2: 45861 | FN2: 1135.98 | FO2: buy | FP2: 45861 | FQ2: 1004.74 | FR2: buy | FS2: 45861 | FT2: 526.5 | FU2: buy | FV2: 45861 | FW2: 1062.5 | FX2: buy | FY2: 45866 | FZ2: 3034.5 | GA2: buy | GB2: 45881 | GC2: 11262.37 | GD2: buy | GE2: 45896 | GF2: 2010.36 | GG2: buy | GH2: 45896 | GI2: 5120.53 | GJ2: buy | GK2: 45909 | GL2: 9186.09 | GM2: buy | GN2: 45911 | GO2: 3.63 | GP2: buy | GQ2: 45939 | GR2: 120.93 | GS2: buy | GT2: 45991 | GU2: 509.7 | GV2: buy | GW2: 46000 | GX2: 980.91 | GY2: buy | GZ2: 46007 | HA2: 64.56 | HB2: buy | HC2: 46009 | HD2: 4185.14 | HE2: buy | HF2: 46009 | HG2: 4597.68 | HH2: buy | HI2: 46009 | HJ2: 3216.07 | HK2: buy | HL2: 46009 | HM2: 12883.62 | HN2: buy | HO2: 46010 | HP2: 4238.89 | HQ2: buy | HR2: 46010 | HS2: 3610.88 | HT2: buy | HU2: 46016 | HV2: 716.29 | HW2: buy | HX2: 46016 | HY2: 669.76 | HZ2: buy | IA2: 46016 | IB2: 991.05 | IC2: buy | ID2: 46036 | IE2: 937.37 | IF2: buy | IG2: 46044 | IH2: 38.7 | II2: buy | IJ2: 46050 | IK2: 40.62 | IL2: buy | IM2: 46077 | IN2: 1121.49 | IO2: buy | IP2: 46090 | IQ2: 138.78 | IR2: buy | IS2: 46104 | IT2: 413.09 | IU2: buy | IV2: 46104 | IW2: 904.97 | IX2: buy | IY2: 46128 | IZ2: 219.69 | JA2: buy | JB2: 46132 | JC2: 981.28 | JD2: buy
A3: 45127 | B3: 1723.76 | C3: buy | D3: 45167 | E3: -1079.43 | F3: sell | G3: 45187 | H3: -3.56 | I3: Купон по RU000A0JX215 - ХМАО 10 2шт. по 2.28 RUR - налог 1 RUR (данные из БД) | J3: 45168 | K3: -1.17 | L3: Купон по RU000A0JX0Z8 - ЯНАО-2016 1шт. по 1.17 RUR - налог 0 RUR (данные из БД) | M3: 45167 | N3: -829.63 | O3: sell | P3: 45210 | Q3: -785.87 | R3: sell | S3: 45167 | T3: -827.84 | U3: sell | V3: 45167 | W3: -2342.63 | X3: sell | Y3: 45210 | Z3: -6922.54 | AA3: sell | AB3: 45168 | AC3: 1111.39 | AD3: buy | AE3: 45211 | AF3: -18692.85 | AG3: sell | AH3: 45308 | AI3: -610.1 | AJ3: Купон по SU26227RMFS7 - ОФЗ 26227 19шт. по 36.9 RUR - налог 91 RUR (данные из БД) | AK3: 45324 | AL3: -4899.27 | AM3: sell | AN3: 45356 | AO3: -1850.01 | AP3: sell | AQ3: 45267 | AR3: 990.8 | AS3: buy | AT3: 45317 | AU3: -1222.77 | AV3: sell | AW3: 45288 | AX3: 1130.36 | AY3: buy | AZ3: 45267 | BA3: 552.08 | BB3: buy | BC3: 45278 | BD3: 745.39 | BE3: buy | BF3: 45315 | BG3: 61.37 | BH3: buy | BI3: 45278 | BJ3: -168.42 | BK3: sell | BL3: 45275 | BM3: 1423.18 | BN3: buy | BO3: 45288 | BP3: 1985.98 | BQ3: buy | BR3: 45356 | BS3: -2360.61 | BT3: sell | BU3: 45324 | BV3: 549.48 | BW3: buy | BX3: 45351 | BY3: 3261.61 | BZ3: buy | CA3: 45366 | CB3: 1500.55 | CC3: buy | CD3: 45370 | CE3: -5927.25 | CF3: sell | CG3: 45366 | CH3: 3264.61 | CI3: buy | CJ3: 45369 | CK3: -6534.77 | CL3: sell | CM3: 45371 | CN3: 2961.47 | CO3: buy | CP3: 45370 | CQ3: -3710.14 | CR3: sell | CS3: 45371 | CT3: 21854.45 | CU3: buy | CV3: 45372 | CW3: -9134.68 | CX3: sell | CY3: 45380 | CZ3: 547.68 | DA3: buy | DB3: 45384 | DC3: -1643.29 | DD3: sell | DE3: 45385 | DF3: -1632.19 | DG3: sell | DH3: 45444 | DI3: -2830.23 | DJ3: sell | DK3: 45460 | DL3: -677.86 | DM3: sell | DN3: 45460 | DO3: 3218.57 | DP3: buy | DQ3: 45460 | DR3: 1920.56 | DS3: buy | DT3: 45554 | DU3: -2813.74 | DV3: sell | DW3: 45706 | DX3: 1043.62 | DY3: buy | DZ3: 45706 | EA3: 253.63 | EB3: buy | EC3: 45711 | ED3: -198.7 | EE3: sell | EF3: 45708 | EG3: -399.7 | EH3: sell | EI3: 45720 | EJ3: 11403.7 | EK3: buy | EL3: 45722 | EM3: 4436.22 | EN3: buy | EO3: 45801 | EP3: -677.1 | EQ3: sell | ER3: 45866 | ES3: -2388.67 | ET3: sell | EU3: 45866 | EV3: -33.96 | EW3: Купон по RU000A10ATW2 - БалтЛизП15 2шт. по 19.48 RUR - налог 5 RUR (данные из БД) | EX3: 45866 | EY3: -2306 | EZ3: sell | FA3: 45881 | FB3: -2203.55 | FC3: sell | FD3: 45861 | FE3: -2196.66 | FF3: sell | FG3: 45881 | FH3: -17.75 | FI3: Купон по RU000A10AV15 - ВИС Ф БП07 1шт. по 20.75 RUR - налог 3 RUR (данные из БД) | FJ3: 45881 | FK3: -112.64 | FL3: Купон по RU000A104JQ3 - СамолетP11 1шт. по 129.64 RUR - налог 17 RUR (данные из БД) | FM3: 45876 | FN3: -17.96 | FO3: Купон по RU000A10B9Q9 - ГЛОРАКС1Р4 1шт. по 20.96 RUR - налог 3 RUR (данные из БД) | FP3: 45861 | FQ3: 1002.54 | FR3: buy | FS3: 45861 | FT3: -527.04 | FU3: sell | FV3: 45879 | FW3: -17.55 | FX3: Купон по RU000A10B2J9 - О'КЕЙ Б1Р7 1шт. по 20.55 RUR - налог 3 RUR (данные из БД) | FY3: 45866 | FZ3: 2427.6 | GA3: buy | GB3: 45896 | GC3: -182.6 | GD3: Купон по RU000A10C6U6 - МГКЛ-1P8 10шт. по 20.96 RUR - налог 27 RUR (данные из БД) | GE3: 45896 | GF3: 1004.68 | GG3: buy | GH3: 45898 | GI3: -40.65 | GJ3: Дивиденд по FLOW - FLOW ETF 5шт. по 9.33 RUR - налог 6 RUR (данные из БД) | GK3: 45918 | GL3: -9340.81 | GM3: sell | GN3: 45915 | GO3: 99.7 | GP3: buy | GQ3: 45940 | GR3: 60.17 | GS3: buy | GT3: 46001 | GU3: -509.67 | GV3: sell | GW3: 46027 | GX3: -987.41 | GY3: sell | GZ3: 46007 | HA3: 64.3 | HB3: buy | HC3: 46010 | HD3: -594.72 | HE3: sell | HF3: 46010 | HG3: -2306.36 | HH3: sell | HI3: 46010 | HJ3: 647.51 | HK3: buy | HL3: 46010 | HM3: 3419.49 | HN3: buy | HO3: 46013 | HP3: -124.55 | HQ3: Дивиденд по OZON - Озон 1шт. по 143.55 RUR - налог 19 RUR (данные из БД) | HR3: 46129 | HS3: -2250.89 | HT3: sell | HU3: 46016 | HV3: 715.99 | HW3: buy | HX3: 46018 | HY3: -13.21 | HZ3: Купон по RU000A10CLX3 - УралСт1Р05 1шт. по 15.21 RUR - налог 2 RUR (данные из БД) | IA3: 46019 | IB3: -20.84 | IC3: Купон по RU000A10DB16 - ОилРес1P3 1шт. по 23.84 RUR - налог 3 RUR (данные из БД) | ID3: 46050 | IE3: -943.55 | IF3: sell | IG3: 46048 | IH3: -42.18 | II3: sell | IJ3: 46062 | IK3: 459.34 | IL3: buy | IM3: 46077 | IN3: 2202.07 | IO3: buy | IP3: 46128 | IQ3: -142.23 | IR3: sell | IS3: 46104 | IT3: 412.34 | IU3: buy | IV3: 46251 | IW3: -711.05 | IX3: sell | IY3: 46140 | IZ3: 24719.08 | JA3: buy | JB3: 46157 | JC3: -150 | JD3: Дивиденд по SFIN - ЭсЭфАй ао 1шт. по 172 RUR - налог 22 RUR (данные из БД)
A4: 45210 | B4: -3352.91 | C4: sell | D4: 45167 | E4: -1079.43 | F4: sell | G4: 45278 | H4: -3.56 | I4: Купон по RU000A0JX215 - ХМАО 10 2шт. по 2.28 RUR - налог 1 RUR (данные из БД) | J4: 45266 | K4: -1.26 | L4: Купон по RU000A0JX0Z8 - ЯНАО-2016 1шт. по 1.26 RUR - налог 0 RUR (данные из БД) | M4: 45273 | N4: 351.53 | O4: buy | P4: 46047 | Q4: 522.77 | R4: buy | S4: 45210 | T4: 757.98 | U4: buy | V4: 45539 | W4: 3245.09 | X4: buy | Y4: 45210 | Z4: 6965.57 | AA4: buy | AB4: 45208 | AC4: 1082.93 | AD4: buy | AE4: 45314 | AF4: 5784.63 | AG4: buy | AH4: 45371 | AI4: -18827.62 | AJ4: sell | AK4: 45447 | AL4: 27375.89 | AM4: buy | AO4: ==XIRR(AO2:AO3,AN2:AN3) | AQ4: 45308 | AR4: -668.46 | AS4: sell | AT4: 45366 | AU4: 6957.48 | AV4: buy | AW4: 45288 | AX4: 376.79 | AY4: buy | AZ4: 45268 | BA4: 274.9 | BB4: buy | BC4: 45285 | BD4: 1426.34 | BE4: buy | BF4: 45327 | BG4: 495.91 | BH4: buy | BI4: 45314 | BJ4: 3253.4 | BK4: buy | BL4: 45350 | BM4: -46.01 | BN4: Купон по RU000A101QF7 - РитйлБФ1P1 3шт. по 17.67 RUR - налог 7 RUR (данные из БД) | BO4: 45288 | BP4: 1985.78 | BQ4: buy | BR4: 45370 | BS4: 775.62 | BT4: buy | BU4: 45327 | BV4: 4431.93 | BW4: buy | BX4: 45370 | BY4: -6454.84 | BZ4: sell | CA4: 45369 | CB4: 748.8 | CC4: buy | CE4: ==XIRR(CE2:CE3,CD2:CD3) | CG4: 45372 | CH4: 19479.57 | CI4: buy | CK4: ==XIRR(CK2:CK3,CJ2:CJ3) | CM4: 45444 | CN4: -3125.1 | CO4: sell | CQ4: ==XIRR(CQ2:CQ3,CP2:CP3) | CS4: 45372 | CT4: -24269.22 | CU4: sell | CW4: ==XIRR(CW2:CW3,CV2:CV3) | CY4: 45380 | CZ4: -714.36 | DA4: sell | DB4: 45707 | DC4: 1213.61 | DD4: buy | DE4: 46057 | DF4: 4254.4 | DG4: buy | DH4: 45444 | DI4: -25467.61 | DJ4: sell | DK4: 45460 | DL4: -16263.77 | DM4: sell | DN4: 45460 | DO4: 6428.74 | DP4: buy | DQ4: 45504 | DR4: 855.69 | DS4: buy | DT4: 45554 | DU4: -703.65 | DV4: sell | DW4: 45706 | DX4: 1017.01 | DY4: buy | DZ4: 45706 | EA4: 507.05 | EB4: buy | ED4: ==XIRR(ED2:ED3,EC2:EC3) | EG4: ==XIRR(EG2:EG3,EF2:EF3) | EI4: 45720 | EJ4: 22815.4 | EK4: buy | EL4: 45722 | EM4: -8851.57 | EN4: sell | EO4: 45801 | EP4: -135.42 | EQ4: sell | ES4: ==XIRR(ES2:ES3,ER2:ER3) | EU4: 45881 | EV4: -2195.29 | EW4: sell | EY4: ==XIRR(EY2:EY3,EX2:EX3) | FB4: ==XIRR(FB2:FB3,FA2:FA3) | FE4: ==XIRR(FE2:FE3,FD2:FD3) | FG4: 45881 | FH4: -1078.75 | FI4: sell | FJ4: 45881 | FK4: -1087.17 | FL4: sell | FM4: 45881 | FN4: -1131.43 | FO4: sell | FP4: 45881 | FQ4: -2068.88 | FR4: sell | FT4: ==XIRR(FT2:FT3,FS2:FS3) | FV4: 45881 | FW4: -1069.02 | FX4: sell | FY4: 45866 | FZ4: 2730.78 | GA4: buy | GB4: 45918 | GC4: -11414.07 | GD4: sell | GE4: 45909 | GF4: 1017.47 | GG4: buy | GH4: 45930 | GI4: -46.6 | GJ4: Дивиденд по FLOW - FLOW ETF 5шт. по 10.72 RUR - налог 7 RUR (данные из БД) | GL4: ==XIRR(GL2:GL3,GK2:GK3) | GN4: 45918 | GO4: -102.58 | GP4: sell | GQ4: 45979 | GR4: 43.8 | GS4: buy | GU4: ==XIRR(GU2:GU3,GT2:GT3) | GX4: ==XIRR(GX2:GX3,GW2:GW3) | GZ4: 46009 | HA4: 63.61 | HB4: buy | HC4: 46017 | HD4: 575.36 | HE4: buy | HF4: 46013 | HG4: -31 | HH4: Дивиденд по PLZL - Полюс 1шт. по 36 RUR - налог 5 RUR (данные из БД) | HI4: 46017 | HJ4: 636.91 | HK4: buy | HL4: 46017 | HM4: -4203.66 | HN4: sell | HO4: 46129 | HP4: -4365.82 | HQ4: sell | HR4: 46129 | HS4: -2250.89 | HT4: sell | HU4: 46016 | HV4: 9946.58 | HW4: buy | HX4: 46017 | HY4: -745.64 | HZ4: sell | IA4: 46027 | IB4: -1000.95 | IC4: sell | IE4: ==XIRR(IE2:IE3,ID2:ID3) | IH4: ==XIRR(IH2:IH3,IG2:IG3) | IJ4: 46091 | IK4: 41.52 | IL4: buy | IM4: 46104 | IN4: 1016.63 | IO4: buy | IQ4: ==XIRR(IQ2:IQ3,IP2:IP3) | IS4: 46251 | IT4: -708.25 | IU4: sell | IW4: ==XIRR(IW2:IW3,IV2:IV3) | IY4: 46140 | IZ4: 275.89 | JA4: buy | JB4: 46225 | JC4: 459.63 | JD4: buy
A5: 45211 | B5: 18599.37 | C5: buy | D5: 45371 | E5: 545.98 | F5: buy | G5: 45277 | H5: -200 | I5: Амортизация ХМАО 10: 2 шт. по 100 RUR. (данные из БД) | J5: 45265 | K5: -50 | L5: Амортизация ЯНАО-2016: 1 шт. по 50 RUR. (данные из БД) | M5: 45279 | N5: -353.26 | O5: sell | P5: 46076 | Q5: -575.35 | R5: sell | S5: 45210 | T5: 2289.92 | U5: buy | V5: 45539 | W5: 1297.04 | X5: buy | Y5: 45210 | Z5: -6904.55 | AA5: sell | AB5: 45210 | AC5: -4874.55 | AD5: sell | AE5: 45351 | AF5: -5375.69 | AG5: sell | AI5: ==XIRR(AI2:AI4,AH2:AH4) | AK5: 45461 | AL5: -499.5 | AM5: Дивиденд по CHMF - СевСт-ао 15шт. по 38.3 RUR - налог 75 RUR (данные из БД) | AO5: ==-SUM(AO2:AO3) | AP5: Полный доход | AQ5: 45309 | AR5: -2017.98 | AS5: sell | AT5: 45370 | AU5: -6849.52 | AV5: sell | AW5: 45288 | AX5: 1111.19 | AY5: buy | AZ5: 45314 | BA5: -2464.61 | BB5: sell | BC5: 45310 | BD5: -3002.4 | BE5: sell | BF5: 45357 | BG5: -1922.36 | BH5: sell | BI5: 45327 | BJ5: -2917.37 | BK5: sell | BL5: 45383 | BM5: -722.91 | BN5: sell | BO5: 45352 | BP5: -2180.05 | BQ5: sell | BR5: 45370 | BS5: 772.12 | BT5: buy | BU5: 45327 | BV5: 2786.98 | BW5: buy | BX5: 45371 | BY5: 2511.66 | BZ5: buy | CA5: 45370 | CB5: 2230.47 | CC5: buy | CE5: ==-SUM(CE2:CE3) | CF5: Полный доход | CG5: 45372 | CH5: 3245.62 | CI5: buy | CK5: ==-SUM(CK2:CK3) | CL5: Полный доход | CM5: 45444 | CN5: -6252.07 | CO5: sell | CQ5: ==-SUM(CQ2:CQ3) | CR5: Полный доход | CS5: 45868 | CT5: 4268.46 | CU5: buy | CW5: ==-SUM(CW2:CW3) | CX5: Полный доход | CY5: 45867 | CZ5: 442.24 | DA5: buy | DB5: 45708 | DC5: -1226.79 | DD5: sell | DE5: 46078 | DF5: 2847.22 | DG5: buy | DH5: 45447 | DI5: 29333.46 | DJ5: buy | DL5: ==XIRR(DL2:DL4,DK2:DK4) | DN5: 45460 | DO5: -3170.86 | DP5: sell | DQ5: 45504 | DR5: 1714.18 | DS5: buy | DU5: ==XIRR(DU2:DU4,DT2:DT4) | DW5: 45706 | DX5: 1017.01 | DY5: buy | DZ5: 45708 | EA5: 1052.13 | EB5: buy | ED5: ==-SUM(ED2:ED3) | EE5: Полный доход | EG5: ==-SUM(EG2:EG3) | EH5: Полный доход | EI5: 45720 | EJ5: 45142.56 | EK5: buy | EL5: 45722 | EM5: -8855.57 | EN5: sell | EO5: 45861 | EP5: 139.52 | EQ5: buy | ES5: ==-SUM(ES2:ES3) | ET5: Полный доход | EV5: ==XIRR(EV2:EV4,EU2:EU4) | EY5: ==-SUM(EY2:EY3) | EZ5: Полный доход | FB5: ==-SUM(FB2:FB3) | FC5: Полный доход | FE5: ==-SUM(FE2:FE3) | FF5: Полный доход | FH5: ==XIRR(FH2:FH4,FG2:FG4) | FK5: ==XIRR(FK2:FK4,FJ2:FJ4) | FN5: ==XIRR(FN2:FN4,FM2:FM4) | FQ5: ==XIRR(FQ2:FQ4,FP2:FP4) | FT5: ==-SUM(FT2:FT3) | FU5: Полный доход | FW5: ==XIRR(FW2:FW4,FV2:FV4) | FY5: 45867 | FZ5: 101.17 | GA5: buy | GC5: ==XIRR(GC2:GC4,GB2:GB4) | GE5: 45918 | GF5: -1026.64 | GG5: sell | GH5: 45961 | GI5: -44.25 | GJ5: Дивиденд по FLOW - FLOW ETF 5шт. по 10.25 RUR - налог 7 RUR (данные из БД) | GL5: ==-SUM(GL2:GL3) | GM5: Полный доход | GN5: 45954 | GO5: 98.97 | GP5: buy | GQ5: 45989 | GR5: -223.16 | GS5: sell | GU5: ==-SUM(GU2:GU3) | GV5: Полный доход | GX5: ==-SUM(GX2:GX3) | GY5: Полный доход | GZ5: 46009 | HA5: 63.61 | HB5: buy | HC5: 46033 | HD5: -49.91 | HE5: Дивиденд по TATN - Татнфт 3ао 7шт. по 8.13 RUR - налог 7 RUR (данные из БД) | HF5: 46086 | HG5: 2478.59 | HH5: buy | HI5: 46086 | HJ5: -607.82 | HK5: sell | HL5: 46038 | HM5: 141.48 | HN5: buy | HP5: ==XIRR(HP2:HP4,HO2:HO4) | HS5: ==XIRR(HS2:HS4,HR2:HR4) | HU5: 46016 | HV5: -11723.5 | HW5: sell | HY5: ==XIRR(HY2:HY4,HX2:HX4) | IB5: ==XIRR(IB2:IB4,IA2:IA4) | IE5: ==-SUM(IE2:IE3) | IF5: Полный доход | IH5: ==-SUM(IH2:IH3) | II5: Полный доход | IJ5: 46099 | IK5: -560.4 | IL5: sell | IM5: 46125 | IN5: 954.67 | IO5: buy | IQ5: ==-SUM(IQ2:IQ3) | IR5: Полный доход | IT5: ==XIRR(IT2:IT4,IS2:IS4) | IW5: ==-SUM(IW2:IW3) | IX5: Полный доход | IY5: 46154 | IZ5: 184.9 | JA5: buy | JB5: 46227 | JC5: 874.03 | JD5: buy
A6: 45211 | B6: -18588.4 | C6: sell | D6: 45376 | E6: -555.6 | F6: sell | H6: ==XIRR(H2:H5,G2:G5) | K6: ==XIRR(K2:K5,J2:J5) | M6: 45317 | N6: 1047.68 | O6: buy | Q6: ==XIRR(Q2:Q5,P2:P5) | S6: 45210 | T6: -3036.37 | U6: sell | V6: 45540 | W6: 9960.47 | X6: buy | Y6: 45275 | Z6: 6406.2 | AA6: buy | AB6: 46009 | AC6: 2073.91 | AD6: buy | AE6: 45539 | AF6: 1936.35 | AG6: buy | AI6: ==-SUM(AI2:AI4) | AJ6: Полный доход | AK6: 45461 | AL6: -2499.65 | AM6: Дивиденд по CHMF - СевСт-ао 15шт. по 191.51 RUR - налог 373 RUR (данные из БД) | AR6: ==XIRR(AR2:AR5,AQ2:AQ5) | AT6: 45476 | AU6: 205.27 | AV6: buy | AW6: 45362 | AX6: -3243.01 | AY6: sell | BA6: ==XIRR(BA2:BA5,AZ2:AZ5) | BD6: ==XIRR(BD2:BD5,BC2:BC5) | BF6: 45385 | BG6: 1854.36 | BH6: buy | BJ6: ==XIRR(BJ2:BJ5,BI2:BI5) | BL6: 45383 | BM6: -1445.82 | BN6: sell | BO6: 45352 | BP6: -6540.33 | BQ6: sell | BR6: 45373 | BS6: 3150.51 | BT6: buy | BU6: 45384 | BV6: -681.6 | BW6: sell | BX6: 45372 | BY6: -1258.97 | BZ6: sell | CA6: 45371 | CB6: -10869.29 | CC6: sell | CG6: 45407 | CH6: -17925.65 | CI6: sell | CM6: 45447 | CN6: 12584.06 | CO6: buy | CS6: 45868 | CT6: 610.17 | CU6: buy | CY6: 45868 | CZ6: 266.57 | DA6: buy | DC6: ==XIRR(DC2:DC5,DB2:DB5) | DE6: 46080 | DF6: 1429.82 | DG6: buy | DH6: 45476 | DI6: -20626.49 | DJ6: sell | DL6: ==-SUM(DL2:DL4) | DM6: Полный доход | DN6: 45460 | DO6: -8455.63 | DP6: sell | DQ6: 45527 | DR6: -761.5 | DS6: sell | DU6: ==-SUM(DU2:DU4) | DV6: Полный доход | DW6: 45709 | DX6: -4168.1 | DY6: sell | DZ6: 45708 | EA6: 2070.64 | EB6: buy | EI6: 45720 | EJ6: 90525.24 | EK6: buy | EL6: 45722 | EM6: -15497.25 | EN6: sell | EO6: 45861 | EP6: -139.51 | EQ6: sell | EV6: ==-SUM(EV2:EV4) | EW6: Полный доход | FH6: ==-SUM(FH2:FH4) | FI6: Полный доход | FK6: ==-SUM(FK2:FK4) | FL6: Полный доход | FN6: ==-SUM(FN2:FN4) | FO6: Полный доход | FQ6: ==-SUM(FQ2:FQ4) | FR6: Полный доход | FW6: ==-SUM(FW2:FW4) | FX6: Полный доход | FY6: 45868 | FZ6: 2027.2 | GA6: buy | GC6: ==-SUM(GC2:GC4) | GD6: Полный доход | GE6: 45918 | GF6: -3074.61 | GG6: sell | GH6: 45988 | GI6: -5139 | GJ6: sell | GN6: 45958 | GO6: 198.25 | GP6: buy | GR6: ==XIRR(GR2:GR5,GQ2:GQ5) | GZ6: 46014 | HA6: 59.11 | HB6: buy | HC6: 46038 | HD6: -558.45 | HE6: sell | HF6: 46140 | HG6: -4322.6 | HH6: sell | HI6: 46086 | HJ6: -3646.28 | HK6: sell | HL6: 46044 | HM6: 717.89 | HN6: buy | HP6: ==-SUM(HP2:HP4) | HQ6: Полный доход | HS6: ==-SUM(HS2:HS4) | HT6: Полный доход | HU6: 46016 | HV6: 6643.77 | HW6: buy | HY6: ==-SUM(HY2:HY4) | HZ6: Полный доход | IB6: ==-SUM(IB2:IB4) | IC6: Полный доход | IJ6: 46178 | IK6: 42.81 | IL6: buy | IM6: 46168 | IN6: 810.2 | IO6: buy | IT6: ==-SUM(IT2:IT4) | IU6: Полный доход | IY6: 46174 | IZ6: -25726.65 | JA6: sell | JB6: 46239 | JC6: -2538.76 | JD6: sell
A7: 45266 | B7: 3211.36 | C7: buy | D7: 45460 | E7: 551.75 | F7: buy | H7: ==-SUM(H2:H5) | I7: Полный доход | K7: ==-SUM(K2:K5) | L7: Полный доход | M7: 45351 | N7: -1050.66 | O7: sell | Q7: ==-SUM(Q2:Q5) | R7: Полный доход | S7: 45211 | T7: 18809.4 | U7: buy | V7: 45540 | W7: 11628.79 | X7: buy | Y7: 45357 | Z7: -7522.74 | AA7: sell | AB7: 46010 | AC7: -2069.59 | AD7: sell | AE7: 45554 | AF7: -2003.8 | AG7: sell | AK7: 45527 | AL7: -18740.62 | AM7: sell | AR7: ==-SUM(AR2:AR5) | AS7: Полный доход | AT7: 45527 | AU7: -188.66 | AV7: sell | AW7: 45373 | AX7: 755.21 | AY7: buy | BA7: ==-SUM(BA2:BA5) | BB7: Полный доход | BD7: ==-SUM(BD2:BD5) | BE7: Полный доход | BF7: 45386 | BG7: 98.94 | BH7: buy | BJ7: ==-SUM(BJ2:BJ5) | BK7: Полный доход | BM7: ==XIRR(BM2:BM6,BL2:BL6) | BO7: 45366 | BP7: 4367.49 | BQ7: buy | BR7: 45384 | BS7: 856.19 | BT7: buy | BU7: 45384 | BV7: -9541.76 | BW7: sell | BX7: 45372 | BY7: -1258.97 | BZ7: sell | CA7: 45371 | CB7: -724.62 | CC7: sell | CG7: 45407 | CH7: -14344.82 | CI7: sell | CM7: 45476 | CN7: 16486.18 | CO7: buy | CS7: 45876 | CT7: -4891.04 | CU7: sell | CY7: 46009 | CZ7: 3984.5 | DA7: buy | DC7: ==-SUM(DC2:DC5) | DD7: Полный доход | DE7: 46140 | DF7: -1369.33 | DG7: sell | DH7: 45476 | DI7: -5893.28 | DJ7: sell | DN7: 45540 | DO7: 4149.57 | DP7: buy | DQ7: 45527 | DR7: -761.5 | DS7: sell | DW7: 45722 | DX7: 962.78 | DY7: buy | DZ7: 45708 | EA7: 3929.97 | EB7: buy | EI7: 45721 | EJ7: 22171.08 | EK7: buy | EL7: 45722 | EM7: -22218.88 | EN7: sell | EO7: 45861 | EP7: 1813.76 | EQ7: buy | FY7: 45869 | FZ7: -146.3 | GA7: Дивиденд по TPAY - TPAY ETF 102шт. по 1.65 RUR - налог 22 RUR (данные из БД) | GF7: ==XIRR(GF2:GF6,GE2:GE6) | GI7: ==XIRR(GI2:GI6,GH2:GH6) | GN7: 45958 | GO7: 1.79 | GP7: buy | GR7: ==-SUM(GR2:GR5) | GS7: Полный доход | GZ7: 46015 | HA7: 60.05 | HB7: buy | HC7: 46044 | HD7: 563.15 | HE7: buy | HG7: ==XIRR(HG2:HG6,HF2:HF6) | HJ7: ==XIRR(HJ2:HJ6,HI2:HI6) | HL7: 46057 | HM7: -289.64 | HN7: sell | HU7: 46016 | HV7: 5176.6 | HW7: buy | IJ7: 46189 | IK7: 128.34 | IL7: buy | IM7: 46174 | IN7: 4781.94 | IO7: buy | IZ7: ==XIRR(IZ2:IZ6,IY2:IY6) | JC7: ==XIRR(JC2:JC6,JB2:JB6)
A8: 45266 | B8: 3177.14 | C8: buy | D8: 45460 | E8: 551.75 | F8: buy | M8: 45371 | N8: 679.34 | O8: buy | S8: 45211 | T8: -19099.7 | U8: sell | V8: 45541 | W8: 7205.26 | X8: buy | Y8: 46009 | Z8: 11512.2 | AA8: buy | AC8: ==XIRR(AC2:AC7,AB2:AB7) | AE8: 45699 | AF8: 1160.9 | AG8: buy | AL8: ==XIRR(AL2:AL7,AK2:AK7) | AT8: 45707 | AU8: 565.18 | AV8: buy | AW8: 45373 | AX8: -762.22 | AY8: sell | BF8: 45387 | BG8: 2872.08 | BH8: buy | BM8: ==-SUM(BM2:BM6) | BN8: Полный доход | BO8: 45372 | BP8: 2196.76 | BQ8: buy | BR8: 45384 | BS8: 10274.21 | BT8: buy | BV8: ==XIRR(BV2:BV7,BU2:BU7) | BX8: 46035 | BY8: 292.52 | BZ8: buy | CA8: 45371 | CB8: 728.38 | CC8: buy | CG8: 45415 | CH8: 18815.04 | CI8: buy | CM8: 45476 | CN8: 3297.34 | CO8: buy | CS8: 46036 | CT8: 590.7 | CU8: buy | CY8: 46010 | CZ8: -8.18 | DA8: sell | DE8: 46140 | DF8: -2738.66 | DG8: sell | DH8: 45476 | DI8: -2946.64 | DJ8: sell | DN8: 45544 | DO8: -96 | DP8: Дивиденд по MDMG - MDMG-ао 5шт. по 22 RUR - налог 14 RUR (данные из БД) | DQ8: 45527 | DR8: -1523.24 | DS8: sell | DW8: 45803 | DX8: 729.66 | DY8: buy | DZ8: 45709 | EA8: -8171.91 | EB8: sell | EI8: 45721 | EJ8: 11145.57 | EK8: buy | EL8: 45722 | EM8: -37772.1 | EN8: sell | EO8: 45863 | EP8: -1536.37 | EQ8: sell | FY8: 45869 | FZ8: 99.93 | GA8: buy | GF8: ==-SUM(GF2:GF6) | GG8: Полный доход | GI8: ==-SUM(GI2:GI6) | GJ8: Полный доход | GN8: 45959 | GO8: 98.49 | GP8: buy | GZ8: 46015 | HA8: 540.41 | HB8: buy | HC8: 46114 | HD8: -654.88 | HE8: sell | HG8: ==-SUM(HG2:HG6) | HH8: Полный доход | HJ8: ==-SUM(HJ2:HJ6) | HK8: Полный доход | HL8: 46086 | HM8: -2916.42 | HN8: sell | HU8: 46016 | HV8: 6545.89 | HW8: buy | IJ8: 46239 | IK8: -167.64 | IL8: sell | IM8: 46251 | IN8: -8179.99 | IO8: sell | IZ8: ==-SUM(IZ2:IZ6) | JA8: Полный доход | JC8: ==-SUM(JC2:JC6) | JD8: Полный доход
A9: 45288 | B9: 3189.35 | C9: buy | D9: 45460 | E9: 1103.48 | F9: buy | M9: 45380 | N9: -679.35 | O9: sell | S9: 45266 | T9: 656.63 | U9: buy | V9: 45554 | W9: -35971.2 | X9: sell | Y9: 46017 | Z9: 5732.08 | AA9: buy | AC9: ==-SUM(AC2:AC7) | AD9: Полный доход | AE9: 45699 | AF9: 1159.38 | AG9: buy | AL9: ==-SUM(AL2:AL7) | AM9: Полный доход | AT9: 45715 | AU9: 1082.22 | AV9: buy | AW9: 45539 | AX9: 1286.83 | AY9: buy | BF9: 45387 | BG9: -4831.81 | BH9: sell | BO9: 45383 | BP9: 6553.63 | BQ9: buy | BR9: 45407 | BS9: 1737.87 | BT9: buy | BV9: ==-SUM(BV2:BV7) | BW9: Полный доход | BX9: 46050 | BY9: -310.08 | BZ9: sell | CA9: 45380 | CB9: 2146.71 | CC9: buy | CG9: 45420 | CH9: 14843.87 | CI9: buy | CM9: 45484 | CN9: -2897 | CO9: Дивиденд по SBERP - Сбербанк-п 100шт. по 33.3 RUR - налог 433 RUR (данные из БД) | CS9: 46050 | CT9: -594.41 | CU9: sell | CY9: 46017 | CZ9: 178.85 | DA9: buy | DE9: 46223 | DF9: -532.51 | DG9: Дивиденд по TRNFP - Транснф ап 3шт. по 204.17 RUR - налог 80 RUR (данные из БД) | DH9: 45719 | DI9: 2381.4 | DJ9: buy | DN9: 45551 | DO9: 7478.68 | DP9: buy | DQ9: 45527 | DR9: -3046.48 | DS9: sell | DW9: 45803 | DX9: 1457.13 | DY9: buy | EA9: ==XIRR(EA2:EA8,DZ2:DZ8) | EI9: 45722 | EJ9: 84442.21 | EK9: buy | EL9: 45722 | EM9: -17863.06 | EN9: sell | EO9: 45863 | EP9: 1536.37 | EQ9: buy | FY9: 45876 | FZ9: 4526.55 | GA9: buy | GN9: 45959 | GO9: 1.79 | GP9: buy | GZ9: 46019 | HA9: 294.43 | HB9: buy | HC9: 46125 | HD9: 627.2 | HE9: buy | HL9: 46114 | HM9: -2160.31 | HN9: sell | HU9: 46017 | HV9: -19009.98 | HW9: sell | IK9: ==XIRR(IK2:IK8,IJ2:IJ8) | IN9: ==XIRR(IN2:IN8,IM2:IM8)
A10: 45372 | B10: 9524.81 | C10: buy | D10: 45460 | E10: 9376.79 | F10: buy | M10: 45504 | N10: 348.27 | O10: buy | S10: 45266 | T10: 3285.13 | U10: buy | W10: ==XIRR(W2:W9,V2:V9) | Y10: 46034 | Z10: -1036 | AA10: Дивиденд по LKOH - ЛУКОЙЛ 3шт. по 397 RUR - налог 155 RUR (данные из БД) | AE10: 45701 | AF10: -2473.16 | AG10: sell | AT10: 45715 | AU10: -1647.26 | AV10: sell | AW10: 45539 | AX10: 1959.07 | AY10: buy | BF10: 45387 | BG10: 378.37 | BH10: buy | BO10: 45387 | BP10: 2246.8 | BQ10: buy | BR10: 45420 | BS10: -18213.43 | BT10: sell | BX10: 46099 | BY10: 304.88 | BZ10: buy | CA10: 45387 | CB10: -2928.45 | CC10: sell | CG10: 45422 | CH10: 3660.93 | CI10: buy | CM10: 45527 | CN10: -25672.44 | CO10: sell | CT10: ==XIRR(CT2:CT9,CS2:CS9) | CY10: 46038 | CZ10: -234.47 | DA10: sell | DE10: 46237 | DF10: 2167.06 | DG10: buy | DH10: 45719 | DI10: 2367.18 | DJ10: buy | DN10: 45554 | DO10: 10052.03 | DP10: buy | DR10: ==XIRR(DR2:DR9,DQ2:DQ9) | DW10: 45818 | DX10: -2958.1 | DY10: sell | EA10: ==-SUM(EA2:EA8) | EB10: Полный доход | EI10: 45723 | EJ10: -584447.62 | EK10: sell | EL10: 45723 | EM10: 105059.51 | EN10: buy | EO10: 45866 | EP10: 279.7 | EQ10: buy | FY10: 45876 | FZ10: 301.5 | GA10: buy | GN10: 45964 | GO10: 261.56 | GP10: buy | GZ10: 46076 | HA10: -1267.44 | HB10: sell | HC10: 46135 | HD10: -4210.49 | HE10: sell | HL10: 46125 | HM10: 6668.28 | HN10: buy | HV10: ==XIRR(HV2:HV9,HU2:HU9) | IK10: ==-SUM(IK2:IK8) | IL10: Полный доход | IN10: ==-SUM(IN2:IN8) | IO10: Полный доход
A11: 45372 | B11: 1583.09 | C11: buy | D11: 45476 | E11: 9836.76 | F11: buy | M11: 45527 | N11: -319.99 | O11: sell | S11: 45324 | T11: -4238.01 | U11: sell | W11: ==-SUM(W2:W9) | X11: Полный доход | Y11: 46057 | Z11: -5206.83 | AA11: sell | AE11: 46000 | AF11: 1182.5 | AG11: buy | AT11: 45849 | AU11: 448.62 | AV11: buy | AW11: 45540 | AX11: 7683.84 | AY11: buy | BF11: 45392 | BG11: 19.29 | BH11: buy | BO11: 45387 | BP11: 2247.4 | BQ11: buy | BR11: 45539 | BS11: 1371.1 | BT11: buy | BX11: 46104 | BY11: 289.24 | BZ11: buy | CA11: 46099 | CB11: 456.19 | CC11: buy | CG11: 45446 | CH11: -3274.37 | CI11: sell | CM11: 45887 | CN11: 315.22 | CO11: buy | CT11: ==-SUM(CT2:CT9) | CU11: Полный доход | CY11: 46044 | CZ11: 35.13 | DA11: buy | DE11: 46251 | DF11: -2011.81 | DG11: sell | DH11: 45720 | DI11: -4908.54 | DJ11: sell | DN11: 45554 | DO11: 11727.37 | DP11: buy | DR11: ==-SUM(DR2:DR9) | DS11: Полный доход | DW11: 46009 | DX11: 792.94 | DY11: buy | EI11: 45723 | EJ11: 295517.69 | EK11: buy | EM11: ==XIRR(EM2:EM10,EL2:EL10) | EO11: 45868 | EP11: -2099.55 | EQ11: sell | FY11: 45877 | FZ11: 1609.12 | GA11: buy | GN11: 45964 | GO11: 1.81 | GP11: buy | HA11: ==XIRR(HA2:HA10,GZ2:GZ10) | HD11: ==XIRR(HD2:HD10,HC2:HC10) | HL11: 46129 | HM11: -4840.63 | HN11: sell | HV11: ==-SUM(HV2:HV9) | HW11: Полный доход
A12: 45383 | B12: -17371.31 | C12: sell | D12: 45527 | E12: -6454.59 | F12: sell | M12: 45539 | N12: 1542.5 | O12: buy | S12: 45370 | T12: 2230.77 | U12: buy | Y12: 46140 | Z12: -11055.07 | AA12: sell | AE12: 46000 | AF12: -1186.23 | AG12: sell | AT12: 45849 | AU12: -436.98 | AV12: sell | AW12: 45540 | AX12: -4646.28 | AY12: sell | BF12: 45407 | BG12: 1371.84 | BH12: buy | BO12: 45444 | BP12: -3667.86 | BQ12: sell | BR12: 45539 | BS12: 4113.29 | BT12: buy | BX12: 46129 | BY12: 808.3 | BZ12: buy | CA12: 46104 | CB12: 447.67 | CC12: buy | CG12: 45446 | CH12: -22927.53 | CI12: sell | CM12: 45896 | CN12: -310.37 | CO12: sell | CY12: 46057 | CZ12: -292.84 | DA12: sell | DE12: 46251 | DF12: -3017.72 | DG12: sell | DH12: 46038 | DI12: 4452.56 | DJ12: buy | DN12: 45554 | DO12: 837.42 | DP12: buy | DW12: 46009 | DX12: 792.84 | DY12: buy | EJ12: ==XIRR(EJ2:EJ11,EI2:EI11) | EM12: ==-SUM(EM2:EM10) | EN12: Полный доход | EO12: 45983 | EP12: 147.18 | EQ12: buy | FY12: 45884 | FZ12: -16897.06 | GA12: sell | GN12: 45971 | GO12: 395.29 | GP12: buy | HA12: ==-SUM(HA2:HA10) | HB12: Полный доход | HD12: ==-SUM(HD2:HD10) | HE12: Полный доход | HL12: 46129 | HM12: -9465.2 | HN12: sell
A13: 45383 | B13: -3158.42 | C13: sell | D13: 45527 | E13: -1721.22 | F13: sell | M13: 45539 | N13: 310.95 | O13: buy | S13: 45373 | T13: -2295.56 | U13: sell | Z13: ==XIRR(Z2:Z12,Y2:Y12) | AE13: 46009 | AF13: 2418.34 | AG13: buy | AT13: 46081 | AU13: 4094.1 | AV13: buy | AW13: 45540 | AX13: -6969.42 | AY13: sell | BF13: 45407 | BG13: -1772.18 | BH13: sell | BO13: 45444 | BP13: -11002.39 | BQ13: sell | BR13: 45540 | BS13: 3462.77 | BT13: buy | BX13: 46132 | BY13: 1611.49 | BZ13: buy | CA13: 46174 | CB13: 395.39 | CC13: buy | CG13: 45446 | CH13: -6550.72 | CI13: sell | CM13: 46012 | CN13: 298.46 | CO13: buy | CY13: 46086 | CZ13: -89.62 | DA13: sell | DF13: ==XIRR(DF2:DF12,DE2:DE12) | DH13: 46125 | DI13: -2197.24 | DJ13: sell | DN13: 45554 | DO13: 3349.67 | DP13: buy | DW13: 46009 | DX13: 792.94 | DY13: buy | EJ13: ==-SUM(EJ2:EJ11) | EK13: Полный доход | EO13: 46001 | EP13: 11114.25 | EQ13: buy | FY13: 46036 | FZ13: 201.5 | GA13: buy | GN13: 45972 | GO13: 3.65 | GP13: buy | HM13: ==XIRR(HM2:HM12,HL2:HL12)
A14: 46009 | B14: 11612.98 | C14: buy | D14: 45527 | E14: -8604.1 | F14: sell | M14: 45539 | N14: 1873.2 | O14: buy | S14: 45539 | T14: 1474.56 | U14: buy | Z14: ==-SUM(Z2:Z12) | AA14: Полный доход | AE14: 46125 | AF14: -82.46 | AG14: Дивиденд по NVTK - Новатэк ао 2шт. по 47.23 RUR - налог 12 RUR (данные из БД) | AT14: 46097 | AU14: 173.05 | AV14: buy | AW14: 45540 | AX14: 158.03 | AY14: buy | BF14: 45415 | BG14: 1461.39 | BH14: buy | BP14: ==XIRR(BP2:BP13,BO2:BO13) | BR14: 45562 | BS14: -685.8 | BT14: Дивиденд по RTKMP - Ростел -ап 130шт. по 6.06 RUR - налог 102 RUR (данные из БД) | BX14: 46174 | BY14: 957.67 | BZ14: buy | CA14: 46219 | CB14: 1020.9 | CC14: buy | CH14: ==XIRR(CH2:CH13,CG2:CG13) | CM14: 46019 | CN14: -300.04 | CO14: sell | CY14: 46114 | CZ14: 17.82 | DA14: buy | DF14: ==-SUM(DF2:DF12) | DG14: Полный доход | DH14: 46125 | DI14: -2197.24 | DJ14: sell | DN14: 45554 | DO14: 10049.02 | DP14: buy | DW14: 46009 | DX14: 793.04 | DY14: buy | EO14: 46003 | EP14: -1186.96 | EQ14: sell | FY14: 46050 | FZ14: 101.22 | GA14: buy | GN14: 45973 | GO14: 98.93 | GP14: buy | HM14: ==-SUM(HM2:HM12) | HN14: Полный доход
A15: 46010 | B15: -1297.06 | C15: sell | D15: 45539 | E15: 5007.85 | F15: buy | M15: 45539 | N15: 311.71 | O15: buy | S15: 45539 | T15: 1986.38 | U15: buy | AE15: 46135 | AF15: -2433.58 | AG15: sell | AT15: 46111 | AU15: 82.33 | AV15: buy | AW15: 45540 | AX15: 3194.08 | AY15: buy | BF15: 45422 | BG15: -1465.8 | BH15: sell | BP15: ==-SUM(BP2:BP13) | BQ15: Полный доход | BR15: 45565 | BS15: -5671.46 | BT15: sell | BX15: 46239 | BY15: 156.28 | BZ15: buy | CA15: 46251 | CB15: -966.13 | CC15: sell | CH15: ==-SUM(CH2:CH13) | CI15: Полный доход | CN15: ==XIRR(CN2:CN14,CM2:CM14) | CY15: 46114 | CZ15: 270.14 | DA15: buy | DI15: ==XIRR(DI2:DI14,DH2:DH14) | DN15: 45565 | DO15: -903.77 | DP15: sell | DW15: 46010 | DX15: -3137.89 | DY15: sell | EO15: 46016 | EP15: -10137.44 | EQ15: sell | FY15: 46050 | FZ15: 3441.48 | GA15: buy | GN15: 45973 | GO15: 1.83 | GP15: buy
A16: 46012 | B16: 127.61 | C16: buy | D16: 45554 | E16: 9392.41 | F16: buy | M16: 45540 | N16: -4035.22 | O16: sell | S16: 45554 | T16: -3711.93 | U16: sell | AF16: ==XIRR(AF2:AF15,AE2:AE15) | AT16: 46129 | AU16: 9533.61 | AV16: buy | AW16: 45540 | AX16: 1575.79 | AY16: buy | BF16: 45422 | BG16: 1186.69 | BH16: buy | BR16: 45565 | BS16: -3544.67 | BT16: sell | BX16: 46244 | BY16: 1395.68 | BZ16: buy | CA16: 46251 | CB16: -1288.17 | CC16: sell | CN16: ==-SUM(CN2:CN14) | CO16: Полный доход | CY16: 46125 | CZ16: -182.42 | DA16: sell | DI16: ==-SUM(DI2:DI14) | DJ16: Полный доход | DN16: 45565 | DO16: -903.37 | DP16: sell | DW16: 46111 | DX16: -4139.54 | DY16: sell | EP16: ==XIRR(EP2:EP15,EO2:EO15) | FY16: 46050 | FZ16: 101.22 | GA16: buy | GN16: 45975 | GO16: 198.4 | GP16: buy
A17: 46016 | B17: 372.37 | C17: buy | D17: 45565 | E17: -454.43 | F17: sell | M17: 45705 | N17: 379.19 | O17: buy | T17: ==XIRR(T2:T16,S2:S16) | AF17: ==-SUM(AF2:AF15) | AG17: Полный доход | AT17: 46140 | AU17: -9234.34 | AV17: sell | AW17: 45540 | AX17: 6581.26 | AY17: buy | BF17: 45444 | BG17: 50706 | BH17: buy | BS17: ==XIRR(BS2:BS16,BR2:BR16) | BX17: 46244 | BY17: 1705.84 | BZ17: buy | CB17: ==XIRR(CB2:CB16,CA2:CA16) | CY17: 46129 | CZ17: 199.76 | DA17: buy | DN17: 45565 | DO17: -22581.92 | DP17: sell | DW17: 46112 | DX17: 4249.08 | DY17: buy | EP17: ==-SUM(EP2:EP15) | EQ17: Полный доход | FY17: 46050 | FZ17: 36945.3 | GA17: buy | GN17: 45975 | GO17: 1.83 | GP17: buy
A18: 46017 | B18: 1262.41 | C18: buy | D18: 45565 | E18: -454.43 | F18: sell | M18: 45707 | N18: 374.24 | O18: buy | T18: ==-SUM(T2:T16) | U18: Полный доход | AT18: 46223 | AU18: -422.5 | AV18: Дивиденд по VTBR - ВТБ ао 50шт. по 9.71 RUR - налог 63 RUR (данные из БД) | AW18: 45540 | AX18: 491.19 | AY18: buy | BF18: 45444 | BG18: 1197.23 | BH18: buy | BS18: ==-SUM(BS2:BS16) | BT18: Полный доход | BX18: 46251 | BY18: -4845.02 | BZ18: sell | CB18: ==-SUM(CB2:CB16) | CC18: Полный доход | CY18: 46129 | CZ18: -2.92 | DA18: sell | DN18: 45565 | DO18: -4514.88 | DP18: sell | DX18: ==XIRR(DX2:DX17,DW2:DW17) | FY18: 46050 | FZ18: 1113.42 | GA18: buy | GN18: 45985 | GO18: 97.77 | GP18: buy
A19: 46038 | B19: -1225.52 | C19: sell | D19: 45565 | E19: -14089.32 | F19: sell | M19: 45707 | N19: 752.48 | O19: buy | AT19: 46245 | AU19: 1515.76 | AV19: buy | AW19: 45540 | AX19: 163.53 | AY19: buy | BF19: 45446 | BG19: 33186.66 | BH19: buy | BY19: ==XIRR(BY2:BY18,BX2:BX18) | CY19: 46130 | CZ19: -5134.12 | DA19: sell | DN19: 45565 | DO19: -22571.92 | DP19: sell | DX19: ==-SUM(DX2:DX17) | DY19: Полный доход | FY19: 46051 | FZ19: -475.48 | GA19: Дивиденд по TPAY - TPAY ETF 414шт. по 1.32 RUR - налог 71 RUR (данные из БД) | GN19: 45985 | GO19: 1.85 | GP19: buy
