Workbook

Sheet Портфель
A1: Тикер | B1: Тип | C1: Название | D1: Валюта | E1: Количество | F1: Цена | G1: Номинал | H1: НКД | I1: Погашение | J1: Сумма | K1: Доходность | L1: Средняя цена | M1: Доля | O1: Имя | P1: Курс к рублю | Q1: Курс к RUR
A2: VTBR | B2: share | C2: ВТБ ао | D2: RUR | E2: 51 | F2: 55.35 | G2: 0 | H2: 0 | J2: ==E2*F2*Портфель!$Q$13 | K2: -0.0503 | L2: 74.97 | M2: 2.5 | O2: AMD | P2: 0.239 | Q2: ==P2/$P$13
A3: VKCO | B3: share | C3: МКПАО "ВК" | D3: RUR | E3: 14 | F3: 124.6 | G3: 0 | H3: 0 | J3: ==E3*F3*Портфель!$Q$13 | K3: -0.4405 | L3: 470.08 | M3: 1.54 | O3: BYN | P3: 27.9275 | Q3: ==P3/$P$13
H4: Сумма по акциям: | J4: ==SUM(J2:J3) | M4: ==J4/J14 | O4: CAD | P4: 59.565596 | Q4: ==P4/$P$13
A5: TGLD | B5: etf | C5: TGLD ETF | D5: RUR | E5: 748 | F5: 11.89 | G5: 0 | H5: 0 | J5: ==E5*F5*Портфель!$Q$13 | K5: 0.221 | L5: 6.24 | M5: 7.87 | O5: CHF | P5: 102.1595 | Q5: ==P5/$P$13
A6: TMOS | B6: etf | C6: TMOS ETF | D6: RUR | E6: 572 | F6: 6.02 | G6: 0 | H6: 0 | J6: ==E6*F6*Портфель!$Q$13 | K6: 0.0722 | L6: 4.83 | M6: 3.05 | O6: CNY | P6: 12.6739 | Q6: ==P6/$P$13
A7: TBIO | B7: etf | C7: TBIO ETF | D7: USD | E7: 30 | F7: 0.0816 | G7: 0 | H7: 0 | J7: ==E7*F7*Портфель!$Q$17 | K7: -0.1384 | L7: 7.46 | M7: 0.18 | O7: EUR | P7: 94.9745 | Q7: ==P7/$P$13
H8: Сумма по фондам: | J8: ==SUM(J5:J7) | M8: ==J8/J14 | O8: GBP | P8: 112.2951 | Q8: ==P8/$P$13
A9: SU26254RMFS1 | B9: bond | C9: ОФЗ 26254 | D9: RUR | E9: 107 | F9: 82.95 | G9: 1000 | H9: 61.97 | I9: 2040-10-03 | J9: ==E9*((F9/100*G9)*Портфель!$Q$13 + H9*Портфель!$Q$13) | K9: -0.0405 | L9: 928.99 | M9: 84.45 | O9: GLD | P9: 11440 | Q9: ==P9/$P$13
H10: Сумма по облигациям: | J10: ==SUM(J9:J9) | M10: ==J10/J14 | O10: HKD | P10: 10.8173 | Q10: ==P10/$P$13
A11: RUR | B11: Валюта | C11: Рубль | D11: RUR | E11: 379.24 | F11: 1 | G11: 0 | H11: 0 | J11: ==E11*F11 | O11: JPY | P11: 0.44 | Q11: ==P11/$P$13
A12: USD | B12: Валюта | C12: Доллар | D12: RUR | E12: 0.92 | F12: 84.9048 | G12: 0 | H12: 0 | J12: ==E12*F12 | O12: KZT | P12: 0.195 | Q12: ==P12/$P$13
H13: Сумма по валютам: | J13: ==SUM(J11:J12) | M13: ==J13/J14 | O13: RUR | P13: 1 | Q13: ==P13/$P$13
H14: Сумма: | J14: ==J4+J8+J10+J13 | O14: SLV | P14: 164.2 | Q14: ==P14/$P$13
O15: TRY | P15: 1.741 | Q15: ==P15/$P$13
O16: UAH | P16: 2.11125 | Q16: ==P16/$P$13
O17: USD | P17: 84.9048 | Q17: ==P17/$P$13

Sheet XIRR
A1: Дата | B1: Сумма | C1: Примечание | D1: . | E1: .. | F1: d | G1: s | H1: ds
A2: 44158.48 | B2: 1300 | C2: unknown | F2: 0 | G2: ==B2 | H2: 0
A3: 44160.43 | B3: 100 | C3: unknown | F3: ==A3-A2 | G3: ==B3+G2 | H3: ==F3*G2
A4: 44160.435 | B4: 100 | C4: unknown | F4: ==A4-A3 | G4: ==B4+G3 | H4: ==F4*G3
A5: 44160.462 | B5: 4600 | C5: unknown | F5: ==A5-A4 | G5: ==B5+G4 | H5: ==F5*G4
A6: 44166.78 | B6: 400 | C6: unknown | F6: ==A6-A5 | G6: ==B6+G5 | H6: ==F6*G5
A7: 44172.867 | B7: 900 | C7: unknown | F7: ==A7-A6 | G7: ==B7+G6 | H7: ==F7*G6
A8: 44181.583 | B8: 73.66 | C8: unknown | F8: ==A8-A7 | G8: ==B8+G7 | H8: ==F8*G7
A9: 44186.462 | B9: 5110.29 | C9: unknown | F9: ==A9-A8 | G9: ==B9+G8 | H9: ==F9*G8
A10: 44186.493 | B10: 2760.76 | C10: unknown | F10: ==A10-A9 | G10: ==B10+G9 | H10: ==F10*G9
A11: 44186.499 | B11: 1306.4822 | C11: unknown | F11: ==A11-A10 | G11: ==B11+G10 | H11: ==F11*G10
A12: 44186.502 | B12: 1873.98 | C12: unknown | F12: ==A12-A11 | G12: ==B12+G11 | H12: ==F12*G11
A13: 44186.502 | B13: 265.63 | C13: unknown | F13: ==A13-A12 | G13: ==B13+G12 | H13: ==F13*G12
A14: 44186.503 | B14: 685.4 | C14: unknown | F14: ==A14-A13 | G14: ==B14+G13 | H14: ==F14*G13
... A68: 46306 | B68: -112956.9 | C68: Баланс сейчас | F68: ==A68-A67 | G68: ==B68+G67 | H68: ==F68*G67
B69: ==XIRR(B2:B68,A2:A68) | C69: XIRR | G69: Сред.взвеш.сумм. | H69: ==SUM(I2:H68)/365
B70: ==-SUM(B2:B68) | C70: Полный доход, RUR | G70: Сред.год.дох. | H70: ==B70/H69

Sheet Доходность откр.
B1: VTBR | E1: VKCO | H1: TGLD | K1: TMOS | N1: TBIO | Q1: SU26254RMFS1
A2: 45709 | B2: 1461.17 | C2: buy | D2: 45278 | E2: 578.93 | F2: buy | G2: 44720 | H2: 1329.4613 | I2: buy | J2: 44722 | K2: 1010 | L2: buy | M2: 44187 | N2: 1342.6044 | O2: buy | P2: 46190 | Q2: ==49579.69 | R2: buy
A3: 45849 | B3: -356.28 | C3: Дивиденд по VTBR - ВТБ ао 16шт. по 25.58 RUR - налог 53 RUR (данные из БД) | D3: 45456 | E3: 1098.08 | F3: buy | G3: 45310 | H3: 1036 | I3: buy | J3: 44733 | K3: 1252.44 | L3: buy | M3: 44560 | N3: -729.14886 | O3: sell | P3: 46192 | Q3: ==49822.57 | R3: buy
A4: 45882 | B4: 318.33 | C4: buy | D4: 45478 | E4: 2442.31 | F4: buy | G4: 45320 | H4: 1298.04 | I4: buy | J4: 44802 | K4: -2230.4 | L4: sell | M4: 46306 | N4: ==-Портфель!J7 | O4: Стоимость сейчас | P4: 46555 | Q4: ==-Портфель!J9 | R4: Стоимость сейчас
A5: 45938 | B5: 2044.05 | C5: buy | D5: 45482 | E5: 941.22 | F5: buy | G5: 45330 | H5: 1006.34 | I5: buy | J5: 44890 | K5: 1019.5 | L5: buy | N5: ==XIRR(N2:N4,M2:M4) | Q5: ==XIRR(Q2:Q4,P2:P4)
A6: 46223 | B6: -431.21 | C6: Дивиденд по VTBR - ВТБ ао 51шт. по 9.71 RUR - налог 64 RUR (данные из БД) | D6: 45526 | E6: 1520.55 | F6: buy | G6: 46306 | H6: ==-Портфель!J5 | I6: Стоимость сейчас | J6: 44972 | K6: 249.22 | L6: buy | N6: ==-SUM(N2:N4) | O6: Полный доход | Q6: ==-SUM(Q2:Q4) | R6: Полный доход
A7: 46306 | B7: ==-Портфель!J2 | C7: Стоимость сейчас | D7: 46306 | E7: ==-Портфель!J3 | F7: Стоимость сейчас | H7: ==XIRR(H2:H6,G2:G6) | J7: 45142 | K7: 169.83 | L7: buy
B8: ==XIRR(B2:B7,A2:A7) | E8: ==XIRR(E2:E7,D2:D7) | H8: ==-SUM(H2:H6) | I8: Полный доход | J8: 45216 | K8: 645 | L8: buy
B9: ==-SUM(B2:B7) | C9: Полный доход | E9: ==-SUM(E2:E7) | F9: Полный доход | J9: 45224 | K9: 13 | L9: buy
J10: 45953 | K10: 59.7 | L10: buy
J11: 46219 | K11: 603.88 | L11: buy
J12: 46306 | K12: ==-Портфель!J6 | L12: Стоимость сейчас
K13: ==XIRR(K2:K12,J2:J12)
K14: ==-SUM(K2:K12) | L14: Полный доход

Sheet Доходность закр.
B1: CNK | E1: FXCN | H1: RSHE | K1: FXGD | N1: TSPX | Q1: FXUS | T1: FXDE | W1: BABA | Z1: TRUR | AC1: IVAT
A2: 44160 | B2: 1348.7417 | C2: buy | D2: 44160 | E2: 4150.41 | F2: buy | G2: 44167 | H2: 914.31719 | I2: buy | J2: 44172 | K2: 930.78 | L2: buy | M2: 44181 | N2: 7.34453 | O2: buy | P2: 44186 | Q2: 5113.29 | R2: buy | S2: 44186 | T2: 2760.76 | U2: buy | V2: 44193 | W2: 16085.512 | X2: buy | Y2: 44998 | Z2: 953.25 | AA2: buy | AB2: 45447 | AC2: 1200.48 | AD2: buy
A3: 44370 | B3: -1619.1658 | C3: sell | D3: 44554 | E3: -2844.44 | F3: sell | G3: 44326 | H3: 119.36105 | I3: buy | J3: 45516 | K3: -1328.6 | L3: sell | M3: 44181 | N3: 69.773035 | O3: buy | P3: 44369 | Q3: -5666.95 | R3: sell | S3: 44369 | T3: -3090.7 | U3: sell | V3: 44557 | W3: -8625.2765 | X3: sell | Y3: 45170 | Z3: 1004.4 | AA3: buy | AB3: 45450 | AC3: 2697.27 | AD3: buy
B4: ==XIRR(B2:B3,A2:A3) | E4: ==XIRR(E2:E3,D2:D3) | G4: 44557 | H4: -988.77799 | I4: sell | K4: ==XIRR(K2:K3,J2:J3) | M4: 44370 | N4: -87.067659 | O4: sell | Q4: ==XIRR(Q2:Q3,P2:P3) | T4: ==XIRR(T2:T3,S2:S3) | W4: ==XIRR(W2:W3,V2:V3) | Y4: 45309 | Z4: -2154.7 | AA4: sell | AB4: 45938 | AC4: -2067.28 | AD4: sell
B5: ==-SUM(B2:B3) | C5: Полный доход | E5: ==-SUM(E2:E3) | F5: Полный доход | H5: ==XIRR(H2:H4,G2:G4) | K5: ==-SUM(K2:K3) | L5: Полный доход | N5: ==XIRR(N2:N4,M2:M4) | Q5: ==-SUM(Q2:Q3) | R5: Полный доход | T5: ==-SUM(T2:T3) | U5: Полный доход | W5: ==-SUM(W2:W3) | X5: Полный доход | Z5: ==XIRR(Z2:Z4,Y2:Y4) | AC5: ==XIRR(AC2:AC4,AB2:AB4)
H6: ==-SUM(H2:H4) | I6: Полный доход | N6: ==-SUM(N2:N4) | O6: Полный доход | Z6: ==-SUM(Z2:Z4) | AA6: Полный доход | AC6: ==-SUM(AC2:AC4) | AD6: Полный доход

Sheet Доход
B1: VTBR ВТБ ао | E1: VKCO МКПАО "ВК" | H1: TGLD TGLD ETF | K1: TMOS TMOS ETF | N1: TBIO TBIO ETF | Q1: SU26254RMFS1 ОФЗ 26254
A2: 45709 | B2: 16 | C2: 1461.17 | D2: 45278 | E2: 1 | F2: 578.93 | G2: 44720 | H2: 300 | I2: 1329.4613 | J2: 44890 | K2: 250 | L2: 1019.5 | M2: 44187 | N2: 30 | O2: 223.76739 | P2: 46190 | Q2: 53 | R2: 49579.69
A3: 45882 | B3: 4 | C3: 318.33 | D3: 45456 | E3: 2 | F3: 1098.08 | G3: 45310 | H3: 140 | I3: 1036 | J3: 44972 | K3: 59 | L3: 249.22 | N3: ==SUM(O2:O2)/SUM(N2:N2) | O3: Средняя цена | P3: 46192 | Q3: 54 | R3: 49822.57
A4: 45938 | B4: 31 | C4: 2044.05 | D4: 45478 | E4: 5 | F4: 2442.31 | G4: 45320 | H4: 174 | I4: 1298.04 | J4: 45142 | K4: 27 | L4: 169.83 | N4: 0.0816 | O4: Текущая цена | Q4: ==SUM(R2:R3)/SUM(Q2:Q3) | R4: Средняя цена
B5: ==SUM(C2:C4)/SUM(B2:B4) | C5: Средняя цена | D5: 45482 | E5: 2 | F5: 941.22 | G5: 45330 | H5: 134 | I5: 1006.34 | J5: 45216 | K5: 100 | L5: 645 | N5: 30 | O5: Остаток | Q5: 82.95 | R5: Текущая цена
B6: 55.35 | C6: Текущая цена | D6: 45526 | E6: 4 | F6: 1520.55 | H6: ==SUM(I2:I5)/SUM(H2:H5) | I6: Средняя цена | J6: 45224 | K6: 2 | L6: 13 | N6: ==N5*(ABS(N4)-ABS(N3)) | O6: Доход | Q6: 107 | R6: Остаток
B7: 51 | C7: Остаток | E7: ==SUM(F2:F6)/SUM(E2:E6) | F7: Средняя цена | H7: 11.89 | I7: Текущая цена | J7: 45953 | K7: 10 | L7: 59.7 | Q7: ==Портфель!G9*Портфель!$Q$13 | R7: Номинал
B8: ==B7*(ABS(B6)-ABS(B5)) | C8: Доход | E8: 124.6 | F8: Текущая цена | H8: 748 | I8: Остаток | J8: 46219 | K8: 124 | L8: 603.88 | Q8: ==Портфель!H9*Портфель!$Q$13 | R8: НКД
E9: 14 | F9: Остаток | H9: ==H8*(ABS(H7)-ABS(H6)) | I9: Доход | K9: ==SUM(L2:L8)/SUM(K2:K8) | L9: Средняя цена | Q9: ==Q6*(Q7*Q5/100-Q4+Q8) | R9: Доход
E10: ==E9*(ABS(E8)-ABS(E7)) | F10: Доход | K10: 6.02 | L10: Текущая цена
K11: 572 | L11: Остаток
K12: ==K11*(ABS(K10)-ABS(K9)) | L12: Доход

Sheet Сделки
A1: Дата | B1: Тикер | C1: Название | D1: Операция | E1: Тип | F1: Валюта | G1: Количество | H1: Цена | I1: Сумма | J1: НКД | K1: Комиссия банка | L1: Комиссия ТС | M1: USD | N1: RUR | O1: Комментарий
A2: 44158.48 | B2: input | C2: unknown | D2: input | E2: input | F2: RUR | G2: 1 | H2: 1 | I2: 1300 | J2: 0 | K2: 0 | L2: 0 | N2: ==I2+J2+K2+L2
A3: 44158.483 | B3: USD000UTSTOM | C3: USDRUB_TOM - USD/РУБ | D3: buy | E3: selt | F3: RUR | G3: 16 | H3: 75.66 | I3: -1210.56 | J3: 0 | K3: -3.63 | L3: 0 | N3: ==I3+J3+K3+L3
A4: 44160.43 | B4: input | C4: unknown | D4: input | E4: input | F4: RUR | G4: 1 | H4: 1 | I4: 100 | J4: 0 | K4: 0 | L4: 0 | N4: ==I4+J4+K4+L4
A5: 44160.435 | B5: input | C5: unknown | D5: input | E5: input | F5: RUR | G5: 1 | H5: 1 | I5: 100 | J5: 0 | K5: 0 | L5: 0 | N5: ==I5+J5+K5+L5
A6: 44160.435 | B6: USD000UTSTOM | C6: USDRUB_TOM - USD/РУБ | D6: buy | E6: selt | F6: RUR | G6: 2 | H6: 75.615 | I6: -151.23 | J6: 0 | K6: -0.45 | L6: 0 | N6: ==I6+J6+K6+L6
A7: 44160.455 | B7: CNK | C7: Cinemark Holdings Inc Cinemark Holdings, Inc. Common Stock | D7: buy | E7: share | F7: USD | G7: 1 | H7: 17.74 | I7: -17.74 | J7: 0 | K7: -0.05 | L7: 0 | M7: ==I7+J7+K7+L7
A8: 44160.462 | B8: input | C8: unknown | D8: input | E8: input | F8: RUR | G8: 1 | H8: 1 | I8: 4600 | J8: 0 | K8: 0 | L8: 0 | N8: ==I8+J8+K8+L8
A9: 44160.463 | B9: FXCN | C9: FINEX CHINA UCITS ETF | D9: buy | E9: etf | F9: RUR | G9: 1 | H9: 4138 | I9: -4138 | J9: 0 | K9: -12.41 | L9: 0 | N9: ==I9+J9+K9+L9
A10: 44166.78 | B10: input | C10: unknown | D10: input | E10: input | F10: RUR | G10: 1 | H10: 1 | I10: 400 | J10: 0 | K10: 0 | L10: 0 | N10: ==I10+J10+K10+L10
A11: 44166.781 | B11: USD000UTSTOM | C11: USDRUB_TOM - USD/РУБ | D11: buy | E11: selt | F11: RUR | G11: 12 | H11: 75.6475 | I11: -907.77 | J11: 0 | K11: -2.72 | L11: 0 | N11: ==I11+J11+K11+L11
A12: 44167.441 | B12: RSHE | C12: БПИФ ВТБ Акции разв-ся рынков | D12: buy | E12: etf | F12: USD | G12: 1 | H12: 11.94 | I12: -11.94 | J12: 0 | K12: -0.04 | L12: 0 | M12: ==I12+J12+K12+L12
A13: 44172.867 | B13: input | C13: unknown | D13: input | E13: input | F13: RUR | G13: 1 | H13: 1 | I13: 900 | J13: 0 | K13: 0 | L13: 0 | N13: ==I13+J13+K13+L13
A14: 44172.868 | B14: FXGD | C14: FinEx Gold ETF USD | D14: buy | E14: etf | F14: RUR | G14: 1 | H14: 928 | I14: -928 | J14: 0 | K14: -2.78 | L14: 0 | N14: ==I14+J14+K14+L14
A15: 44181.555 | B15: TSPX | C15: БПИФ Тинькофф США 500 | D15: buy | E15: etf | F15: USD | G15: 1 | H15: 0.1 | I15: -0.1 | J15: 0 | K15: 0 | L15: 0 | M15: ==I15+J15+K15+L15
A16: 44181.583 | B16: input | C16: unknown | D16: input | E16: input | F16: RUR | G16: 1 | H16: 1 | I16: 73.66 | J16: 0 | K16: 0 | L16: 0 | N16: ==I16+J16+K16+L16
A17: 44181.583 | B17: USD000UTSTOM | C17: USDRUB_TOM - USD/РУБ | D17: buy | E17: selt | F17: RUR | G17: 1 | H17: 73.43 | I17: -73.43 | J17: 0 | K17: -0.22 | L17: 0 | N17: ==I17+J17+K17+L17
A18: 44181.7 | B18: TSPX | C18: БПИФ Тинькофф США 500 | D18: buy | E18: etf | F18: USD | G18: 10 | H18: 0.095 | I18: -0.95 | J18: 0 | K18: 0 | L18: 0 | M18: ==I18+J18+K18+L18
A19: 44186.462 | B19: input | C19: unknown | D19: input | E19: input | F19: RUR | G19: 1 | H19: 1 | I19: 5110.29 | J19: 0 | K19: 0 | L19: 0 | N19: ==I19+J19+K19+L19
A20: 44186.478 | B20: FXUS | C20: FinEx USA UCITS ETF | D20: buy | E20: etf | F20: RUR | G20: 1 | H20: 5098 | I20: -5098 | J20: 0 | K20: -15.29 | L20: 0 | N20: ==I20+J20+K20+L20
A21: 44186.493 | B21: input | C21: unknown | D21: input | E21: input | F21: RUR | G21: 1 | H21: 1 | I21: 2760.76 | J21: 0 | K21: 0 | L21: 0 | N21: ==I21+J21+K21+L21
A22: 44186.493 | B22: FXDE | C22: FINEX GERMANY UCITS ETF | D22: buy | E22: etf | F22: RUR | G22: 1 | H22: 2752.5 | I22: -2752.5 | J22: 0 | K22: -8.26 | L22: 0 | N22: ==I22+J22+K22+L22
A23: 44186.499 | B23: input | C23: unknown | D23: input | E23: input | F23: USD | G23: 1 | H23: 1 | I23: 17.82 | J23: 0 | K23: 0 | L23: 0 | M23: ==I23+J23+K23+L23
A24: 44186.502 | B24: input | C24: unknown | D24: input | E24: input | F24: RUR | G24: 1 | H24: 1 | I24: 1873.98 | J24: 0 | K24: 0 | L24: 0 | N24: ==I24+J24+K24+L24
A25: 44186.502 | B25: input | C25: unknown | D25: input | E25: input | F25: RUR | G25: 1 | H25: 1 | I25: 265.63 | J25: 0 | K25: 0 | L25: 0 | N25: ==I25+J25+K25+L25
A26: 44186.503 | B26: input | C26: unknown | D26: input | E26: input | F26: RUR | G26: 1 | H26: 1 | I26: 685.4 | J26: 0 | K26: 0 | L26: 0 | N26: ==I26+J26+K26+L26
A27: 44186.503 | B27: input | C27: unknown | D27: input | E27: input | F27: RUR | G27: 1 | H27: 1 | I27: 37.8 | J27: 0 | K27: 0 | L27: 0 | N27: ==I27+J27+K27+L27
A28: 44186.504 | B28: input | C28: unknown | D28: input | E28: input | F28: RUR | G28: 1 | H28: 1 | I28: 788.85 | J28: 0 | K28: 0 | L28: 0 | N28: ==I28+J28+K28+L28
A29: 44186.504 | B29: input | C29: unknown | D29: input | E29: input | F29: RUR | G29: 1 | H29: 1 | I29: 135.36 | J29: 0 | K29: 0 | L29: 0 | N29: ==I29+J29+K29+L29
A30: 44186.504 | B30: input | C30: unknown | D30: input | E30: input | F30: RUR | G30: 1 | H30: 1 | I30: 250 | J30: 0 | K30: 0 | L30: 0 | N30: ==I30+J30+K30+L30
A31: 44186.507 | B31: output | C31: unknown | D31: output | E31: output | F31: RUR | G31: 1 | H31: -1 | I31: -4076 | J31: 0 | K31: 0 | L31: 0 | N31: ==I31+J31+K31+L31
A32: 44187.515 | B32: TBIO | C32: БПИФ ТИНЬКОФФ НАСДАК БИОТЕХ | D32: buy | E32: etf | F32: USD | G32: 180 | H32: 0.099889 | I32: -17.98 | J32: 0 | K32: 0 | L32: 0 | M32: ==I32+J32+K32+L32
A33: 44193.714 | B33: input | C33: unknown | D33: input | E33: input | F33: RUR | G33: 1 | H33: 1 | I33: 16274.78 | J33: 0 | K33: 0 | L33: 0 | N33: ==I33+J33+K33+L33
A34: 44193.714 | B34: USD000UTSTOM | C34: USDRUB_TOM - USD/РУБ | D34: buy | E34: selt | F34: RUR | G34: 220 | H34: 73.755 | I34: -16226.1 | J34: 0 | K34: -48.68 | L34: 0 | N34: ==I34+J34+K34+L34
A35: 44193.715 | B35: BABA | C35: Alibaba Group Holding Limited American Depositary Shares each representing eight Ordinary share | D35: buy | E35: share | F35: USD | G35: 1 | H35: 217.63 | I35: -217.63 | J35: 0 | K35: -0.65 | L35: 0 | M35: ==I35+J35+K35+L35
A36: 44326.424 | B36: RSHE | C36: БПИФ ВТБ Акции разв-ся рынков | D36: buy | E36: etf | F36: USD | G36: 1 | H36: 1.6 | I36: -1.6 | J36: 0 | K36: -0.01 | L36: 0 | M36: ==I36+J36+K36+L36
A37: 44330.51 | B37: input | C37: unknown | D37: input | E37: input | F37: USD | G37: 1 | H37: 1 | I37: 13.02 | J37: 0 | K37: 0 | L37: 0 | M37: ==I37+J37+K37+L37
A38: 44368.616 | B38: output | C38: unknown | D38: output | E38: output | F38: USD | G38: 1 | H38: -1 | I38: -13.1 | J38: 0 | K38: 0 | L38: 0 | M38: ==I38+J38+K38+L38
A39: 44368.621 | B39: input | C39: unknown | D39: input | E39: input | F39: USD | G39: 1 | H39: 1 | I39: 13.1 | J39: 0 | K39: 0 | L39: 0 | M39: ==I39+J39+K39+L39
A40: 44368.867 | B40: USD000UTSTOM | C40: USDRUB_TOM - USD/РУБ | D40: sell | E40: selt | F40: RUR | G40: -13 | H40: 73.05 | I40: 949.65 | J40: 0 | K40: -2.85 | L40: 0 | N40: ==I40+J40+K40+L40
...

Sheet Дивиденды
A1: Дата | B1: Портфель | C1: Тикер | D1: Название | E1: Кол. | F1: Валюта | G1: Дивиденд | H1: Цена отсечки | I1: Цена покупки | J1: Налог | K1: Сумма до налога | L1: Сумма после налога | M1: Доходность к цене отсечки | N1: Доходность к цене покупки
A2: 45849 | B2: Т-брокер | C2: VTBR | D2: ВТБ ао | E2: 16 | F2: RUR | G2: 25.58 | H2: 72.79 | I2: 91.32 | J2: 53 | K2: 409.28 | L2: 356.28 | M2: 24.38 | N2: 30.59
A3: 46223 | B3: Т-брокер | C3: VTBR | D3: ВТБ ао | E3: 51 | F3: RUR | G3: 9.71 | H3: 55.885 | I3: 74.97 | J3: 64 | K3: 495.21 | L3: 431.21 | M3: 11.28 | N3: 15.13

Sheet Купоны
A1: Дата | B1: Портфель | C1: Тикер | D1: Название | E1: Номинал | F1: Кол. | G1: Купон | H1: Налог | I1: Сумма до налога | J1: Сумма после налога
A3: 46315 | B3: Т-брокер | C3: SU26254RMFS1 | D3: ОФЗ 26254 | E3: 1000 | F3: 107 | G3: 64.82 | H3: 902 | I3: 6935.74 | J3: 6033.74
A4: 46497 | B4: Т-брокер | C4: SU26254RMFS1 | D4: ОФЗ 26254 | E4: 1000 | F4: 107 | G4: 64.82 | H4: 902 | I4: 6935.74 | J4: 6033.74
A5: 46679 | B5: Т-брокер | C5: SU26254RMFS1 | D5: ОФЗ 26254 | E5: 1000 | F5: 107 | G5: 64.82 | H5: 902 | I5: 6935.74 | J5: 6033.74
A6: 46861 | B6: Т-брокер | C6: SU26254RMFS1 | D6: ОФЗ 26254 | E6: 1000 | F6: 107 | G6: 64.82 | H6: 902 | I6: 6935.74 | J6: 6033.74
A7: 47043 | B7: Т-брокер | C7: SU26254RMFS1 | D7: ОФЗ 26254 | E7: 1000 | F7: 107 | G7: 64.82 | H7: 902 | I7: 6935.74 | J7: 6033.74
A8: 47225 | B8: Т-брокер | C8: SU26254RMFS1 | D8: ОФЗ 26254 | E8: 1000 | F8: 107 | G8: 64.82 | H8: 902 | I8: 6935.74 | J8: 6033.74
A9: 47407 | B9: Т-брокер | C9: SU26254RMFS1 | D9: ОФЗ 26254 | E9: 1000 | F9: 107 | G9: 64.82 | H9: 902 | I9: 6935.74 | J9: 6033.74
A10: 47589 | B10: Т-брокер | C10: SU26254RMFS1 | D10: ОФЗ 26254 | E10: 1000 | F10: 107 | G10: 64.82 | H10: 902 | I10: 6935.74 | J10: 6033.74
A11: 47771 | B11: Т-брокер | C11: SU26254RMFS1 | D11: ОФЗ 26254 | E11: 1000 | F11: 107 | G11: 64.82 | H11: 902 | I11: 6935.74 | J11: 6033.74
A12: 47953 | B12: Т-брокер | C12: SU26254RMFS1 | D12: ОФЗ 26254 | E12: 1000 | F12: 107 | G12: 64.82 | H12: 902 | I12: 6935.74 | J12: 6033.74
A13: 48135 | B13: Т-брокер | C13: SU26254RMFS1 | D13: ОФЗ 26254 | E13: 1000 | F13: 107 | G13: 64.82 | H13: 902 | I13: 6935.74 | J13: 6033.74
A14: 48317 | B14: Т-брокер | C14: SU26254RMFS1 | D14: ОФЗ 26254 | E14: 1000 | F14: 107 | G14: 64.82 | H14: 902 | I14: 6935.74 | J14: 6033.74
... A31: 51411 | B31: Т-брокер | C31: SU26254RMFS1 | D31: ОФЗ 26254 | E31: 1000 | F31: 107 | G31: 64.82 | H31: 902 | I31: 6935.74 | J31: 6033.74

Sheet Возраст
A1: Дата | B1: Портфель | C1: Тикер | D1: Название | E1: Кол. | F1: Y | G1: m | H1: d | I1: Всего дней | J1: Цена покупки с НКД и комиссией | K1: Цена сейчас с НКД | L1: Сумма при продаже | M1: Прибыль | N1: Налог при продаже | O1: Сегодня
A2: 45709 | B2: Т-брокер | C2: VTBR | D2: ВТБ ао | E2: 16 | F2: ==DATEDIF(A2,$O$2,"y") | G2: ==DATEDIF(A2,$O$2,"ym") | H2: ==DATEDIF(A2,$O$2,"md") | I2: 597 | J2: 91.323125 | K2: ==Портфель!F2*Портфель!$Q$13 | L2: ==E2*K2 | M2: ==(K2-J2)*E2 | N2: ==MAX(0,M2*0.13) | O2: ==TODAY()
A3: 45882 | B3: Т-брокер | C3: VTBR | D3: ВТБ ао | E3: 4 | F3: ==DATEDIF(A3,$O$2,"y") | G3: ==DATEDIF(A3,$O$2,"ym") | H3: ==DATEDIF(A3,$O$2,"md") | I3: 424 | J3: 79.5825 | K3: ==Портфель!F2*Портфель!$Q$13 | L3: ==E3*K3 | M3: ==(K3-J3)*E3 | N3: ==MAX(0,M3*0.13)
A4: 45938 | B4: Т-брокер | C4: VTBR | D4: ВТБ ао | E4: 31 | F4: ==DATEDIF(A4,$O$2,"y") | G4: ==DATEDIF(A4,$O$2,"ym") | H4: ==DATEDIF(A4,$O$2,"md") | I4: 368 | J4: 65.937097 | K4: ==Портфель!F2*Портфель!$Q$13 | L4: ==E4*K4 | M4: ==(K4-J4)*E4 | N4: ==MAX(0,M4*0.13)
A5: 45278 | B5: Т-брокер | C5: VKCO | D5: МКПАО "ВК" | E5: 1 | F5: ==DATEDIF(A5,$O$2,"y") | G5: ==DATEDIF(A5,$O$2,"ym") | H5: ==DATEDIF(A5,$O$2,"md") | I5: 1028 | J5: 578.93 | K5: ==Портфель!F3*Портфель!$Q$13 | L5: ==E5*K5 | M5: ==(K5-J5)*E5 | N5: ==MAX(0,M5*0.13)
A6: 45456 | B6: Т-брокер | C6: VKCO | D6: МКПАО "ВК" | E6: 2 | F6: ==DATEDIF(A6,$O$2,"y") | G6: ==DATEDIF(A6,$O$2,"ym") | H6: ==DATEDIF(A6,$O$2,"md") | I6: 850 | J6: 549.04 | K6: ==Портфель!F3*Портфель!$Q$13 | L6: ==E6*K6 | M6: ==(K6-J6)*E6 | N6: ==MAX(0,M6*0.13)
A7: 45478 | B7: Т-брокер | C7: VKCO | D7: МКПАО "ВК" | E7: 5 | F7: ==DATEDIF(A7,$O$2,"y") | G7: ==DATEDIF(A7,$O$2,"ym") | H7: ==DATEDIF(A7,$O$2,"md") | I7: 828 | J7: 488.462 | K7: ==Портфель!F3*Портфель!$Q$13 | L7: ==E7*K7 | M7: ==(K7-J7)*E7 | N7: ==MAX(0,M7*0.13)
A8: 45482 | B8: Т-брокер | C8: VKCO | D8: МКПАО "ВК" | E8: 2 | F8: ==DATEDIF(A8,$O$2,"y") | G8: ==DATEDIF(A8,$O$2,"ym") | H8: ==DATEDIF(A8,$O$2,"md") | I8: 824 | J8: 470.61 | K8: ==Портфель!F3*Портфель!$Q$13 | L8: ==E8*K8 | M8: ==(K8-J8)*E8 | N8: ==MAX(0,M8*0.13)
A9: 45526 | B9: Т-брокер | C9: VKCO | D9: МКПАО "ВК" | E9: 4 | F9: ==DATEDIF(A9,$O$2,"y") | G9: ==DATEDIF(A9,$O$2,"ym") | H9: ==DATEDIF(A9,$O$2,"md") | I9: 780 | J9: 380.1375 | K9: ==Портфель!F3*Портфель!$Q$13 | L9: ==E9*K9 | M9: ==(K9-J9)*E9 | N9: ==MAX(0,M9*0.13)
A10: 44720 | B10: Т-брокер | C10: TGLD | D10: TGLD ETF | E10: 300 | F10: ==DATEDIF(A10,$O$2,"y") | G10: ==DATEDIF(A10,$O$2,"ym") | H10: ==DATEDIF(A10,$O$2,"md") | I10: 1586 | J10: 4.4315375 | K10: ==Портфель!F5*Портфель!$Q$13 | L10: ==E10*K10 | M10: ==(K10-J10)*E10 | N10: ==MAX(0,M10*0.13)
A11: 45310 | B11: Т-брокер | C11: TGLD | D11: TGLD ETF | E11: 140 | F11: ==DATEDIF(A11,$O$2,"y") | G11: ==DATEDIF(A11,$O$2,"ym") | H11: ==DATEDIF(A11,$O$2,"md") | I11: 996 | J11: 7.4 | K11: ==Портфель!F5*Портфель!$Q$13 | L11: ==E11*K11 | M11: ==(K11-J11)*E11 | N11: ==MAX(0,M11*0.13)
A12: 45320 | B12: Т-брокер | C12: TGLD | D12: TGLD ETF | E12: 174 | F12: ==DATEDIF(A12,$O$2,"y") | G12: ==DATEDIF(A12,$O$2,"ym") | H12: ==DATEDIF(A12,$O$2,"md") | I12: 986 | J12: 7.46 | K12: ==Портфель!F5*Портфель!$Q$13 | L12: ==E12*K12 | M12: ==(K12-J12)*E12 | N12: ==MAX(0,M12*0.13)
A13: 45330 | B13: Т-брокер | C13: TGLD | D13: TGLD ETF | E13: 134 | F13: ==DATEDIF(A13,$O$2,"y") | G13: ==DATEDIF(A13,$O$2,"ym") | H13: ==DATEDIF(A13,$O$2,"md") | I13: 976 | J13: 7.51 | K13: ==Портфель!F5*Портфель!$Q$13 | L13: ==E13*K13 | M13: ==(K13-J13)*E13 | N13: ==MAX(0,M13*0.13)
A14: 44890 | B14: Т-брокер | C14: TMOS | D14: TMOS ETF | E14: 250 | F14: ==DATEDIF(A14,$O$2,"y") | G14: ==DATEDIF(A14,$O$2,"ym") | H14: ==DATEDIF(A14,$O$2,"md") | I14: 1416 | J14: 4.078 | K14: ==Портфель!F6*Портфель!$Q$13 | L14: ==E14*K14 | M14: ==(K14-J14)*E14 | N14: ==MAX(0,M14*0.13)
A15: 44972 | B15: Т-брокер | C15: TMOS | D15: TMOS ETF | E15: 59 | F15: ==DATEDIF(A15,$O$2,"y") | G15: ==DATEDIF(A15,$O$2,"ym") | H15: ==DATEDIF(A15,$O$2,"md") | I15: 1334 | J15: 4.2240678 | K15: ==Портфель!F6*Портфель!$Q$13 | L15: ==E15*K15 | M15: ==(K15-J15)*E15 | N15: ==MAX(0,M15*0.13)
A16: 45142 | B16: Т-брокер | C16: TMOS | D16: TMOS ETF | E16: 27 | F16: ==DATEDIF(A16,$O$2,"y") | G16: ==DATEDIF(A16,$O$2,"ym") | H16: ==DATEDIF(A16,$O$2,"md") | I16: 1164 | J16: 6.29 | K16: ==Портфель!F6*Портфель!$Q$13 | L16: ==E16*K16 | M16: ==(K16-J16)*E16 | N16: ==MAX(0,M16*0.13)
A17: 45216 | B17: Т-брокер | C17: TMOS | D17: TMOS ETF | E17: 100 | F17: ==DATEDIF(A17,$O$2,"y") | G17: ==DATEDIF(A17,$O$2,"ym") | H17: ==DATEDIF(A17,$O$2,"md") | I17: 1090 | J17: 6.45 | K17: ==Портфель!F6*Портфель!$Q$13 | L17: ==E17*K17 | M17: ==(K17-J17)*E17 | N17: ==MAX(0,M17*0.13)
A18: 45224 | B18: Т-брокер | C18: TMOS | D18: TMOS ETF | E18: 2 | F18: ==DATEDIF(A18,$O$2,"y") | G18: ==DATEDIF(A18,$O$2,"ym") | H18: ==DATEDIF(A18,$O$2,"md") | I18: 1082 | J18: 6.5 | K18: ==Портфель!F6*Портфель!$Q$13 | L18: ==E18*K18 | M18: ==(K18-J18)*E18 | N18: ==MAX(0,M18*0.13)
A19: 45953 | B19: Т-брокер | C19: TMOS | D19: TMOS ETF | E19: 10 | F19: ==DATEDIF(A19,$O$2,"y") | G19: ==DATEDIF(A19,$O$2,"ym") | H19: ==DATEDIF(A19,$O$2,"md") | I19: 353 | J19: 5.97 | K19: ==Портфель!F6*Портфель!$Q$13 | L19: ==E19*K19 | M19: ==(K19-J19)*E19 | N19: ==MAX(0,M19*0.13)
A20: 46219 | B20: Т-брокер | C20: TMOS | D20: TMOS ETF | E20: 124 | F20: ==DATEDIF(A20,$O$2,"y") | G20: ==DATEDIF(A20,$O$2,"ym") | H20: ==DATEDIF(A20,$O$2,"md") | I20: 87 | J20: 4.87 | K20: ==Портфель!F6*Портфель!$Q$13 | L20: ==E20*K20 | M20: ==(K20-J20)*E20 | N20: ==MAX(0,M20*0.13)
A21: 44187 | B21: Т-брокер | C21: TBIO | D21: TBIO ETF | E21: 30 | F21: ==DATEDIF(A21,$O$2,"y") | G21: ==DATEDIF(A21,$O$2,"ym") | H21: ==DATEDIF(A21,$O$2,"md") | I21: 2119 | J21: 7.4589131 | K21: ==Портфель!F7*Портфель!$Q$17 | L21: ==E21*K21 | M21: ==(K21-J21)*E21 | N21: ==MAX(0,M21*0.13)
A22: 46190 | B22: Т-брокер | C22: SU26254RMFS1 | D22: ОФЗ 26254 | E22: 53 | F22: ==DATEDIF(A22,$O$2,"y") | G22: ==DATEDIF(A22,$O$2,"ym") | H22: ==DATEDIF(A22,$O$2,"md") | I22: 116 | J22: 935.46585 | K22: ==Портфель!F9*Портфель!G9/100*Портфель!$Q$13+Портфель!H9*Портфель!$Q$13 | L22: ==E22*K22 | M22: ==(K22-J22)*E22 | N22: ==MAX(0,M22*0.13)
A23: 46192 | B23: Т-брокер | C23: SU26254RMFS1 | D23: ОФЗ 26254 | E23: 54 | F23: ==DATEDIF(A23,$O$2,"y") | G23: ==DATEDIF(A23,$O$2,"ym") | H23: ==DATEDIF(A23,$O$2,"md") | I23: 114 | J23: 922.64019 | K23: ==Портфель!F9*Портфель!G9/100*Портфель!$Q$13+Портфель!H9*Портфель!$Q$13 | L23: ==E23*K23 | M23: ==(K23-J23)*E23 | N23: ==MAX(0,M23*0.13)
K24: Сумма: | L24: ==SUBTOTAL(109,L2:L23) | M24: ==SUBTOTAL(109,M2:M23) | N24: ==MAX(0,M24*0.13)

Sheet FIFO
A1: Тикер | B1: Название | C1: Покупка | D1: Продажа | E1: Цена покупки | F1: Цена продажи | G1: Кол. | H1: Результат | I1: Доходность сделки | J1: Срок | K1: Доходность годовых
A2: USD000UTSTOM | B2: USDRUB_TOM | C2: 44158 | D2: 44368 | E2: 75.8869 | F2: 72.8308 | G2: 13 | H2: ==(F2-E2)*G2 | I2: ==(F2-E2)/E2 | J2: ==MAX(1,DATEDIF(C2,D2,"d")-1) | K2: ==I2*365/J2
A3: USD000UTSTOM | B3: USDRUB_TOM | C3: 44158 | D3: 44511 | E3: 75.8869 | F3: 70.8222 | G3: 3 | H3: ==(F3-E3)*G3 | I3: ==(F3-E3)/E3 | J3: ==MAX(1,DATEDIF(C3,D3,"d")-1) | K3: ==I3*365/J3
A4: USD000UTSTOM | B4: USDRUB_TOM | C4: 44160 | D4: 44511 | E4: 75.84 | F4: 70.8222 | G4: 2 | H4: ==(F4-E4)*G4 | I4: ==(F4-E4)/E4 | J4: ==MAX(1,DATEDIF(C4,D4,"d")-1) | K4: ==I4*365/J4
A5: USD000UTSTOM | B5: USDRUB_TOM | C5: 44166 | D5: 44511 | E5: 75.8742 | F5: 70.8222 | G5: 12 | H5: ==(F5-E5)*G5 | I5: ==(F5-E5)/E5 | J5: ==MAX(1,DATEDIF(C5,D5,"d")-1) | K5: ==I5*365/J5
A6: USD000UTSTOM | B6: USDRUB_TOM | C6: 44181 | D6: 44511 | E6: 73.65 | F6: 70.8222 | G6: 1 | H6: ==(F6-E6)*G6 | I6: ==(F6-E6)/E6 | J6: ==MAX(1,DATEDIF(C6,D6,"d")-1) | K6: ==I6*365/J6
A7: USD000UTSTOM | B7: USDRUB_TOM | C7: 44193 | D7: 44511 | E7: 73.9763 | F7: 70.8222 | G7: 5 | H7: ==(F7-E7)*G7 | I7: ==(F7-E7)/E7 | J7: ==MAX(1,DATEDIF(C7,D7,"d")-1) | K7: ==I7*365/J7
A8: USD000UTSTOM | B8: USDRUB_TOM | C8: 44193 | D8: 44557 | E8: 73.9763 | F8: 73.3544 | G8: 117 | H8: ==(F8-E8)*G8 | I8: ==(F8-E8)/E8 | J8: ==MAX(1,DATEDIF(C8,D8,"d")-1) | K8: ==I8*365/J8
A9: USD000UTSTOM | B9: USDRUB_TOM | C9: 44193 | D9: 44557 | E9: 73.9763 | F9: 73.2793 | G9: 14 | H9: ==(F9-E9)*G9 | I9: ==(F9-E9)/E9 | J9: ==MAX(1,DATEDIF(C9,D9,"d")-1) | K9: ==I9*365/J9
A10: USD000UTSTOM | B10: USDRUB_TOM | C10: 44193 | D10: 44560 | E10: 73.9763 | F10: 74.531 | G10: 10 | H10: ==(F10-E10)*G10 | I10: ==(F10-E10)/E10 | J10: ==MAX(1,DATEDIF(C10,D10,"d")-1) | K10: ==I10*365/J10
A11: CNK | B11: Cinemark Holdings Inc Cinemark Holdings, Inc. Common Stock | C11: 44160 | D11: 44370 | E11: 1348.7417 | F11: 1619.1658 | G11: 1 | H11: ==(F11-E11)*G11 | I11: ==(F11-E11)/E11 | J11: ==MAX(1,DATEDIF(C11,D11,"d")-1) | K11: ==I11*365/J11
A12: FXCN | B12: FXCN ETF | C12: 44160 | D12: 44554 | E12: 4150.41 | F12: 2844.44 | G12: 1 | H12: ==(F12-E12)*G12 | I12: ==(F12-E12)/E12 | J12: ==MAX(1,DATEDIF(C12,D12,"d")-1) | K12: ==I12*365/J12
A13: RSHE | B13: RSHE ETF | C13: 44167 | D13: 44557 | E13: 91.4317 | F13: 89.8889 | G13: 10 | H13: ==(F13-E13)*G13 | I13: ==(F13-E13)/E13 | J13: ==MAX(1,DATEDIF(C13,D13,"d")-1) | K13: ==I13*365/J13
... A28: IVAT | B28: iИВА | C28: 45450 | D28: 45938 | E28: 299.6967 | F28: 159.0215 | G28: 9 | H28: ==(F28-E28)*G28 | I28: ==(F28-E28)/E28 | J28: ==MAX(1,DATEDIF(C28,D28,"d")-1) | K28: ==I28*365/J28
